PDS_VERSION_ID = PDS3
/* FILE DATA ELEMENTS */
RECORD_TYPE = UNDEFINED
/* POINTERS TO DATA OBJECTS */
^IMAGE = ("H6502_0000_RE4.TIF")
/* IDENTIFICATION DATA ELEMENTS */
DATA_SET_ID = "MEX-M-HRSC-4-REFDR-MAPPROJECT-EXT2-V4.0"
DATA_SET_NAME = "MARS EXPRESS HRSC MAP PROJECTED REFDR EXTENSION2 V4.0"
DETECTOR_ID = MEX_HRSC_RED
EVENT_TYPE = "MARS-REGIONAL-MAPPING-Im-Fl-Pf"
INSTRUMENT_HOST_ID = MEX
INSTRUMENT_HOST_NAME = "MARS EXPRESS"
INSTRUMENT_ID = HRSC
INSTRUMENT_NAME = "HIGH RESOLUTION STEREO CAMERA"
MISSION_NAME = "MARS EXPRESS"
MISSION_PHASE_NAME = ME_Phase_15
PROCESSING_LEVEL_ID = 4
PRODUCT_CREATION_TIME = 2023-02-05T03:41:04.000Z
PRODUCT_ID = "H6502_0000_RE4.TIF"
RELEASE_ID = 0006
REVISION_ID = 0000
/* QUALITY DATA ELEMENTS */
DATA_QUALITY_ID = 1
DATA_QUALITY_DESC = "Data calculated based on original SPICE kernels"
/* TIME DATA ELEMENTS */
SPACECRAFT_CLOCK_START_COUNT = "1/0180914450.09045"
SPACECRAFT_CLOCK_STOP_COUNT = "1/0180914725.23382"
START_TIME = 2009-01-24T22:00:57.576Z
STOP_TIME = 2009-01-24T22:04:06.121Z
/* ORBITAL DATA ELEMENTS */
ASCENDING_NODE_LONGITUDE = 93.83
MAXIMUM_RESOLUTION = 0.1119
FOOTPRINT_POINT_LATITUDE = (-50.1799,-50.1685,-50.1563,-50.1418, -50.1412,-50.0777,-49.6409,-49.417, -49.1914,-48.9656,-48.7407,-48.5148, -48.0697,-47.8437,-47.6164,-47.3915, -47.1661,-46.9382,-46.4907,-46.2654, -45.9275,-45.703,-45.4788,-45.0343, -44.809,-44.5844,-44.3328,-44.068, -43.7976,-43.3918,-43.1257,-42.8609, -42.4612,-42.061,-41.6608,-41.3939, -41.128,-40.729,-40.4627,-40.1974, -39.8016,-39.5396,-39.2715,-38.9966, -38.7191,-38.4475,-38.1711,-37.8935, -37.7551,-37.6213,-37.6269,-37.6329, -37.6403,-37.6367,-37.6366,-37.6387, -38.1919,-38.4689,-38.7397,-39.1459, -39.4178,-39.6815,-40.0817,-40.3481, -40.6175,-40.885,-41.2826,-41.5471, -41.9497,-42.2165,-42.4828,-42.7496, -43.0197,-43.2869,-43.6872,-43.956, -44.2246,-44.4934,-44.7225,-45.1687, -45.3958,-45.7325,-45.9568,-46.2982, -46.5268,-46.7498,-46.9761,-47.2018, -47.4259,-47.6517,-47.9859,-48.2126, -48.4448,-48.6679,-48.896,-49.2369, -49.4643,-49.9064,-50.0154,-50.1799)
FOOTPRINT_POINT_LONGITUDE = (44.3692,43.6741,43.1485,42.6415, 42.6252,42.6015,42.6329,42.6484,42.6637 ,42.6786,42.6934,42.7076,42.7367, 42.7499,42.7624,42.7752,42.7875,42.7989 ,42.8229,42.834,42.8502,42.8608,42.8712 ,42.8921,42.9013,42.9104,42.9204, 42.9315,42.9406,42.9535,42.9629,42.9722 ,42.9849,42.9965,43.0074,43.0142, 43.0208,43.0302,43.0359,43.0416,43.0501 ,43.0558,43.061,43.0646,43.0672,43.071, 43.0747,43.0783,43.0801,43.0818,43.4468 ,43.7798,44.2711,44.9262,44.944,44.9557 ,44.9413,44.9328,44.925,44.9132,44.9047 ,44.8978,44.8834,44.874,44.8628,44.8526 ,44.8395,44.8312,44.8148,44.8049, 44.7952,44.7851,44.7727,44.7622,44.7467 ,44.7349,44.7231,44.7111,44.7013, 44.6837,44.672,44.6571,44.6471,44.6285, 44.6151,44.6058,44.5939,44.5824,44.5719 ,44.5601,44.5456,44.5327,44.5154, 44.5051,44.4907,44.4698,44.4556,44.4298 ,44.4235,44.3692)
ORBIT_NUMBER = 6502
ORBITAL_ECCENTRICITY = 0.576
ORBITAL_INCLINATION = 86.76
ORBITAL_SEMIMAJOR_AXIS = 8695.65
PERIAPSIS_ALTITUDE = 305.48
PERIAPSIS_ARGUMENT_ANGLE = 295.48
PERIAPSIS_TIME = 2009-01-24T21:57:46.000Z
SPACECRAFT_ORIENTATION = (0.0,1.0,0.0)
^MEX_ORIENTATION_DESC = "MEX_ORIENTATION_DESC.TXT"
SPACECRAFT_POINTING_MODE = ACROSSTRACK
^MEX_POINTING_DESC = "MEX_POINTING_DESC.TXT"
RIGHT_ASCENSION = -1e+32
DECLINATION = -1e+32
OFFSET_ANGLE = -0.2
SPACECRAFT_SOLAR_DISTANCE = 2.14085e+08
TARGET_NAME = MARS
/* CAMERA DATA ELEMENTS */
DETECTOR_TEMPERATURE = 18.5744
FOCAL_PLANE_TEMPERATURE = 8.3794
INST_CMPRS_NAME = "DISCRETE COSINE TRANSFORMATION (DCT)"
INST_CMPRS_RATIO = 21.7037
INST_CMPRS_QUALITY = 0
INST_CMPRS_QUANTZ_TBL_ID = 0
INSTRUMENT_TEMPERATURE = 11.4379
LENS_TEMPERATURE = 8.7872
MACROPIXEL_SIZE = 8
MISSING_FRAMES = 0
PIXEL_SUBSAMPLING_FLAG = N
SIGNAL_CHAIN_ID = 2
/* RADIOMETRIC DATA ELEMENTS */
BANDWIDTH = 48.0
CENTER_FILTER_WAVELENGTH = 748.0
RADIANCE_OFFSET = 1.08859
RADIANCE_SCALING_FACTOR = 0.00419275
REFLECTANCE_SCALING_FACTOR = 0.000438525
MEX:REFLECTANCE_OFFSET = 0.113857
/* IMAGE OBJECT DEFINITIONS */
OBJECT = IMAGE
  INTERCHANGE_FORMAT = BINARY
  LINES = 7412
  LINE_SAMPLES = 1016
  SAMPLE_TYPE = UNSIGNED_INTEGER
  SAMPLE_BITS = 8
  BANDS = 1
  BAND_STORAGE_TYPE = BAND_SEQUENTIAL
  MAXIMUM = 255
  MEAN = 119.951
  MINIMUM = 1
  STANDARD_DEVIATION = 34.1479
END_OBJECT = IMAGE
/* MAP OBJECT DEFINITIONS */
OBJECT = IMAGE_MAP_PROJECTION
  ^DATA_SET_MAP_PROJECTION_CATALOG= "DSMAP.CAT"
  A_AXIS_RADIUS = 3396.0
  B_AXIS_RADIUS = 3396.0
  C_AXIS_RADIUS = 3396.0
  CENTER_LATITUDE = 0.0
  CENTER_LONGITUDE = 44.0
  COORDINATE_SYSTEM_NAME = PLANETOGRAPHIC
  COORDINATE_SYSTEM_TYPE = "BODY-FIXED ROTATING"
  EASTERNMOST_LONGITUDE = 44.9557
  FIRST_STANDARD_PARALLEL = "N/A"
  LINE_FIRST_PIXEL = 1
  LINE_LAST_PIXEL = 7412
  LINE_PROJECTION_OFFSET = -22294.6875
  MAP_PROJECTION_ROTATION = 0.0
  MAP_PROJECTION_TYPE = SINUSOIDAL
  MAP_RESOLUTION = 592.713803866667
  MAP_SCALE = 0.1
  MAXIMUM_LATITUDE = -37.6213
  MINIMUM_LATITUDE = -50.1799
  POSITIVE_LONGITUDE_DIRECTION = EAST
  REFERENCE_LATITUDE = "N/A"
  REFERENCE_LONGITUDE = "N/A"
  SAMPLE_FIRST_PIXEL = 1
  SAMPLE_LAST_PIXEL = 1016
  SAMPLE_PROJECTION_OFFSET = 546.9375
  SECOND_STANDARD_PARALLEL = "N/A"
  WESTERNMOST_LONGITUDE = 42.6015
END_OBJECT = IMAGE_MAP_PROJECTION
END
