PDS_VERSION_ID = PDS3
/* FILE DATA ELEMENTS */
RECORD_TYPE = UNDEFINED
/* POINTERS TO DATA OBJECTS */
^IMAGE = ("H6511_0000_BL4.TIF")
/* IDENTIFICATION DATA ELEMENTS */
DATA_SET_ID = "MEX-M-HRSC-4-REFDR-MAPPROJECT-EXT2-V4.0"
DATA_SET_NAME = "MARS EXPRESS HRSC MAP PROJECTED REFDR EXTENSION2 V4.0"
DETECTOR_ID = MEX_HRSC_BLUE
EVENT_TYPE = "MARS-REGIONAL-MAPPING-Te-Im-Fl"
INSTRUMENT_HOST_ID = MEX
INSTRUMENT_HOST_NAME = "MARS EXPRESS"
INSTRUMENT_ID = HRSC
INSTRUMENT_NAME = "HIGH RESOLUTION STEREO CAMERA"
MISSION_NAME = "MARS EXPRESS"
MISSION_PHASE_NAME = ME_Phase_15
PROCESSING_LEVEL_ID = 4
PRODUCT_CREATION_TIME = 2023-02-05T03:41:04.000Z
PRODUCT_ID = "H6511_0000_BL4.TIF"
RELEASE_ID = 0006
REVISION_ID = 0000
/* QUALITY DATA ELEMENTS */
DATA_QUALITY_ID = 1
DATA_QUALITY_DESC = "Data calculated based on original SPICE kernels"
/* TIME DATA ELEMENTS */
SPACECRAFT_CLOCK_START_COUNT = "1/0181137750.09028"
SPACECRAFT_CLOCK_STOP_COUNT = "1/0181138115.00189"
START_TIME = 2009-01-27T12:02:55.711Z
STOP_TIME = 2009-01-27T12:07:40.202Z
/* ORBITAL DATA ELEMENTS */
ASCENDING_NODE_LONGITUDE = 93.65
MAXIMUM_RESOLUTION = 0.0508
FOOTPRINT_POINT_LATITUDE = (-56.556,-56.5127,-56.4711,-56.4701, -56.4537,-56.0321,-55.3295,-54.9076, -54.3409,-54.0511,-53.7621,-53.4719, -53.1823,-52.8925,-52.4594,-52.016, -51.7177,-51.4199,-51.1224,-50.676, -50.2289,-49.7851,-49.4887,-49.1926, -48.8968,-48.4533,-48.1581,-47.8626, -47.569,-47.0814,-46.7309,-46.3803, -46.0298,-45.68,-45.3306,-44.9817, -44.6336,-44.112,-43.7651,-43.4187, -43.0729,-42.3794,-40.05,-39.6543, -39.0581,-38.4906,-38.2988,-38.2169, -38.228,-38.2394,-38.2471,-38.2607, -38.261,-38.2621,-38.8353,-39.2116, -39.5882,-39.9599,-42.3577,-42.7083, -43.0543,-43.4009,-43.7479,-44.0954, -44.4435,-44.7921,-45.1413,-45.4911, -45.8413,-46.1911,-46.5432,-46.8939, -47.2464,-47.5713,-47.8667,-48.3108, -48.607,-48.903,-49.1994,-49.4963, -49.7932,-50.0902,-50.3876,-50.6854, -50.9835,-51.4305,-51.7297,-52.1778, -52.4742,-52.7642,-53.0548,-53.4906, -53.781,-54.0719,-54.3614,-54.9335, -55.4966,-56.3415,-56.4824,-56.556)
FOOTPRINT_POINT_LONGITUDE = (215.532,214.479,213.631,213.613, 213.554,213.618,213.718,213.774,213.851 ,213.889,213.927,213.96,213.994,214.026 ,214.076,214.123,214.154,214.184, 214.214,214.257,214.293,214.337,214.362 ,214.387,214.411,214.445,214.468, 214.488,214.512,214.545,214.569,214.591 ,214.61,214.629,214.648,214.666,214.684 ,214.708,214.725,214.74,214.755,214.783 ,214.86,214.873,214.886,214.894,214.898 ,214.899,215.275,215.742,216.134, 216.875,216.894,216.9,216.875,216.859, 216.842,216.825,216.708,216.689,216.671 ,216.652,216.633,216.613,216.593, 216.572,216.55,216.529,216.506,216.485, 216.46,216.437,216.412,216.39,216.369, 216.336,216.314,216.292,216.27,216.247, 216.223,216.2,216.176,216.151,216.126, 216.087,216.06,216.019,215.992,215.964, 215.935,215.891,215.862,215.831,215.802 ,215.738,215.675,215.575,215.558, 215.532)
ORBIT_NUMBER = 6511
ORBITAL_ECCENTRICITY = 0.576
ORBITAL_INCLINATION = 86.77
ORBITAL_SEMIMAJOR_AXIS = 8690.46
PERIAPSIS_ALTITUDE = 304.83
PERIAPSIS_ARGUMENT_ANGLE = 293.93
PERIAPSIS_TIME = 2009-01-27T12:00:39.000Z
SPACECRAFT_ORIENTATION = (0.0,1.0,0.0)
^MEX_ORIENTATION_DESC = "MEX_ORIENTATION_DESC.TXT"
SPACECRAFT_POINTING_MODE = ACROSSTRACK
^MEX_POINTING_DESC = "MEX_POINTING_DESC.TXT"
RIGHT_ASCENSION = -1e+32
DECLINATION = -1e+32
OFFSET_ANGLE = 0.3
SPACECRAFT_SOLAR_DISTANCE = 2.13681e+08
TARGET_NAME = MARS
/* CAMERA DATA ELEMENTS */
DETECTOR_TEMPERATURE = 17.9627
FOCAL_PLANE_TEMPERATURE = 8.3794
INST_CMPRS_NAME = "DISCRETE COSINE TRANSFORMATION (DCT)"
INST_CMPRS_RATIO = 7.48434
INST_CMPRS_QUALITY = 0
INST_CMPRS_QUANTZ_TBL_ID = 0
INSTRUMENT_TEMPERATURE = 11.0301
LENS_TEMPERATURE = 8.7872
MACROPIXEL_SIZE = 4
MISSING_FRAMES = 288
PIXEL_SUBSAMPLING_FLAG = N
SIGNAL_CHAIN_ID = 2
/* RADIOMETRIC DATA ELEMENTS */
BANDWIDTH = 76.0
CENTER_FILTER_WAVELENGTH = 444.0
RADIANCE_OFFSET = 0.610542
RADIANCE_SCALING_FACTOR = 0.00242031
REFLECTANCE_SCALING_FACTOR = 0.000113543
MEX:REFLECTANCE_OFFSET = 0.0286421
/* IMAGE OBJECT DEFINITIONS */
OBJECT = IMAGE
  INTERCHANGE_FORMAT = BINARY
  LINES = 21718
  LINE_SAMPLES = 2739
  SAMPLE_TYPE = UNSIGNED_INTEGER
  SAMPLE_BITS = 8
  BANDS = 1
  BAND_STORAGE_TYPE = BAND_SEQUENTIAL
  MAXIMUM = 255
  MEAN = 107.824
  MINIMUM = 1
  STANDARD_DEVIATION = 17.8768
END_OBJECT = IMAGE
/* MAP OBJECT DEFINITIONS */
OBJECT = IMAGE_MAP_PROJECTION
  ^DATA_SET_MAP_PROJECTION_CATALOG= "DSMAP.CAT"
  A_AXIS_RADIUS = 3396.0
  B_AXIS_RADIUS = 3396.0
  C_AXIS_RADIUS = 3396.0
  CENTER_LATITUDE = 0.0
  CENTER_LONGITUDE = 215.0
  COORDINATE_SYSTEM_NAME = PLANETOGRAPHIC
  COORDINATE_SYSTEM_TYPE = "BODY-FIXED ROTATING"
  EASTERNMOST_LONGITUDE = 216.9
  FIRST_STANDARD_PARALLEL = "N/A"
  LINE_FIRST_PIXEL = 1
  LINE_LAST_PIXEL = 21718
  LINE_PROJECTION_OFFSET = -45301.875
  MAP_PROJECTION_ROTATION = 0.0
  MAP_PROJECTION_TYPE = SINUSOIDAL
  MAP_RESOLUTION = 1185.42760773333
  MAP_SCALE = 0.05
  MAXIMUM_LATITUDE = -38.2169
  MINIMUM_LATITUDE = -56.556
  POSITIVE_LONGITUDE_DIRECTION = EAST
  REFERENCE_LATITUDE = "N/A"
  REFERENCE_LONGITUDE = "N/A"
  SAMPLE_FIRST_PIXEL = 1
  SAMPLE_LAST_PIXEL = 2739
  SAMPLE_PROJECTION_OFFSET = 958.375
  SECOND_STANDARD_PARALLEL = "N/A"
  WESTERNMOST_LONGITUDE = 213.554
END_OBJECT = IMAGE_MAP_PROJECTION
END
