PDS_VERSION_ID = PDS3
/* FILE DATA ELEMENTS */
RECORD_TYPE = UNDEFINED
/* POINTERS TO DATA OBJECTS */
^IMAGE = ("H6523_0000_BL4.TIF")
/* IDENTIFICATION DATA ELEMENTS */
DATA_SET_ID = "MEX-M-HRSC-4-REFDR-MAPPROJECT-EXT2-V4.0"
DATA_SET_NAME = "MARS EXPRESS HRSC MAP PROJECTED REFDR EXTENSION2 V4.0"
DETECTOR_ID = MEX_HRSC_BLUE
EVENT_TYPE = "MARS-REGIONAL-MAPPING-Vo-Im-Fl"
INSTRUMENT_HOST_ID = MEX
INSTRUMENT_HOST_NAME = "MARS EXPRESS"
INSTRUMENT_ID = HRSC
INSTRUMENT_NAME = "HIGH RESOLUTION STEREO CAMERA"
MISSION_NAME = "MARS EXPRESS"
MISSION_PHASE_NAME = ME_Phase_15
PROCESSING_LEVEL_ID = 4
PRODUCT_CREATION_TIME = 2023-02-05T03:41:04.000Z
PRODUCT_ID = "H6523_0000_BL4.TIF"
RELEASE_ID = 0006
REVISION_ID = 0000
/* QUALITY DATA ELEMENTS */
DATA_QUALITY_ID = 1
DATA_QUALITY_DESC = "Data calculated based on original SPICE kernels"
/* TIME DATA ELEMENTS */
SPACECRAFT_CLOCK_START_COUNT = "1/0181435860.08257"
SPACECRAFT_CLOCK_STOP_COUNT = "1/0181436384.02262"
START_TIME = 2009-01-30T22:51:36.293Z
STOP_TIME = 2009-01-30T22:57:37.324Z
/* ORBITAL DATA ELEMENTS */
ASCENDING_NODE_LONGITUDE = 93.41
MAXIMUM_RESOLUTION = 0.0731
FOOTPRINT_POINT_LATITUDE = (-40.3883,-40.3814,-40.3691,-40.3518, -40.3513,-40.3339,-39.4919,-38.9813, -38.2875,-37.7598,-37.0481,-36.3234, -35.5884,-35.2173,-34.8409,-34.27, -33.8869,-33.4981,-32.9097,-32.3138, -31.913,-31.5063,-31.0959,-30.6825, -30.2645,-29.8421,-29.4164,-28.9866, -28.5522,-28.1122,-27.668,-27.2193, -26.7666,-26.3102,-25.8465,-25.3787, -24.9059,-24.1865,-23.7058,-23.2272, -22.7514,-22.2772,-21.5683,-21.0995, -20.6322,-19.9375,-19.7065,-19.6055, -19.6024,-19.5965,-19.5889,-19.5806, -19.5685,-19.5679,-19.5692,-20.0338, -20.5007,-20.9694,-21.4404,-21.9136, -22.3886,-22.8661,-23.3449,-23.8265, -24.3096,-25.0301,-25.5035,-25.9724, -26.4366,-26.8919,-27.3451,-27.7962, -28.24,-28.6795,-29.1151,-29.5458, -29.9713,-30.3932,-30.8125,-31.2261, -31.6358,-32.0426,-32.4446,-32.8425, -33.2388,-33.6291,-34.2094,-34.5928, -34.9713,-35.348,-35.7207,-36.0901, -36.4568,-37.0004,-37.893,-38.5938, -39.4552,-40.1326,-40.3002,-40.3883)
FOOTPRINT_POINT_LONGITUDE = (87.2805,86.6956,85.998,85.2814,85.2626 ,85.2264,85.2414,85.2496,85.259,85.2646 ,85.2718,85.2743,85.2788,85.2794, 85.2815,85.2792,85.2781,85.2768,85.2724 ,85.2676,85.2636,85.2593,85.2539, 85.2477,85.2415,85.2341,85.2267,85.2185 ,85.2101,85.2003,85.1897,85.1789, 85.1676,85.1578,85.1431,85.129,85.1146, 85.0909,85.0743,85.0569,85.0403,85.0222 ,84.9914,84.9721,84.9514,84.923,84.9124 ,84.9075,85.4764,86.0731,86.562,87.1327 ,87.7841,87.8113,87.8204,87.8138, 87.8065,87.7998,87.7923,87.7846,87.777, 87.7687,87.7614,87.7527,87.7448,87.7324 ,87.7238,87.7144,87.704,87.7,87.6906, 87.6776,87.6687,87.6599,87.6503,87.6407 ,87.631,87.6213,87.6108,87.6009,87.5906 ,87.5802,87.5698,87.5592,87.5484, 87.5375,87.5215,87.5119,87.5004,87.4892 ,87.4771,87.4669,87.4546,87.4369, 87.4062,87.3814,87.349,87.3226,87.316, 87.2805)
ORBIT_NUMBER = 6523
ORBITAL_ECCENTRICITY = 0.576
ORBITAL_INCLINATION = 86.77
ORBITAL_SEMIMAJOR_AXIS = 8690.92
PERIAPSIS_ALTITUDE = 304.58
PERIAPSIS_ARGUMENT_ANGLE = 291.86
PERIAPSIS_TIME = 2009-01-30T22:44:36.000Z
SPACECRAFT_ORIENTATION = (0.0,1.0,0.0)
^MEX_ORIENTATION_DESC = "MEX_ORIENTATION_DESC.TXT"
SPACECRAFT_POINTING_MODE = NADIR
^MEX_POINTING_DESC = "MEX_POINTING_DESC.TXT"
RIGHT_ASCENSION = -1e+32
DECLINATION = -1e+32
OFFSET_ANGLE = -1e+32
SPACECRAFT_SOLAR_DISTANCE = 2.13157e+08
TARGET_NAME = MARS
/* CAMERA DATA ELEMENTS */
DETECTOR_TEMPERATURE = 18.3705
FOCAL_PLANE_TEMPERATURE = 8.5833
INST_CMPRS_NAME = "DISCRETE COSINE TRANSFORMATION (DCT)"
INST_CMPRS_RATIO = 15.5587
INST_CMPRS_QUALITY = 0
INST_CMPRS_QUANTZ_TBL_ID = 0
INSTRUMENT_TEMPERATURE = 11.4379
LENS_TEMPERATURE = 8.7872
MACROPIXEL_SIZE = 4
MISSING_FRAMES = 0
PIXEL_SUBSAMPLING_FLAG = N
SIGNAL_CHAIN_ID = 2
/* RADIOMETRIC DATA ELEMENTS */
BANDWIDTH = 76.0
CENTER_FILTER_WAVELENGTH = 444.0
RADIANCE_OFFSET = 0.847589
RADIANCE_SCALING_FACTOR = 0.0021707
REFLECTANCE_SCALING_FACTOR = 0.000101333
MEX:REFLECTANCE_OFFSET = 0.0395673
/* IMAGE OBJECT DEFINITIONS */
OBJECT = IMAGE
  INTERCHANGE_FORMAT = BINARY
  LINES = 24681
  LINE_SAMPLES = 3347
  SAMPLE_TYPE = UNSIGNED_INTEGER
  SAMPLE_BITS = 8
  BANDS = 1
  BAND_STORAGE_TYPE = BAND_SEQUENTIAL
  MAXIMUM = 255
  MEAN = 133.161
  MINIMUM = 1
  STANDARD_DEVIATION = 29.7269
END_OBJECT = IMAGE
/* MAP OBJECT DEFINITIONS */
OBJECT = IMAGE_MAP_PROJECTION
  ^DATA_SET_MAP_PROJECTION_CATALOG= "DSMAP.CAT"
  A_AXIS_RADIUS = 3396.0
  B_AXIS_RADIUS = 3396.0
  C_AXIS_RADIUS = 3396.0
  CENTER_LATITUDE = 0.0
  CENTER_LONGITUDE = 86.0
  COORDINATE_SYSTEM_NAME = PLANETOGRAPHIC
  COORDINATE_SYSTEM_TYPE = "BODY-FIXED ROTATING"
  EASTERNMOST_LONGITUDE = 87.82040000000001
  FIRST_STANDARD_PARALLEL = "N/A"
  LINE_FIRST_PIXEL = 1
  LINE_LAST_PIXEL = 24681
  LINE_PROJECTION_OFFSET = -23187.125
  MAP_PROJECTION_ROTATION = 0.0
  MAP_PROJECTION_TYPE = SINUSOIDAL
  MAP_RESOLUTION = 1185.42760773333
  MAP_SCALE = 0.05
  MAXIMUM_LATITUDE = -19.5679
  MINIMUM_LATITUDE = -40.3883
  POSITIVE_LONGITUDE_DIRECTION = EAST
  REFERENCE_LATITUDE = "N/A"
  REFERENCE_LONGITUDE = "N/A"
  SAMPLE_FIRST_PIXEL = 1
  SAMPLE_LAST_PIXEL = 3347
  SAMPLE_PROJECTION_OFFSET = 1275.625
  SECOND_STANDARD_PARALLEL = "N/A"
  WESTERNMOST_LONGITUDE = 84.9075
END_OBJECT = IMAGE_MAP_PROJECTION
END
