PDS_VERSION_ID = PDS3
/* FILE DATA ELEMENTS */
RECORD_TYPE = UNDEFINED
/* POINTERS TO DATA OBJECTS */
^IMAGE = ("H6564_0000_P14.TIF")
/* IDENTIFICATION DATA ELEMENTS */
DATA_SET_ID = "MEX-M-HRSC-4-REFDR-MAPPROJECT-EXT2-V4.0"
DATA_SET_NAME = "MARS EXPRESS HRSC MAP PROJECTED REFDR EXTENSION2 V4.0"
DETECTOR_ID = MEX_HRSC_P1
EVENT_TYPE = "MARS-REGIONAL-MAPPING-Im-Fl"
INSTRUMENT_HOST_ID = MEX
INSTRUMENT_HOST_NAME = "MARS EXPRESS"
INSTRUMENT_ID = HRSC
INSTRUMENT_NAME = "HIGH RESOLUTION STEREO CAMERA"
MISSION_NAME = "MARS EXPRESS"
MISSION_PHASE_NAME = ME_Phase_15
PROCESSING_LEVEL_ID = 4
PRODUCT_CREATION_TIME = 2023-02-05T03:41:04.000Z
PRODUCT_ID = "H6564_0000_P14.TIF"
RELEASE_ID = 0006
REVISION_ID = 0000
/* QUALITY DATA ELEMENTS */
DATA_QUALITY_ID = 1
DATA_QUALITY_DESC = "Data calculated based on original SPICE kernels"
/* TIME DATA ELEMENTS */
SPACECRAFT_CLOCK_START_COUNT = "1/0182453334.09055"
SPACECRAFT_CLOCK_STOP_COUNT = "1/0182453619.04716"
START_TIME = 2009-02-11T17:29:52.834Z
STOP_TIME = 2009-02-11T17:33:19.680Z
/* ORBITAL DATA ELEMENTS */
ASCENDING_NODE_LONGITUDE = 92.62
MAXIMUM_RESOLUTION = 0.0315
FOOTPRINT_POINT_LATITUDE = (-56.2246,-56.1951,-56.1664,-56.1345, -56.1335,-56.1758,-55.8385,-55.6146, -55.28,-54.8339,-54.388,-53.834, -53.4961,-53.2699,-53.0438,-52.8176, -52.5868,-52.2411,-52.011,-51.6618, -51.4267,-51.192,-50.9575,-50.7186, -50.3598,-50.121,-49.7569,-49.5135, -49.2705,-49.0229,-48.775,-48.5279, -48.2778,-48.0257,-47.7744,-47.5199, -47.2638,-47.0083,-46.7504,-46.4905, -46.0987,-45.8348,-45.4347,-45.167, -44.8999,-44.6287,-44.2223,-44.0848, -44.0481,-44.0592,-44.0701,-44.0865, -44.0947,-44.101,-44.1062,-44.1065, -44.1073,-44.5176,-44.7899,-45.1939, -45.4625,-45.8652,-46.1297,-46.3927, -46.653,-47.0431,-47.3004,-47.5605, -47.9382,-48.1903,-48.5683,-48.8163, -49.0647,-49.3134,-49.6793,-49.9235, -50.1673,-50.4065,-50.7666,-51.0069, -51.2417,-51.477,-51.7131,-51.9483, -52.1791,-52.4098,-52.6416,-52.8735, -53.1002,-53.3268,-53.5539,-53.8944, -54.3379,-54.8941,-55.339,-55.5637, -55.901,-56.1251,-56.2369,-56.2246)
FOOTPRINT_POINT_LONGITUDE = (273.25,272.372,271.643,270.923,270.901 ,270.879,270.912,270.933,270.963, 271.003,271.04,271.084,271.109,271.126, 271.142,271.158,271.173,271.196,271.21, 271.231,271.245,271.258,271.271,271.284 ,271.303,271.314,271.332,271.343, 271.353,271.364,271.374,271.384,271.393 ,271.403,271.411,271.42,271.428,271.436 ,271.444,271.451,271.461,271.467, 271.476,271.482,271.487,271.492,271.498 ,271.5,271.501,271.869,272.265,272.936, 273.336,273.688,274.042,274.067,274.076 ,274.058,274.046,274.027,274.014, 273.995,273.982,273.97,273.957,273.938, 273.926,273.916,273.892,273.878,273.858 ,273.845,273.831,273.816,273.795, 273.781,273.766,273.752,273.729,273.714 ,273.699,273.683,273.668,273.652, 273.636,273.62,273.604,273.587,273.571, 273.555,273.538,273.512,273.476,273.43, 273.39,273.371,273.343,273.322,273.311, 273.25)
ORBIT_NUMBER = 6564
ORBITAL_ECCENTRICITY = 0.576
ORBITAL_INCLINATION = 86.76
ORBITAL_SEMIMAJOR_AXIS = 8682.19
PERIAPSIS_ALTITUDE = 305.7
PERIAPSIS_ARGUMENT_ANGLE = 284.86
PERIAPSIS_TIME = 2009-02-11T17:24:44.000Z
SPACECRAFT_ORIENTATION = (0.0,1.0,0.0)
^MEX_ORIENTATION_DESC = "MEX_ORIENTATION_DESC.TXT"
SPACECRAFT_POINTING_MODE = ACROSSTRACK
^MEX_POINTING_DESC = "MEX_POINTING_DESC.TXT"
RIGHT_ASCENSION = -1e+32
DECLINATION = -1e+32
OFFSET_ANGLE = -0.48
SPACECRAFT_SOLAR_DISTANCE = 2.11486e+08
TARGET_NAME = MARS
/* CAMERA DATA ELEMENTS */
DETECTOR_TEMPERATURE = 17.1471
FOCAL_PLANE_TEMPERATURE = 7.9716
INST_CMPRS_NAME = "DISCRETE COSINE TRANSFORMATION (DCT)"
INST_CMPRS_RATIO = 13.6136
INST_CMPRS_QUALITY = 0
INST_CMPRS_QUANTZ_TBL_ID = 0
INSTRUMENT_TEMPERATURE = 11.234
LENS_TEMPERATURE = 8.3794
MACROPIXEL_SIZE = 2
MISSING_FRAMES = 0
PIXEL_SUBSAMPLING_FLAG = N
SIGNAL_CHAIN_ID = 3
/* RADIOMETRIC DATA ELEMENTS */
BANDWIDTH = 174.0
CENTER_FILTER_WAVELENGTH = 675.0
RADIANCE_OFFSET = 4.51062
RADIANCE_SCALING_FACTOR = 0.0127435
REFLECTANCE_SCALING_FACTOR = 0.000306574
MEX:REFLECTANCE_OFFSET = 0.108513
/* IMAGE OBJECT DEFINITIONS */
OBJECT = IMAGE
  INTERCHANGE_FORMAT = BINARY
  LINES = 28919
  LINE_SAMPLES = 4451
  SAMPLE_TYPE = UNSIGNED_INTEGER
  SAMPLE_BITS = 8
  BANDS = 1
  BAND_STORAGE_TYPE = BAND_SEQUENTIAL
  MAXIMUM = 255
  MEAN = 120.648
  MINIMUM = 1
  STANDARD_DEVIATION = 21.2461
END_OBJECT = IMAGE
/* MAP OBJECT DEFINITIONS */
OBJECT = IMAGE_MAP_PROJECTION
  ^DATA_SET_MAP_PROJECTION_CATALOG= "DSMAP.CAT"
  A_AXIS_RADIUS = 3396.0
  B_AXIS_RADIUS = 3396.0
  C_AXIS_RADIUS = 3396.0
  CENTER_LATITUDE = 0.0
  CENTER_LONGITUDE = 273.0
  COORDINATE_SYSTEM_NAME = PLANETOGRAPHIC
  COORDINATE_SYSTEM_TYPE = "BODY-FIXED ROTATING"
  EASTERNMOST_LONGITUDE = 274.076
  FIRST_STANDARD_PARALLEL = "N/A"
  LINE_FIRST_PIXEL = 1
  LINE_LAST_PIXEL = 28919
  LINE_PROJECTION_OFFSET = -104493.25
  MAP_PROJECTION_ROTATION = 0.0
  MAP_PROJECTION_TYPE = SINUSOIDAL
  MAP_RESOLUTION = 2370.85521546667
  MAP_SCALE = 0.025
  MAXIMUM_LATITUDE = -44.0481
  MINIMUM_LATITUDE = -56.2369
  POSITIVE_LONGITUDE_DIRECTION = EAST
  REFERENCE_LATITUDE = "N/A"
  REFERENCE_LONGITUDE = "N/A"
  SAMPLE_FIRST_PIXEL = 1
  SAMPLE_LAST_PIXEL = 4451
  SAMPLE_PROJECTION_OFFSET = 2757.75
  SECOND_STANDARD_PARALLEL = "N/A"
  WESTERNMOST_LONGITUDE = 270.879
END_OBJECT = IMAGE_MAP_PROJECTION
END
