PDS_VERSION_ID = PDS3
/* FILE DATA ELEMENTS */
RECORD_TYPE = UNDEFINED
/* POINTERS TO DATA OBJECTS */
^IMAGE = ("H6730_0000_ND4.TIF")
/* IDENTIFICATION DATA ELEMENTS */
DATA_SET_ID = "MEX-M-HRSC-4-REFDR-MAPPROJECT-EXT2-V4.0"
DATA_SET_NAME = "MARS EXPRESS HRSC MAP PROJECTED REFDR EXTENSION2 V4.0"
DETECTOR_ID = MEX_HRSC_NADIR
EVENT_TYPE = "MARS-REGIONAL-STEREO-Vo-Fl-Gl"
INSTRUMENT_HOST_ID = MEX
INSTRUMENT_HOST_NAME = "MARS EXPRESS"
INSTRUMENT_ID = HRSC
INSTRUMENT_NAME = "HIGH RESOLUTION STEREO CAMERA"
MISSION_NAME = "MARS EXPRESS"
MISSION_PHASE_NAME = ME_Phase_16
PROCESSING_LEVEL_ID = 4
PRODUCT_CREATION_TIME = 2023-02-05T17:30:49.000Z
PRODUCT_ID = "H6730_0000_ND4.TIF"
RELEASE_ID = 0007
REVISION_ID = 0000
/* QUALITY DATA ELEMENTS */
DATA_QUALITY_ID = 1
DATA_QUALITY_DESC = "Data calculated based on original SPICE kernels"
/* TIME DATA ELEMENTS */
SPACECRAFT_CLOCK_START_COUNT = "1/0186573518.09051"
SPACECRAFT_CLOCK_STOP_COUNT = "1/0186573716.65426"
START_TIME = 2009-03-31T09:59:16.051Z
STOP_TIME = 2009-03-31T10:01:07.039Z
/* ORBITAL DATA ELEMENTS */
ASCENDING_NODE_LONGITUDE = 89.37
MAXIMUM_RESOLUTION = 0.0158
FOOTPRINT_POINT_LATITUDE = (-81.3714,-81.5113,-81.6175,-81.7187, -81.8148,-81.9058,-81.9918,-81.997, -81.9998,-81.7646,-81.5284,-81.2913, -81.0469,-80.8017,-80.5558,-80.3094, -80.1198,-79.9929,-79.8659,-79.7388, -79.6116,-79.4843,-79.3569,-79.2269, -79.0961,-78.9652,-78.8343,-78.7033, -78.5723,-78.4412,-78.2404,-78.1059, -77.9715,-77.837,-77.7025,-77.5679, -77.3625,-77.2247,-77.0871,-76.9493, -76.8116,-76.6738,-76.4626,-76.3216, -76.1806,-76.0396,-75.8986,-75.6838, -75.5398,-75.4678,-75.4561,-75.4266, -75.3956,-75.3593,-75.3134,-75.2481, -75.2004,-75.1371,-75.0445,-75.0394, -75.0372,-75.1782,-75.3193,-75.4593, -75.5974,-75.7354,-75.8735,-76.0788, -76.2158,-76.3499,-76.4841,-76.618, -76.752,-76.8861,-77.086,-77.2168, -77.3473,-77.4779,-77.6082,-77.7382, -77.9326,-78.0593,-78.1859,-78.3123, -78.4387,-78.5647,-78.6907,-78.8161, -79.0609,-79.3049,-79.548,-79.7295, -79.9644,-80.1984,-80.4314,-80.7167, -80.9426,-81.2747,-81.3297,-81.3714)
FOOTPRINT_POINT_LONGITUDE = (67.5238,69.0892,70.3652,71.662,72.9774 ,74.3129,75.6686,75.7539,75.7795, 76.5269,77.2316,77.8968,78.5421,79.1519 ,79.7289,80.2756,80.6761,80.935,81.1872 ,81.4329,81.6723,81.9058,82.1333, 82.3598,82.5817,82.7981,83.0092,83.2151 ,83.4162,83.6124,83.904,84.0933,84.2782 ,84.4588,84.6353,84.8076,85.0632,85.23, 85.3934,85.5527,85.7087,85.8613,86.0884 ,86.2358,86.3799,86.5209,86.6583, 86.8637,86.998,87.0641,87.0748,86.5151, 85.955,85.3302,84.5821,83.5867,82.9034, 82.0438,80.8677,80.806,80.7754,80.6116, 80.4464,80.2778,80.1111,79.9409,79.7682 ,79.479,79.2838,79.0938,78.9003,78.6999 ,78.4982,78.2929,77.9781,77.7673, 77.5504,77.3298,77.1022,76.8673,76.507, 76.2654,76.0205,75.7684,75.5117,75.2465 ,74.9769,74.7013,74.1427,73.5581, 72.9444,72.4652,71.8113,71.1261,70.4086 ,69.4317,68.6725,67.4115,67.1922, 67.5238)
ORBIT_NUMBER = 6730
ORBITAL_ECCENTRICITY = 0.575
ORBITAL_INCLINATION = 86.78
ORBITAL_SEMIMAJOR_AXIS = 8680.38
PERIAPSIS_ALTITUDE = 308.2
PERIAPSIS_ARGUMENT_ANGLE = 256.49
PERIAPSIS_TIME = 2009-03-31T09:53:57.000Z
SPACECRAFT_ORIENTATION = (0.0,-1.0,0.0)
^MEX_ORIENTATION_DESC = "MEX_ORIENTATION_DESC.TXT"
SPACECRAFT_POINTING_MODE = ACROSSTRACK
^MEX_POINTING_DESC = "MEX_POINTING_DESC.TXT"
RIGHT_ASCENSION = -1e+32
DECLINATION = -1e+32
OFFSET_ANGLE = 0.7
SPACECRAFT_SOLAR_DISTANCE = 2.0712e+08
TARGET_NAME = MARS
/* CAMERA DATA ELEMENTS */
DETECTOR_TEMPERATURE = 18.1666
FOCAL_PLANE_TEMPERATURE = 8.1755
INST_CMPRS_NAME = "DISCRETE COSINE TRANSFORMATION (DCT)"
INST_CMPRS_RATIO = 4.69023
INST_CMPRS_QUALITY = 0
INST_CMPRS_QUANTZ_TBL_ID = 0
INSTRUMENT_TEMPERATURE = 11.0301
LENS_TEMPERATURE = 8.5833
MACROPIXEL_SIZE = 1
MISSING_FRAMES = 0
PIXEL_SUBSAMPLING_FLAG = N
SIGNAL_CHAIN_ID = 0
/* RADIOMETRIC DATA ELEMENTS */
BANDWIDTH = 177.0
CENTER_FILTER_WAVELENGTH = 677.5
RADIANCE_OFFSET = 5.27881
RADIANCE_SCALING_FACTOR = 0.0334702
REFLECTANCE_SCALING_FACTOR = 0.000762761
MEX:REFLECTANCE_OFFSET = 0.1203
/* IMAGE OBJECT DEFINITIONS */
OBJECT = IMAGE
  INTERCHANGE_FORMAT = BINARY
  LINES = 33014
  LINE_SAMPLES = 18071
  SAMPLE_TYPE = UNSIGNED_INTEGER
  SAMPLE_BITS = 8
  BANDS = 1
  BAND_STORAGE_TYPE = BAND_SEQUENTIAL
  MAXIMUM = 255
  MEAN = 162.699
  MINIMUM = 1
  STANDARD_DEVIATION = 59.038
END_OBJECT = IMAGE
/* MAP OBJECT DEFINITIONS */
OBJECT = IMAGE_MAP_PROJECTION
  ^DATA_SET_MAP_PROJECTION_CATALOG= "DSMAP.CAT"
  A_AXIS_RADIUS = 3396.0
  B_AXIS_RADIUS = 3396.0
  C_AXIS_RADIUS = 3396.0
  CENTER_LATITUDE = 0.0
  CENTER_LONGITUDE = 79.0
  COORDINATE_SYSTEM_NAME = PLANETOGRAPHIC
  COORDINATE_SYSTEM_TYPE = "BODY-FIXED ROTATING"
  EASTERNMOST_LONGITUDE = 87.0748
  FIRST_STANDARD_PARALLEL = "N/A"
  LINE_FIRST_PIXEL = 1
  LINE_LAST_PIXEL = 33014
  LINE_PROJECTION_OFFSET = -355807.0
  MAP_PROJECTION_ROTATION = 0.0
  MAP_PROJECTION_TYPE = SINUSOIDAL
  MAP_RESOLUTION = 4741.71043093333
  MAP_SCALE = 0.0125
  MAXIMUM_LATITUDE = -75.0372
  MINIMUM_LATITUDE = -81.99979999999999
  POSITIVE_LONGITUDE_DIRECTION = EAST
  REFERENCE_LATITUDE = "N/A"
  REFERENCE_LONGITUDE = "N/A"
  SAMPLE_FIRST_PIXEL = 1
  SAMPLE_LAST_PIXEL = 18071
  SAMPLE_PROJECTION_OFFSET = 8453.0
  SECOND_STANDARD_PARALLEL = "N/A"
  WESTERNMOST_LONGITUDE = 67.1922
END_OBJECT = IMAGE_MAP_PROJECTION
END
