PDS_VERSION_ID = PDS3
/* FILE DATA ELEMENTS */
RECORD_TYPE = UNDEFINED
/* POINTERS TO DATA OBJECTS */
^IMAGE = ("H6807_0000_P14.TIF")
/* IDENTIFICATION DATA ELEMENTS */
DATA_SET_ID = "MEX-M-HRSC-4-REFDR-MAPPROJECT-EXT2-V4.0"
DATA_SET_NAME = "MARS EXPRESS HRSC MAP PROJECTED REFDR EXTENSION2 V4.0"
DETECTOR_ID = MEX_HRSC_P1
EVENT_TYPE = "MARS-REGIONAL-MAPPING-Im-Gl-La"
INSTRUMENT_HOST_ID = MEX
INSTRUMENT_HOST_NAME = "MARS EXPRESS"
INSTRUMENT_ID = HRSC
INSTRUMENT_NAME = "HIGH RESOLUTION STEREO CAMERA"
MISSION_NAME = "MARS EXPRESS"
MISSION_PHASE_NAME = ME_Phase_17
PROCESSING_LEVEL_ID = 4
PRODUCT_CREATION_TIME = 2023-02-05T17:30:49.000Z
PRODUCT_ID = "H6807_0000_P14.TIF"
RELEASE_ID = 0007
REVISION_ID = 0000
/* QUALITY DATA ELEMENTS */
DATA_QUALITY_ID = 1
DATA_QUALITY_DESC = "Data calculated based on original SPICE kernels"
/* TIME DATA ELEMENTS */
SPACECRAFT_CLOCK_START_COUNT = "1/0188484938.09042"
SPACECRAFT_CLOCK_STOP_COUNT = "1/0188485383.00932"
START_TIME = 2009-04-22T12:55:57.609Z
STOP_TIME = 2009-04-22T13:00:02.592Z
/* ORBITAL DATA ELEMENTS */
ASCENDING_NODE_LONGITUDE = 87.88
MAXIMUM_RESOLUTION = 0.0437
FOOTPRINT_POINT_LATITUDE = (-81.1899,-81.4003,-81.5439,-81.6793, -81.8062,-81.9246,-82.0343,-82.0409, -81.9865,-81.5252,-80.9343,-80.5726, -80.0838,-79.6953,-79.0647,-78.6798, -78.1599,-77.4986,-77.2314,-76.9599, -76.6884,-76.4134,-76.1377,-75.8586, -75.5789,-75.2952,-74.8673,-74.5793, -74.2889,-73.9969,-73.7022,-73.2559, -72.9567,-72.654,-72.3491,-72.0421, -71.7323,-71.4208,-71.1045,-70.7888, -70.4703,-70.1486,-69.8244,-69.498, -69.0028,-68.6705,-68.3354,-67.9966, -67.8264,-67.8208,-67.7819,-67.7215, -67.6289,-67.5637,-67.4746,-67.3812, -67.3751,-67.3739,-67.7088,-68.0399, -68.3695,-68.6974,-69.0205,-69.5032, -69.8193,-70.1346,-70.4476,-70.7574, -71.0655,-71.3713,-71.6713,-71.9722, -72.2695,-72.5672,-72.8599,-73.1493, -73.4383,-73.7238,-74.0077,-74.2884, -74.5675,-74.8436,-75.2535,-75.5249, -75.7928,-76.0594,-76.3224,-76.5845, -76.8427,-77.2287,-77.734,-78.23, -78.7136,-79.0834,-79.6678,-80.1225, -80.5664,-80.9979,-81.1044,-81.1899)
FOOTPRINT_POINT_LONGITUDE = (222.953,225.145,226.794,228.489, 230.229,232.014,233.842,233.958,234.23, 235.503,236.93,237.708,238.663,239.353, 240.362,240.919,241.61,242.401,242.697, 242.984,243.258,243.524,243.78,244.027, 244.266,244.497,244.829,245.042,245.247 ,245.446,245.639,245.917,246.095, 246.268,246.436,246.599,246.757,246.911 ,247.062,247.206,247.347,247.484, 247.617,247.746,247.934,248.055,248.172 ,248.287,248.343,248.345,247.384, 246.287,244.711,243.753,242.463,241.375 ,241.307,241.282,241.133,240.978, 240.819,240.655,240.486,240.226,240.043 ,239.856,239.664,239.466,239.263, 239.053,238.834,238.61,238.38,238.146, 237.899,237.647,237.386,237.118,236.841 ,236.554,236.258,235.952,235.474, 235.141,234.799,234.443,234.077,233.694 ,233.302,232.686,231.809,230.867, 229.851,228.998,227.525,226.234,224.833 ,223.314,222.911,222.953)
ORBIT_NUMBER = 6807
ORBITAL_ECCENTRICITY = 0.576
ORBITAL_INCLINATION = 86.78
ORBITAL_SEMIMAJOR_AXIS = 8698.22
PERIAPSIS_ALTITUDE = 310.44
PERIAPSIS_ARGUMENT_ANGLE = 243.3
PERIAPSIS_TIME = 2009-04-22T12:47:33.000Z
SPACECRAFT_ORIENTATION = (0.0,-1.0,0.0)
^MEX_ORIENTATION_DESC = "MEX_ORIENTATION_DESC.TXT"
SPACECRAFT_POINTING_MODE = ACROSSTRACK
^MEX_POINTING_DESC = "MEX_POINTING_DESC.TXT"
RIGHT_ASCENSION = -1e+32
DECLINATION = -1e+32
OFFSET_ANGLE = 0.6
SPACECRAFT_SOLAR_DISTANCE = 2.06646e+08
TARGET_NAME = MARS
/* CAMERA DATA ELEMENTS */
DETECTOR_TEMPERATURE = 17.351
FOCAL_PLANE_TEMPERATURE = 8.1755
INST_CMPRS_NAME = "DISCRETE COSINE TRANSFORMATION (DCT)"
INST_CMPRS_RATIO = 8.54064
INST_CMPRS_QUALITY = 0
INST_CMPRS_QUANTZ_TBL_ID = 0
INSTRUMENT_TEMPERATURE = 11.0301
LENS_TEMPERATURE = 8.3794
MACROPIXEL_SIZE = 2
PIXEL_SUBSAMPLING_FLAG = N
SIGNAL_CHAIN_ID = 3
/* RADIOMETRIC DATA ELEMENTS */
BANDWIDTH = 174.0
CENTER_FILTER_WAVELENGTH = 675.0
RADIANCE_OFFSET = 5.84179
RADIANCE_SCALING_FACTOR = 0.0283392
REFLECTANCE_SCALING_FACTOR = 0.00065092
MEX:REFLECTANCE_OFFSET = 0.134179
/* IMAGE OBJECT DEFINITIONS */
OBJECT = IMAGE
  INTERCHANGE_FORMAT = BINARY
  LINES = 17305
  LINE_SAMPLES = 7069
  SAMPLE_TYPE = UNSIGNED_INTEGER
  SAMPLE_BITS = 8
  BANDS = 1
  BAND_STORAGE_TYPE = BAND_SEQUENTIAL
  MAXIMUM = 255
  MEAN = 93.2409
  MINIMUM = 1
  STANDARD_DEVIATION = 72.3655
END_OBJECT = IMAGE
/* MAP OBJECT DEFINITIONS */
OBJECT = IMAGE_MAP_PROJECTION
  ^DATA_SET_MAP_PROJECTION_CATALOG= "DSMAP.CAT"
  A_AXIS_RADIUS = 3396.0
  B_AXIS_RADIUS = 3396.0
  C_AXIS_RADIUS = 3396.0
  CENTER_LATITUDE = 0.0
  CENTER_LONGITUDE = 240.0
  COORDINATE_SYSTEM_NAME = PLANETOGRAPHIC
  COORDINATE_SYSTEM_TYPE = "BODY-FIXED ROTATING"
  EASTERNMOST_LONGITUDE = 248.345
  FIRST_STANDARD_PARALLEL = "N/A"
  LINE_FIRST_PIXEL = 1
  LINE_LAST_PIXEL = 17305
  LINE_PROJECTION_OFFSET = -79849.75
  MAP_PROJECTION_ROTATION = 0.0
  MAP_PROJECTION_TYPE = SINUSOIDAL
  MAP_RESOLUTION = 1185.42760773333
  MAP_SCALE = 0.05
  MAXIMUM_LATITUDE = -67.37390000000001
  MINIMUM_LATITUDE = -82.04089999999999
  POSITIVE_LONGITUDE_DIRECTION = EAST
  REFERENCE_LATITUDE = "N/A"
  REFERENCE_LONGITUDE = "N/A"
  SAMPLE_FIRST_PIXEL = 1
  SAMPLE_LAST_PIXEL = 7069
  SAMPLE_PROJECTION_OFFSET = 3194.25
  SECOND_STANDARD_PARALLEL = "N/A"
  WESTERNMOST_LONGITUDE = 222.911
END_OBJECT = IMAGE_MAP_PROJECTION
END
