PDS_VERSION_ID = PDS3
/* FILE DATA ELEMENTS */
RECORD_TYPE = UNDEFINED
/* POINTERS TO DATA OBJECTS */
^IMAGE = ("H6812_0000_P24.TIF")
/* IDENTIFICATION DATA ELEMENTS */
DATA_SET_ID = "MEX-M-HRSC-4-REFDR-MAPPROJECT-EXT2-V4.0"
DATA_SET_NAME = "MARS EXPRESS HRSC MAP PROJECTED REFDR EXTENSION2 V4.0"
DETECTOR_ID = MEX_HRSC_P2
EVENT_TYPE = "MARS-REGIONAL-MAPPING-Im"
INSTRUMENT_HOST_ID = MEX
INSTRUMENT_HOST_NAME = "MARS EXPRESS"
INSTRUMENT_ID = HRSC
INSTRUMENT_NAME = "HIGH RESOLUTION STEREO CAMERA"
MISSION_NAME = "MARS EXPRESS"
MISSION_PHASE_NAME = ME_Phase_17
PROCESSING_LEVEL_ID = 4
PRODUCT_CREATION_TIME = 2023-02-05T17:30:49.000Z
PRODUCT_ID = "H6812_0000_P24.TIF"
RELEASE_ID = 0007
REVISION_ID = 0000
/* QUALITY DATA ELEMENTS */
DATA_QUALITY_ID = 1
DATA_QUALITY_DESC = "Data calculated based on original SPICE kernels"
/* TIME DATA ELEMENTS */
SPACECRAFT_CLOCK_START_COUNT = "1/0188609156.08245"
SPACECRAFT_CLOCK_STOP_COUNT = "1/0188609719.49559"
START_TIME = 2009-04-23T23:27:57.261Z
STOP_TIME = 2009-04-23T23:34:04.881Z
/* ORBITAL DATA ELEMENTS */
ASCENDING_NODE_LONGITUDE = 87.78
MAXIMUM_RESOLUTION = 0.0608
FOOTPRINT_POINT_LATITUDE = (-75.7891,-75.9401,-76.0556,-76.1277, -76.1968,-76.261,-76.309,-76.3122, -76.3895,-75.8553,-75.5113,-75.1593, -74.8074,-74.4563,-73.9419,-73.5978, -73.2541,-72.9145,-72.5757,-72.2463, -71.9112,-71.577,-71.2445,-70.7442, -70.2512,-69.9247,-69.5995,-69.2767, -68.9553,-68.6354,-68.3167,-67.9993, -67.5362,-67.0655,-66.7519,-66.4444, -66.1376,-65.8321,-65.5279,-65.2248, -64.6231,-64.0301,-63.4436,-62.861, -62.4314,-61.8566,-61.2928,-60.734, -60.5949,-60.5548,-60.5506,-60.5441, -60.5348,-60.512,-60.4753,-60.4534, -60.4092,-60.3375,-60.3334,-60.3324, -60.8829,-61.2927,-61.848,-62.4139, -62.979,-63.5625,-64.2837,-64.8729, -65.4673,-65.7673,-66.069,-66.3721, -66.6759,-66.9884,-67.2985,-67.5994, -67.9119,-68.2246,-68.693,-69.0098, -69.3297,-69.8084,-70.1299,-70.4525, -70.7746,-71.1035,-71.5935,-72.0894, -72.42,-72.7552,-73.0864,-73.4224, -73.7569,-74.096,-74.6029,-74.9418, -75.2861,-75.6294,-75.8006,-75.7891)
FOOTPRINT_POINT_LONGITUDE = (92.589,94.8161,96.7839,98.1786,99.6865 ,101.312,102.748,102.851,102.984, 103.345,103.582,103.795,103.996,104.185 ,104.463,104.633,104.795,104.951,105.1, 105.252,105.389,105.52,105.645,105.818, 105.985,106.091,106.193,106.292,106.387 ,106.478,106.566,106.651,106.783, 106.897,106.969,107.042,107.112,107.18, 107.246,107.309,107.429,107.545,107.655 ,107.757,107.833,107.923,108.013, 108.098,108.118,108.124,106.875,106.209 ,105.544,104.384,103.059,102.398, 101.242,99.6722,99.5894,99.5596,99.4725 ,99.4109,99.3175,99.2098,99.1019, 98.9674,98.8072,98.6585,98.4981,98.412, 98.322,98.2282,98.132,98.0192,97.9085, 97.8119,97.6928,97.5709,97.3846,97.2481 ,97.1024,96.8794,96.7209,96.5557, 96.3872,96.1987,95.9125,95.5985,95.3801 ,95.1426,94.9069,94.6493,94.3858, 94.0988,93.6501,93.3318,92.9809,92.6165 ,92.4291,92.589)
ORBIT_NUMBER = 6812
ORBITAL_ECCENTRICITY = 0.576
ORBITAL_INCLINATION = 86.78
ORBITAL_SEMIMAJOR_AXIS = 8695.47
PERIAPSIS_ALTITUDE = 310.44
PERIAPSIS_ARGUMENT_ANGLE = 242.45
PERIAPSIS_TIME = 2009-04-23T23:16:03.000Z
SPACECRAFT_ORIENTATION = (0.0,-1.0,0.0)
^MEX_ORIENTATION_DESC = "MEX_ORIENTATION_DESC.TXT"
SPACECRAFT_POINTING_MODE = NADIR
^MEX_POINTING_DESC = "MEX_POINTING_DESC.TXT"
RIGHT_ASCENSION = -1e+32
DECLINATION = -1e+32
OFFSET_ANGLE = -1e+32
SPACECRAFT_SOLAR_DISTANCE = 2.06652e+08
TARGET_NAME = MARS
/* CAMERA DATA ELEMENTS */
DETECTOR_TEMPERATURE = 18.7783
FOCAL_PLANE_TEMPERATURE = 8.5833
INST_CMPRS_NAME = "DISCRETE COSINE TRANSFORMATION (DCT)"
INST_CMPRS_RATIO = 7.72979
INST_CMPRS_QUALITY = 0
INST_CMPRS_QUANTZ_TBL_ID = 0
INSTRUMENT_TEMPERATURE = 11.234
LENS_TEMPERATURE = 8.7872
MACROPIXEL_SIZE = 2
MISSING_FRAMES = 0
PIXEL_SUBSAMPLING_FLAG = N
SIGNAL_CHAIN_ID = 3
/* RADIOMETRIC DATA ELEMENTS */
BANDWIDTH = 177.0
CENTER_FILTER_WAVELENGTH = 676.5
RADIANCE_OFFSET = 6.34938
RADIANCE_SCALING_FACTOR = 0.0170572
REFLECTANCE_SCALING_FACTOR = 0.000386225
MEX:REFLECTANCE_OFFSET = 0.143769
/* IMAGE OBJECT DEFINITIONS */
OBJECT = IMAGE
  INTERCHANGE_FORMAT = BINARY
  LINES = 19046
  LINE_SAMPLES = 5868
  SAMPLE_TYPE = UNSIGNED_INTEGER
  SAMPLE_BITS = 8
  BANDS = 1
  BAND_STORAGE_TYPE = BAND_SEQUENTIAL
  MAXIMUM = 255
  MEAN = 104.212
  MINIMUM = 1
  STANDARD_DEVIATION = 35.4257
END_OBJECT = IMAGE
/* MAP OBJECT DEFINITIONS */
OBJECT = IMAGE_MAP_PROJECTION
  ^DATA_SET_MAP_PROJECTION_CATALOG= "DSMAP.CAT"
  A_AXIS_RADIUS = 3396.0
  B_AXIS_RADIUS = 3396.0
  C_AXIS_RADIUS = 3396.0
  CENTER_LATITUDE = 0.0
  CENTER_LONGITUDE = 102.0
  COORDINATE_SYSTEM_NAME = PLANETOGRAPHIC
  COORDINATE_SYSTEM_TYPE = "BODY-FIXED ROTATING"
  EASTERNMOST_LONGITUDE = 108.124
  FIRST_STANDARD_PARALLEL = "N/A"
  LINE_FIRST_PIXEL = 1
  LINE_LAST_PIXEL = 19046
  LINE_PROJECTION_OFFSET = -71533.75
  MAP_PROJECTION_ROTATION = 0.0
  MAP_PROJECTION_TYPE = SINUSOIDAL
  MAP_RESOLUTION = 1185.42760773333
  MAP_SCALE = 0.05
  MAXIMUM_LATITUDE = -60.3324
  MINIMUM_LATITUDE = -76.3895
  POSITIVE_LONGITUDE_DIRECTION = EAST
  REFERENCE_LATITUDE = "N/A"
  REFERENCE_LONGITUDE = "N/A"
  SAMPLE_FIRST_PIXEL = 1
  SAMPLE_LAST_PIXEL = 5868
  SAMPLE_PROJECTION_OFFSET = 2677.75
  SECOND_STANDARD_PARALLEL = "N/A"
  WESTERNMOST_LONGITUDE = 92.42910000000001
END_OBJECT = IMAGE_MAP_PROJECTION
END
