PDS_VERSION_ID = PDS3
/* FILE DATA ELEMENTS */
RECORD_TYPE = UNDEFINED
/* POINTERS TO DATA OBJECTS */
^IMAGE = ("H6855_0000_S14.TIF")
/* IDENTIFICATION DATA ELEMENTS */
DATA_SET_ID = "MEX-M-HRSC-4-REFDR-MAPPROJECT-EXT3-V4.0"
DATA_SET_NAME = "MARS EXPRESS HRSC MAP PROJECTED REFDR EXTENSION3 V4.0"
DETECTOR_ID = MEX_HRSC_S1
EVENT_TYPE = "MARS-REGIONAL-MAPPING-Gl-La"
INSTRUMENT_HOST_ID = MEX
INSTRUMENT_HOST_NAME = "MARS EXPRESS"
INSTRUMENT_ID = HRSC
INSTRUMENT_NAME = "HIGH RESOLUTION STEREO CAMERA"
MISSION_NAME = "MARS EXPRESS"
MISSION_PHASE_NAME = ME_Phase_17
PROCESSING_LEVEL_ID = 4
PRODUCT_CREATION_TIME = 2023-02-01T06:41:01.000Z
PRODUCT_ID = "H6855_0000_S14.TIF"
RELEASE_ID = 0001
REVISION_ID = 0000
/* QUALITY DATA ELEMENTS */
DATA_QUALITY_ID = 1
DATA_QUALITY_DESC = "Data calculated based on original SPICE kernels"
/* TIME DATA ELEMENTS */
SPACECRAFT_CLOCK_START_COUNT = "1/0189676405.07288"
SPACECRAFT_CLOCK_STOP_COUNT = "1/0189676845.23465"
START_TIME = 2009-05-06T07:53:27.510Z
STOP_TIME = 2009-05-06T07:57:07.092Z
/* ORBITAL DATA ELEMENTS */
ASCENDING_NODE_LONGITUDE = 86.94
MAXIMUM_RESOLUTION = 0.0469
FOOTPRINT_POINT_LATITUDE = (-86.0246,-86.2903,-86.5527,-86.811, -87.0635,-87.3084,-87.6283,-87.6422, -87.6168,-87.2852,-86.8162,-86.5131, -86.0917,-85.6523,-85.4259,-85.1964, -84.9668,-84.7322,-84.4958,-84.1347, -83.8915,-83.6452,-83.3974,-83.0206, -82.7672,-82.3811,-82.1226,-81.8591, -81.5961,-81.3301,-81.063,-80.7935, -80.523,-80.2498,-79.6986,-79.2789, -78.9982,-78.7138,-78.4285,-78.1398, -77.8498,-77.5572,-77.2659,-76.9704, -76.6724,-76.3708,-76.0679,-75.7617, -75.4586,-74.9927,-74.8349,-74.8137, -74.7635,-74.7129,-74.6718,-74.6067, -74.5247,-74.4027,-74.3967,-74.3953, -74.8487,-75.2992,-75.5989,-76.0449, -76.4734,-76.758,-77.1849,-77.6064, -77.8839,-78.1585,-78.432,-78.7015, -78.9698,-79.2354,-79.6292,-79.8891, -80.1448,-80.5264,-80.7669,-81.0227, -81.268,-81.6292,-81.9851,-82.2174, -82.4475,-82.6725,-82.8936,-83.1124, -83.3267,-83.6397,-83.8441,-84.141, -84.333,-84.6979,-84.9556,-85.3491, -85.626,-85.9192,-85.9695,-86.0246)
FOOTPRINT_POINT_LONGITUDE = (27.8362,29.5728,31.5883,33.9522, 36.7454,40.0805,45.8197,46.1186,48.5667 ,55.9415,62.926,66.2303,69.8335,72.7465 ,74.0173,75.1672,76.1941,77.1442, 78.0175,79.2109,79.9309,80.6011,81.2197 ,82.0751,82.5976,83.3285,83.7748, 84.2017,84.5977,84.9719,85.3252,85.6571 ,85.9711,86.2682,86.8172,87.1985, 87.4334,87.6604,87.8766,88.0838,88.2826 ,88.4729,88.6461,88.8198,88.9842, 89.1469,89.3017,89.4513,89.5853,89.7903 ,89.8586,89.8674,87.5321,85.9265, 84.8328,83.3542,81.7986,79.7895,79.6947 ,79.66,79.284,78.8856,78.6061,78.1659, 77.7043,77.3809,76.8679,76.3226,75.9396 ,75.5414,75.1239,74.6902,74.2353, 73.7603,73.0058,72.4717,71.9153,71.0237 ,70.4089,69.7333,69.0352,67.9213, 66.7116,65.8523,64.9399,63.9822,62.968, 61.8912,60.7507,58.9128,57.5849,55.4411 ,53.8943,50.5143,47.6869,42.3625, 37.5179,30.6559,29.1826,27.8362)
ORBIT_NUMBER = 6855
ORBITAL_ECCENTRICITY = 0.576
ORBITAL_INCLINATION = 86.78
ORBITAL_SEMIMAJOR_AXIS = 8707.5
PERIAPSIS_ALTITUDE = 311.41
PERIAPSIS_ARGUMENT_ANGLE = 235.08
PERIAPSIS_TIME = 2009-05-06T07:44:42.000Z
SPACECRAFT_ORIENTATION = (0.0,-1.0,0.0)
^MEX_ORIENTATION_DESC = "MEX_ORIENTATION_DESC.TXT"
SPACECRAFT_POINTING_MODE = ACROSSTRACK
^MEX_POINTING_DESC = "MEX_POINTING_DESC.TXT"
RIGHT_ASCENSION = -1e+32
DECLINATION = -1e+32
OFFSET_ANGLE = -0.458
SPACECRAFT_SOLAR_DISTANCE = 2.06885e+08
TARGET_NAME = MARS
/* CAMERA DATA ELEMENTS */
DETECTOR_TEMPERATURE = 17.7588
FOCAL_PLANE_TEMPERATURE = 10.4184
INST_CMPRS_NAME = "DISCRETE COSINE TRANSFORMATION (DCT)"
INST_CMPRS_RATIO = 10.195
INST_CMPRS_QUALITY = 0
INST_CMPRS_QUANTZ_TBL_ID = 0
INSTRUMENT_TEMPERATURE = 11.234
LENS_TEMPERATURE = 9.3989
MACROPIXEL_SIZE = 2
MISSING_FRAMES = 0
PIXEL_SUBSAMPLING_FLAG = N
SIGNAL_CHAIN_ID = 1
/* RADIOMETRIC DATA ELEMENTS */
BANDWIDTH = 180.0
CENTER_FILTER_WAVELENGTH = 677.0
RADIANCE_OFFSET = 6.00125
RADIANCE_SCALING_FACTOR = 0.0350278
REFLECTANCE_SCALING_FACTOR = 0.000782193
MEX:REFLECTANCE_OFFSET = 0.134012
/* IMAGE OBJECT DEFINITIONS */
OBJECT = IMAGE
  INTERCHANGE_FORMAT = BINARY
  LINES = 15786
  LINE_SAMPLES = 8471
  SAMPLE_TYPE = UNSIGNED_INTEGER
  SAMPLE_BITS = 8
  BANDS = 1
  BAND_STORAGE_TYPE = BAND_SEQUENTIAL
  MAXIMUM = 255
  MEAN = 100.627
  MINIMUM = 1
  STANDARD_DEVIATION = 83.9876
END_OBJECT = IMAGE
/* MAP OBJECT DEFINITIONS */
OBJECT = IMAGE_MAP_PROJECTION
  ^DATA_SET_MAP_PROJECTION_CATALOG= "DSMAP.CAT"
  A_AXIS_RADIUS = 3396.0
  B_AXIS_RADIUS = 3396.0
  C_AXIS_RADIUS = 3396.0
  CENTER_LATITUDE = 0.0
  CENTER_LONGITUDE = 76.0
  COORDINATE_SYSTEM_NAME = PLANETOGRAPHIC
  COORDINATE_SYSTEM_TYPE = "BODY-FIXED ROTATING"
  EASTERNMOST_LONGITUDE = 89.8674
  FIRST_STANDARD_PARALLEL = "N/A"
  LINE_FIRST_PIXEL = 1
  LINE_LAST_PIXEL = 15786
  LINE_PROJECTION_OFFSET = -88104.75
  MAP_PROJECTION_ROTATION = 0.0
  MAP_PROJECTION_TYPE = SINUSOIDAL
  MAP_RESOLUTION = 1185.42760773333
  MAP_SCALE = 0.05
  MAXIMUM_LATITUDE = -74.39530000000001
  MINIMUM_LATITUDE = -87.6422
  POSITIVE_LONGITUDE_DIRECTION = EAST
  REFERENCE_LATITUDE = "N/A"
  REFERENCE_LONGITUDE = "N/A"
  SAMPLE_FIRST_PIXEL = 1
  SAMPLE_LAST_PIXEL = 8471
  SAMPLE_PROJECTION_OFFSET = 4004.75
  SECOND_STANDARD_PARALLEL = "N/A"
  WESTERNMOST_LONGITUDE = 27.8362
END_OBJECT = IMAGE_MAP_PROJECTION
END
