PDS_VERSION_ID = PDS3
/* FILE DATA ELEMENTS */
RECORD_TYPE = UNDEFINED
/* POINTERS TO DATA OBJECTS */
^IMAGE = ("H6868_0000_RE4.TIF")
/* IDENTIFICATION DATA ELEMENTS */
DATA_SET_ID = "MEX-M-HRSC-4-REFDR-MAPPROJECT-EXT3-V4.0"
DATA_SET_NAME = "MARS EXPRESS HRSC MAP PROJECTED REFDR EXTENSION3 V4.0"
DETECTOR_ID = MEX_HRSC_RED
EVENT_TYPE = "MARS-REGIONAL-MAPPING-Gl-La"
INSTRUMENT_HOST_ID = MEX
INSTRUMENT_HOST_NAME = "MARS EXPRESS"
INSTRUMENT_ID = HRSC
INSTRUMENT_NAME = "HIGH RESOLUTION STEREO CAMERA"
MISSION_NAME = "MARS EXPRESS"
MISSION_PHASE_NAME = ME_Phase_17
PROCESSING_LEVEL_ID = 4
PRODUCT_CREATION_TIME = 2023-02-01T06:41:01.000Z
PRODUCT_ID = "H6868_0000_RE4.TIF"
RELEASE_ID = 0001
REVISION_ID = 0000
/* QUALITY DATA ELEMENTS */
DATA_QUALITY_ID = 1
DATA_QUALITY_DESC = "Data calculated based on original SPICE kernels"
/* TIME DATA ELEMENTS */
SPACECRAFT_CLOCK_START_COUNT = "1/0189998966.09036"
SPACECRAFT_CLOCK_STOP_COUNT = "1/0189999334.34799"
START_TIME = 2009-05-10T01:30:57.538Z
STOP_TIME = 2009-05-10T01:35:16.978Z
/* ORBITAL DATA ELEMENTS */
ASCENDING_NODE_LONGITUDE = 86.69
MAXIMUM_RESOLUTION = 0.089
FOOTPRINT_POINT_LATITUDE = (-81.041,-81.1546,-81.3099,-81.4573, -81.6099,-81.7038,-81.7084,-81.6318, -82.0796,-82.6408,-82.9789,-83.4321, -83.8864,-84.2268,-84.4528,-84.6809, -85.0195,-85.244,-85.4688,-85.6924, -85.9126,-86.1308,-86.3452,-86.5556, -86.7595,-86.9582,-87.1463,-87.3248, -87.4892,-87.6367,-87.7631,-87.9031, -87.9578,-87.9778,-87.9398,-87.8236, -87.7075,-87.4826,-87.3051,-87.109, -86.9031,-86.5612,-86.323,-86.0747, -85.8203,-85.5593,-85.2925,-85.021, -84.7444,-84.6047,-84.567,-84.3879, -84.2099,-84.0745,-83.8603,-83.7168, -83.3937,-83.1798,-83.1629,-83.1585, -83.4986,-83.7157,-83.9245,-84.1247, -84.3156,-84.4966,-84.6663,-84.8247, -84.9707,-85.1035,-85.2219,-85.3725, -85.4877,-85.5437,-85.5832,-85.606, -85.6084,-85.5895,-85.5548,-85.4732, -85.4006,-85.3156,-85.1621,-85.0477, -84.8559,-84.7144,-84.5693,-84.4175, -84.2627,-84.1015,-83.846,-83.5825, -83.218,-82.8425,-82.5543,-82.0665, -81.5718,-81.0733,-80.9737,-81.041)
FOOTPRINT_POINT_LONGITUDE = (72.557,71.0986,68.8958,66.5094,63.6064 ,61.4961,61.3835,60.9705,61.7777,62.93, 63.7202,64.9097,66.2868,67.4708,68.3396 ,69.307,70.9123,72.1053,73.4529,74.9489 ,76.6007,78.4521,80.5348,82.8891, 85.5388,88.5926,92.031,96.0021,100.553, 105.727,111.615,121.618,128.937,136.572 ,148.015,158.716,165.133,173.57,178.386 ,182.603,186.255,190.958,193.605, 195.946,198.013,199.851,201.493,202.966 ,204.296,204.912,205.072,200.316, 196.552,194.101,190.731,188.741,184.847 ,182.617,182.451,182.388,179.879, 178.071,176.147,174.097,171.915,169.594 ,167.139,164.535,161.79,158.909,155.92, 151.168,146.151,142.7,139.212,135.721, 130.456,126.985,123.588,118.633,115.457 ,112.424,108.089,105.388,101.598, 99.2301,97.0266,94.9566,93.0251,91.2053 ,88.6521,86.3385,83.5592,81.0979, 79.4281,76.9531,74.7994,72.914,72.5678, 72.557)
ORBIT_NUMBER = 6868
ORBITAL_ECCENTRICITY = 0.576
ORBITAL_INCLINATION = 86.78
ORBITAL_SEMIMAJOR_AXIS = 8713.81
PERIAPSIS_ALTITUDE = 311.59
PERIAPSIS_ARGUMENT_ANGLE = 232.84
PERIAPSIS_TIME = 2009-05-10T01:22:40.000Z
SPACECRAFT_ORIENTATION = (0.0,-1.0,0.0)
^MEX_ORIENTATION_DESC = "MEX_ORIENTATION_DESC.TXT"
SPACECRAFT_POINTING_MODE = NADIR
^MEX_POINTING_DESC = "MEX_POINTING_DESC.TXT"
RIGHT_ASCENSION = -1e+32
DECLINATION = -1e+32
OFFSET_ANGLE = -1e+32
SPACECRAFT_SOLAR_DISTANCE = 2.0702e+08
TARGET_NAME = MARS
/* CAMERA DATA ELEMENTS */
DETECTOR_TEMPERATURE = 18.5744
FOCAL_PLANE_TEMPERATURE = 8.5833
INST_CMPRS_NAME = "DISCRETE COSINE TRANSFORMATION (DCT)"
INST_CMPRS_RATIO = 7.00932
INST_CMPRS_QUALITY = 0
INST_CMPRS_QUANTZ_TBL_ID = 0
INSTRUMENT_TEMPERATURE = 11.234
LENS_TEMPERATURE = 8.9911
MACROPIXEL_SIZE = 4
MISSING_FRAMES = 0
PIXEL_SUBSAMPLING_FLAG = N
SIGNAL_CHAIN_ID = 2
/* RADIOMETRIC DATA ELEMENTS */
BANDWIDTH = 48.0
CENTER_FILTER_WAVELENGTH = 748.0
RADIANCE_OFFSET = 0.923107
RADIANCE_SCALING_FACTOR = 0.00921045
REFLECTANCE_SCALING_FACTOR = 0.000900811
MEX:REFLECTANCE_OFFSET = 0.0902828
/* IMAGE OBJECT DEFINITIONS */
OBJECT = IMAGE
  INTERCHANGE_FORMAT = BINARY
  LINES = 6388
  LINE_SAMPLES = 6385
  SAMPLE_TYPE = UNSIGNED_INTEGER
  SAMPLE_BITS = 8
  BANDS = 1
  BAND_STORAGE_TYPE = BAND_SEQUENTIAL
  MAXIMUM = 255
  MEAN = 80.3723
  MINIMUM = 1
  STANDARD_DEVIATION = 51.1956
END_OBJECT = IMAGE
/* MAP OBJECT DEFINITIONS */
OBJECT = IMAGE_MAP_PROJECTION
  ^DATA_SET_MAP_PROJECTION_CATALOG= "DSMAP.CAT"
  A_AXIS_RADIUS = 3396.0
  B_AXIS_RADIUS = 3396.0
  C_AXIS_RADIUS = 3396.0
  CENTER_LATITUDE = -90.0
  CENTER_LONGITUDE = 0.0
  COORDINATE_SYSTEM_NAME = PLANETOGRAPHIC
  COORDINATE_SYSTEM_TYPE = "BODY-FIXED ROTATING"
  EASTERNMOST_LONGITUDE = 205.072
  FIRST_STANDARD_PARALLEL = "N/A"
  LINE_FIRST_PIXEL = 1
  LINE_LAST_PIXEL = 6388
  LINE_PROJECTION_OFFSET = 2391.125
  MAP_PROJECTION_ROTATION = 0.0
  MAP_PROJECTION_TYPE = STEREOGRAPHIC
  MAP_RESOLUTION = 592.713803866667
  MAP_SCALE = 0.1
  MAXIMUM_LATITUDE = -80.97369999999999
  MINIMUM_LATITUDE = -87.9778
  POSITIVE_LONGITUDE_DIRECTION = EAST
  REFERENCE_LATITUDE = "N/A"
  REFERENCE_LONGITUDE = "N/A"
  SAMPLE_FIRST_PIXEL = 1
  SAMPLE_LAST_PIXEL = 6385
  SAMPLE_PROJECTION_OFFSET = 1272.625
  SECOND_STANDARD_PARALLEL = "N/A"
  WESTERNMOST_LONGITUDE = 60.9705
END_OBJECT = IMAGE_MAP_PROJECTION
END
