PDS_VERSION_ID = PDS3
/* FILE DATA ELEMENTS */
RECORD_TYPE = UNDEFINED
/* POINTERS TO DATA OBJECTS */
^IMAGE = ("H6907_0000_RE4.TIF")
/* IDENTIFICATION DATA ELEMENTS */
DATA_SET_ID = "MEX-M-HRSC-4-REFDR-MAPPROJECT-EXT3-V4.0"
DATA_SET_NAME = "MARS EXPRESS HRSC MAP PROJECTED REFDR EXTENSION3 V4.0"
DETECTOR_ID = MEX_HRSC_RED
EVENT_TYPE = "MARS-REGIONAL-MAPPING-Fl-Gl-La"
INSTRUMENT_HOST_ID = MEX
INSTRUMENT_HOST_NAME = "MARS EXPRESS"
INSTRUMENT_ID = HRSC
INSTRUMENT_NAME = "HIGH RESOLUTION STEREO CAMERA"
MISSION_NAME = "MARS EXPRESS"
MISSION_PHASE_NAME = ME_Phase_17
PROCESSING_LEVEL_ID = 4
PRODUCT_CREATION_TIME = 2023-02-01T06:41:01.000Z
PRODUCT_ID = "H6907_0000_RE4.TIF"
RELEASE_ID = 0001
REVISION_ID = 0000
/* QUALITY DATA ELEMENTS */
DATA_QUALITY_ID = 1
DATA_QUALITY_DESC = "Data calculated based on original SPICE kernels"
/* TIME DATA ELEMENTS */
SPACECRAFT_CLOCK_START_COUNT = "1/0190967009.07299"
SPACECRAFT_CLOCK_STOP_COUNT = "1/0190967295.19098"
START_TIME = 2009-05-21T06:25:03.121Z
STOP_TIME = 2009-05-21T06:28:00.159Z
/* ORBITAL DATA ELEMENTS */
ASCENDING_NODE_LONGITUDE = 85.93
MAXIMUM_RESOLUTION = 0.0912
FOOTPRINT_POINT_LATITUDE = (-75.4821,-75.5386,-75.6034,-75.6629, -75.7202,-75.7932,-75.8397,-75.842, -75.7658,-76.009,-76.3358,-76.5828, -76.9168,-77.4177,-77.6679,-78.0062, -78.3466,-78.6911,-79.0372,-79.2118, -79.386,-79.5614,-79.7376,-79.9138, -80.0914,-80.2694,-80.5369,-80.7165, -80.8957,-81.1685,-81.3497,-81.6244, -81.8073,-81.9922,-82.269,-82.4555, -82.6412,-82.8283,-83.109,-83.2974, -83.5788,-83.7684,-83.957,-84.1476, -84.3369,-84.6231,-84.718,-84.7541, -84.6332,-84.5583,-84.4372,-84.3168, -84.214,-84.1152,-84.0115,-83.9031, -83.7918,-83.6183,-83.4978,-83.4826, -83.4765,-83.3292,-83.1808,-83.0301, -82.8775,-82.7243,-82.4907,-82.3347, -82.1771,-81.9406,-81.7811,-81.6216, -81.3799,-81.2191,-81.0566,-80.895, -80.7319,-80.5656,-80.3172,-80.1526, -79.9894,-79.8291,-79.6665,-79.5024, -79.3382,-79.1762,-79.0131,-78.8496, -78.5261,-78.2025,-77.8791,-77.5578, -77.1574,-76.8406,-76.5231,-76.1279, -75.7337,-75.5034,-75.4255,-75.4821)
FOOTPRINT_POINT_LONGITUDE = (88.5954,87.7276,86.6507,85.5619,84.394 ,82.6563,81.3173,81.2463,81.0362, 81.1371,81.2808,81.3942,81.5621,81.821, 81.9509,82.1452,82.3513,82.5755,82.8153 ,82.9423,83.0733,83.209,83.3505,83.4982 ,83.6514,83.8109,84.0626,84.2395, 84.4233,84.7208,84.9286,85.2611,85.4956 ,85.7448,86.1398,86.4223,86.7177, 87.0322,87.5357,87.8986,88.4774,88.8989 ,89.3447,89.8276,90.3374,91.1839, 91.4841,91.6012,94.8869,96.7278,99.396, 101.739,103.594,105.167,106.681,108.138 ,109.546,111.564,112.846,113.003, 113.046,111.901,110.811,109.774,108.782 ,107.842,106.506,105.67,104.868,103.737 ,103.02,102.337,101.362,100.748,100.155 ,99.5904,99.045,98.5186,97.7689,97.2936 ,96.8385,96.4006,95.9789,95.5704, 95.1746,94.7969,94.4298,94.0742,93.4023 ,92.7727,92.1812,91.6279,90.9817, 90.4977,90.0422,89.5076,89.0075,88.7246 ,88.6322,88.5954)
ORBIT_NUMBER = 6907
ORBITAL_ECCENTRICITY = 0.576
ORBITAL_INCLINATION = 86.78
ORBITAL_SEMIMAJOR_AXIS = 8725.72
PERIAPSIS_ALTITUDE = 313.1
PERIAPSIS_ARGUMENT_ANGLE = 226.1
PERIAPSIS_TIME = 2009-05-21T06:16:31.000Z
SPACECRAFT_ORIENTATION = (0.0,-1.0,0.0)
^MEX_ORIENTATION_DESC = "MEX_ORIENTATION_DESC.TXT"
SPACECRAFT_POINTING_MODE = ACROSSTRACK
^MEX_POINTING_DESC = "MEX_POINTING_DESC.TXT"
RIGHT_ASCENSION = -1e+32
DECLINATION = -1e+32
OFFSET_ANGLE = -0.2
SPACECRAFT_SOLAR_DISTANCE = 2.07601e+08
TARGET_NAME = MARS
/* CAMERA DATA ELEMENTS */
DETECTOR_TEMPERATURE = 18.7783
FOCAL_PLANE_TEMPERATURE = 8.7872
INST_CMPRS_NAME = "DISCRETE COSINE TRANSFORMATION (DCT)"
INST_CMPRS_RATIO = 35.3576
INST_CMPRS_QUALITY = 0
INST_CMPRS_QUANTZ_TBL_ID = 0
INSTRUMENT_TEMPERATURE = 11.4379
LENS_TEMPERATURE = 9.3989
MACROPIXEL_SIZE = 4
MISSING_FRAMES = 0
PIXEL_SUBSAMPLING_FLAG = N
SIGNAL_CHAIN_ID = 2
/* RADIOMETRIC DATA ELEMENTS */
BANDWIDTH = 48.0
CENTER_FILTER_WAVELENGTH = 748.0
RADIANCE_OFFSET = 0.81491
RADIANCE_SCALING_FACTOR = 0.00377273
REFLECTANCE_SCALING_FACTOR = 0.000371057
MEX:REFLECTANCE_OFFSET = 0.0801482
/* IMAGE OBJECT DEFINITIONS */
OBJECT = IMAGE
  INTERCHANGE_FORMAT = BINARY
  LINES = 5506
  LINE_SAMPLES = 2749
  SAMPLE_TYPE = UNSIGNED_INTEGER
  SAMPLE_BITS = 8
  BANDS = 1
  BAND_STORAGE_TYPE = BAND_SEQUENTIAL
  MAXIMUM = 255
  MEAN = 102.829
  MINIMUM = 1
  STANDARD_DEVIATION = 42.8636
END_OBJECT = IMAGE
/* MAP OBJECT DEFINITIONS */
OBJECT = IMAGE_MAP_PROJECTION
  ^DATA_SET_MAP_PROJECTION_CATALOG= "DSMAP.CAT"
  A_AXIS_RADIUS = 3396.0
  B_AXIS_RADIUS = 3396.0
  C_AXIS_RADIUS = 3396.0
  CENTER_LATITUDE = 0.0
  CENTER_LONGITUDE = 90.0
  COORDINATE_SYSTEM_NAME = PLANETOGRAPHIC
  COORDINATE_SYSTEM_TYPE = "BODY-FIXED ROTATING"
  EASTERNMOST_LONGITUDE = 113.046
  FIRST_STANDARD_PARALLEL = "N/A"
  LINE_FIRST_PIXEL = 1
  LINE_LAST_PIXEL = 5506
  LINE_PROJECTION_OFFSET = -44685.875
  MAP_PROJECTION_ROTATION = 0.0
  MAP_PROJECTION_TYPE = SINUSOIDAL
  MAP_RESOLUTION = 592.713803866667
  MAP_SCALE = 0.1
  MAXIMUM_LATITUDE = -75.4255
  MINIMUM_LATITUDE = -84.75409999999999
  POSITIVE_LONGITUDE_DIRECTION = EAST
  REFERENCE_LATITUDE = "N/A"
  REFERENCE_LONGITUDE = "N/A"
  SAMPLE_FIRST_PIXEL = 1
  SAMPLE_LAST_PIXEL = 2749
  SAMPLE_PROJECTION_OFFSET = 1264.125
  SECOND_STANDARD_PARALLEL = "N/A"
  WESTERNMOST_LONGITUDE = 81.03619999999999
END_OBJECT = IMAGE_MAP_PROJECTION
END
