PDS_VERSION_ID = PDS3
/* FILE DATA ELEMENTS */
RECORD_TYPE = UNDEFINED
/* POINTERS TO DATA OBJECTS */
^IMAGE = ("H7150_0000_S14.TIF")
/* IDENTIFICATION DATA ELEMENTS */
DATA_SET_ID = "MEX-M-HRSC-4-REFDR-MAPPROJECT-EXT3-V4.0"
DATA_SET_NAME = "MARS EXPRESS HRSC MAP PROJECTED REFDR EXTENSION3 V4.0"
DETECTOR_ID = MEX_HRSC_S1
EVENT_TYPE = "MARS-REGIONAL-MAPPING-Im-Fl-Gl"
INSTRUMENT_HOST_ID = MEX
INSTRUMENT_HOST_NAME = "MARS EXPRESS"
INSTRUMENT_ID = HRSC
INSTRUMENT_NAME = "HIGH RESOLUTION STEREO CAMERA"
MISSION_NAME = "MARS EXPRESS"
MISSION_PHASE_NAME = ME_Phase_18
PROCESSING_LEVEL_ID = 4
PRODUCT_CREATION_TIME = 2023-02-01T06:41:01.000Z
PRODUCT_ID = "H7150_0000_S14.TIF"
RELEASE_ID = 0001
REVISION_ID = 0000
/* QUALITY DATA ELEMENTS */
DATA_QUALITY_ID = 1
DATA_QUALITY_DESC = "Data calculated based on original SPICE kernels"
/* TIME DATA ELEMENTS */
SPACECRAFT_CLOCK_START_COUNT = "1/0196998380.08226"
SPACECRAFT_CLOCK_STOP_COUNT = "1/0196998606.47590"
START_TIME = 2009-07-30T01:46:22.584Z
STOP_TIME = 2009-07-30T01:48:39.052Z
/* ORBITAL DATA ELEMENTS */
ASCENDING_NODE_LONGITUDE = 81.14
MAXIMUM_RESOLUTION = 0.0309
FOOTPRINT_POINT_LATITUDE = (-19.2342,-19.2336,-19.2331,-19.2325, -19.232,-19.2311,-19.231,-19.2302, -19.6161,-19.9163,-20.094,-20.2755, -20.4564,-20.6378,-20.8189,-20.9996, -21.27,-21.5414,-21.815,-21.9971, -22.3545,-22.6256,-22.8064,-22.987, -23.1667,-23.3472,-23.528,-23.799, -23.9793,-24.2499,-24.4312,-24.6155, -24.7956,-24.9756,-25.3266,-25.5061, -25.7828,-25.9689,-26.1543,-26.3365, -26.6152,-26.8004,-26.9844,-27.1727, -27.369,-27.6485,-27.8382,-28.1261, -28.2254,-28.2577,-28.2498,-28.2462, -28.2469,-28.2471,-28.246,-28.246, -28.2452,-27.9602,-27.7709,-27.4878, -27.2992,-27.111,-26.9243,-26.7401, -26.5555,-26.3711,-26.1869,-26.0027, -25.7282,-25.4577,-25.1801,-24.9984, -24.645,-24.4655,-24.2812,-24.0095, -23.8273,-23.6499,-23.4708,-23.2909, -23.1103,-22.9296,-22.7496,-22.569, -22.3882,-22.207,-22.0259,-21.7552, -21.4844,-21.3037,-21.0332,-20.8527, -20.6718,-20.4897,-20.217,-20.0358, -19.7166,-19.3357,-19.2598,-19.2342)
FOOTPRINT_POINT_LONGITUDE = (55.2805,55.019,54.8098,54.5352,54.3262 ,53.9468,53.9337,53.9299,53.9217, 53.9179,53.9149,53.9118,53.9089,53.9057 ,53.9027,53.8997,53.8954,53.8907, 53.8852,53.8816,53.8766,53.8718,53.8685 ,53.8652,53.8622,53.8589,53.8555, 53.8504,53.847,53.8419,53.8382,53.8333, 53.8299,53.8265,53.8226,53.8192,53.8116 ,53.8073,53.8034,53.8005,53.7942, 53.7902,53.7865,53.7828,53.7764,53.7719 ,53.7676,53.76,53.7568,53.7562,54.1762, 54.4768,54.9441,55.1446,55.4621,55.4788 ,55.4848,55.4758,55.4696,55.4609, 55.4552,55.4499,55.4445,55.4392,55.4338 ,55.4287,55.4236,55.4187,55.4115, 55.4042,55.3946,55.3896,55.3831,55.379, 55.3734,55.3667,55.362,55.359,55.3556, 55.3518,55.348,55.3442,55.3408,55.3371, 55.3335,55.3299,55.3264,55.3215,55.3167 ,55.3136,55.3092,55.3064,55.3034, 55.3001,55.2954,55.2926,55.2879,55.282, 55.2809,55.2805)
ORBIT_NUMBER = 7150
ORBITAL_ECCENTRICITY = 0.576
ORBITAL_INCLINATION = 86.8
ORBITAL_SEMIMAJOR_AXIS = 8778.74
PERIAPSIS_ALTITUDE = 327.19
PERIAPSIS_ARGUMENT_ANGLE = 183.94
PERIAPSIS_TIME = 2009-07-30T01:42:59.000Z
SPACECRAFT_ORIENTATION = (0.0,-1.0,0.0)
^MEX_ORIENTATION_DESC = "MEX_ORIENTATION_DESC.TXT"
SPACECRAFT_POINTING_MODE = NADIR
^MEX_POINTING_DESC = "MEX_POINTING_DESC.TXT"
RIGHT_ASCENSION = -1e+32
DECLINATION = -1e+32
OFFSET_ANGLE = -1e+32
SPACECRAFT_SOLAR_DISTANCE = 2.16249e+08
TARGET_NAME = MARS
/* CAMERA DATA ELEMENTS */
DETECTOR_TEMPERATURE = 18.1666
FOCAL_PLANE_TEMPERATURE = 8.5833
INST_CMPRS_NAME = "DISCRETE COSINE TRANSFORMATION (DCT)"
INST_CMPRS_RATIO = 9.14995
INST_CMPRS_QUALITY = 0
INST_CMPRS_QUANTZ_TBL_ID = 0
INSTRUMENT_TEMPERATURE = 11.0301
LENS_TEMPERATURE = 24.8953
MACROPIXEL_SIZE = 2
MISSING_FRAMES = 0
PIXEL_SUBSAMPLING_FLAG = N
SIGNAL_CHAIN_ID = 1
/* RADIOMETRIC DATA ELEMENTS */
BANDWIDTH = 180.0
CENTER_FILTER_WAVELENGTH = 677.0
RADIANCE_OFFSET = 1.86103
RADIANCE_SCALING_FACTOR = 0.00620886
REFLECTANCE_SCALING_FACTOR = 0.000151483
MEX:REFLECTANCE_OFFSET = 0.0454051
/* IMAGE OBJECT DEFINITIONS */
OBJECT = IMAGE
  INTERCHANGE_FORMAT = BINARY
  LINES = 21335
  LINE_SAMPLES = 3800
  SAMPLE_TYPE = UNSIGNED_INTEGER
  SAMPLE_BITS = 8
  BANDS = 1
  BAND_STORAGE_TYPE = BAND_SEQUENTIAL
  MAXIMUM = 255
  MEAN = 98.8625
  MINIMUM = 1
  STANDARD_DEVIATION = 33.2379
END_OBJECT = IMAGE
/* MAP OBJECT DEFINITIONS */
OBJECT = IMAGE_MAP_PROJECTION
  ^DATA_SET_MAP_PROJECTION_CATALOG= "DSMAP.CAT"
  A_AXIS_RADIUS = 3396.0
  B_AXIS_RADIUS = 3396.0
  C_AXIS_RADIUS = 3396.0
  CENTER_LATITUDE = 0.0
  CENTER_LONGITUDE = 55.0
  COORDINATE_SYSTEM_NAME = PLANETOGRAPHIC
  COORDINATE_SYSTEM_TYPE = "BODY-FIXED ROTATING"
  EASTERNMOST_LONGITUDE = 55.4848
  FIRST_STANDARD_PARALLEL = "N/A"
  LINE_FIRST_PIXEL = 1
  LINE_LAST_PIXEL = 21335
  LINE_PROJECTION_OFFSET = -45626.25
  MAP_PROJECTION_ROTATION = 0.0
  MAP_PROJECTION_TYPE = SINUSOIDAL
  MAP_RESOLUTION = 2370.85521546667
  MAP_SCALE = 0.025
  MAXIMUM_LATITUDE = -19.2302
  MINIMUM_LATITUDE = -28.2577
  POSITIVE_LONGITUDE_DIRECTION = EAST
  REFERENCE_LATITUDE = "N/A"
  REFERENCE_LONGITUDE = "N/A"
  SAMPLE_FIRST_PIXEL = 1
  SAMPLE_LAST_PIXEL = 3800
  SAMPLE_PROJECTION_OFFSET = 2691.75
  SECOND_STANDARD_PARALLEL = "N/A"
  WESTERNMOST_LONGITUDE = 53.7562
END_OBJECT = IMAGE_MAP_PROJECTION
END
