PDS_VERSION_ID = PDS3
/* FILE DATA ELEMENTS */
RECORD_TYPE = UNDEFINED
/* POINTERS TO DATA OBJECTS */
^IMAGE = ("H7227_0000_RE4.TIF")
/* IDENTIFICATION DATA ELEMENTS */
DATA_SET_ID = "MEX-M-HRSC-4-REFDR-MAPPROJECT-EXT3-V4.0"
DATA_SET_NAME = "MARS EXPRESS HRSC MAP PROJECTED REFDR EXTENSION3 V4.0"
DETECTOR_ID = MEX_HRSC_RED
EVENT_TYPE = "MARS-REGIONAL-MAPPING-Vo-Fl"
INSTRUMENT_HOST_ID = MEX
INSTRUMENT_HOST_NAME = "MARS EXPRESS"
INSTRUMENT_ID = HRSC
INSTRUMENT_NAME = "HIGH RESOLUTION STEREO CAMERA"
MISSION_NAME = "MARS EXPRESS"
MISSION_PHASE_NAME = ME_Phase_18
PROCESSING_LEVEL_ID = 4
PRODUCT_CREATION_TIME = 2023-02-01T22:33:16.000Z
PRODUCT_ID = "H7227_0000_RE4.TIF"
RELEASE_ID = 0002
REVISION_ID = 0000
/* QUALITY DATA ELEMENTS */
DATA_QUALITY_ID = 1
DATA_QUALITY_DESC = "Data calculated based on original SPICE kernels"
/* TIME DATA ELEMENTS */
SPACECRAFT_CLOCK_START_COUNT = "1/0198909418.09059"
SPACECRAFT_CLOCK_STOP_COUNT = "1/0198909646.63825"
START_TIME = 2009-08-21T04:37:56.333Z
STOP_TIME = 2009-08-21T04:40:40.885Z
/* ORBITAL DATA ELEMENTS */
ASCENDING_NODE_LONGITUDE = 79.63
MAXIMUM_RESOLUTION = 0.058
FOOTPRINT_POINT_LATITUDE = (4.96598,4.96741,4.96993,4.9737,4.9738, 4.99295,4.69794,4.40317,4.20699,4.01091 ,3.81499,3.61921,3.4236,3.22817,3.03287 ,2.83775,2.64259,2.44758,2.2525,2.05823 ,1.76683,1.4756,1.2815,1.08732,0.893529 ,0.604714,0.411785,0.218448,0.024632, -0.168173,-0.360669,-0.744726,-1.12626, -1.63488,-1.86288,-2.09046,-2.31776, -2.54498,-2.77211,-2.99856,-3.22472, -3.45049,-3.67598,-3.91668,-4.14139, -4.36828,-4.59493,-4.92887,-5.15497, -5.26621,-5.31775,-5.32183,-5.32459, -5.32706,-5.32888,-5.32891,-5.32796, -5.10404,-4.76716,-4.42825,-4.20365, -3.97866,-3.62535,-3.39944,-3.17354, -2.94715,-2.60871,-2.37996,-2.15461, -1.92839,-1.70193,-1.37718,-0.994105, -0.418903,-0.0347,0.15783,0.352132, 0.546901,0.838525,1.03288,1.22698, 1.42081,1.61484,1.80898,2.10049,2.29488 ,2.58725,2.78242,2.97769,3.17313, 3.36861,3.56431,3.76017,3.95616,4.15229 ,4.44695,4.64337,4.84009,4.93838, 4.96598)
FOOTPRINT_POINT_LONGITUDE = (211.11,210.806,210.391,209.919,209.908 ,209.898,209.895,209.892,209.89,209.888 ,209.886,209.884,209.882,209.879, 209.877,209.875,209.872,209.87,209.867, 209.865,209.861,209.857,209.854,209.852 ,209.849,209.844,209.841,209.839, 209.836,209.833,209.83,209.824,209.817, 209.808,209.804,209.8,209.796,209.792, 209.788,209.783,209.779,209.775,209.77, 209.765,209.761,209.757,209.753,209.745 ,209.742,209.739,209.738,210.01,210.4, 210.673,211.115,211.128,211.132,211.131 ,211.129,211.128,211.127,211.126, 211.124,211.123,211.122,211.121,211.119 ,211.119,211.117,211.116,211.115, 211.114,211.113,211.111,211.11,211.11, 211.11,211.111,211.111,211.111,211.111, 211.111,211.111,211.111,211.111,211.111 ,211.112,211.112,211.112,211.112, 211.113,211.113,211.113,211.114,211.114 ,211.115,211.115,211.116,211.116, 211.11)
ORBIT_NUMBER = 7227
ORBITAL_ECCENTRICITY = 0.575
ORBITAL_INCLINATION = 86.8
ORBITAL_SEMIMAJOR_AXIS = 8772.59
PERIAPSIS_ALTITUDE = 334.97
PERIAPSIS_ARGUMENT_ANGLE = 170.45
PERIAPSIS_TIME = 2009-08-21T04:36:20.000Z
SPACECRAFT_ORIENTATION = (0.0,-1.0,0.0)
^MEX_ORIENTATION_DESC = "MEX_ORIENTATION_DESC.TXT"
SPACECRAFT_POINTING_MODE = NADIR
^MEX_POINTING_DESC = "MEX_POINTING_DESC.TXT"
RIGHT_ASCENSION = -1e+32
DECLINATION = -1e+32
OFFSET_ANGLE = -1e+32
SPACECRAFT_SOLAR_DISTANCE = 2.20241e+08
TARGET_NAME = MARS
/* CAMERA DATA ELEMENTS */
DETECTOR_TEMPERATURE = 18.5744
FOCAL_PLANE_TEMPERATURE = 8.9911
INST_CMPRS_NAME = "DISCRETE COSINE TRANSFORMATION (DCT)"
INST_CMPRS_RATIO = 12.1132
INST_CMPRS_QUALITY = 0
INST_CMPRS_QUANTZ_TBL_ID = 0
INSTRUMENT_TEMPERATURE = 11.234
LENS_TEMPERATURE = 9.3989
MACROPIXEL_SIZE = 4
PIXEL_SUBSAMPLING_FLAG = N
SIGNAL_CHAIN_ID = 2
/* RADIOMETRIC DATA ELEMENTS */
BANDWIDTH = 48.0
CENTER_FILTER_WAVELENGTH = 748.0
RADIANCE_OFFSET = 1.07224
RADIANCE_SCALING_FACTOR = 0.0030339
REFLECTANCE_SCALING_FACTOR = 0.000335833
MEX:REFLECTANCE_OFFSET = 0.11869
/* IMAGE OBJECT DEFINITIONS */
OBJECT = IMAGE
  INTERCHANGE_FORMAT = BINARY
  LINES = 12228
  LINE_SAMPLES = 1590
  SAMPLE_TYPE = UNSIGNED_INTEGER
  SAMPLE_BITS = 8
  BANDS = 1
  BAND_STORAGE_TYPE = BAND_SEQUENTIAL
  MAXIMUM = 255
  MEAN = 108.258
  MINIMUM = 1
  STANDARD_DEVIATION = 22.4626
END_OBJECT = IMAGE
/* MAP OBJECT DEFINITIONS */
OBJECT = IMAGE_MAP_PROJECTION
  ^DATA_SET_MAP_PROJECTION_CATALOG= "DSMAP.CAT"
  A_AXIS_RADIUS = 3396.0
  B_AXIS_RADIUS = 3396.0
  C_AXIS_RADIUS = 3396.0
  CENTER_LATITUDE = 0.0
  CENTER_LONGITUDE = 210.0
  COORDINATE_SYSTEM_NAME = PLANETOGRAPHIC
  COORDINATE_SYSTEM_TYPE = "BODY-FIXED ROTATING"
  EASTERNMOST_LONGITUDE = 211.132
  FIRST_STANDARD_PARALLEL = "N/A"
  LINE_FIRST_PIXEL = 1
  LINE_LAST_PIXEL = 12228
  LINE_PROJECTION_OFFSET = 5905.375
  MAP_PROJECTION_ROTATION = 0.0
  MAP_PROJECTION_TYPE = SINUSOIDAL
  MAP_RESOLUTION = 1185.42760773333
  MAP_SCALE = 0.05
  MAXIMUM_LATITUDE = 4.99295
  MINIMUM_LATITUDE = -5.32891
  POSITIVE_LONGITUDE_DIRECTION = EAST
  REFERENCE_LATITUDE = "N/A"
  REFERENCE_LONGITUDE = "N/A"
  SAMPLE_FIRST_PIXEL = 1
  SAMPLE_LAST_PIXEL = 1590
  SAMPLE_PROJECTION_OFFSET = 280.625
  SECOND_STANDARD_PARALLEL = "N/A"
  WESTERNMOST_LONGITUDE = 209.738
END_OBJECT = IMAGE_MAP_PROJECTION
END
