PDS_VERSION_ID = PDS3
/* FILE DATA ELEMENTS */
RECORD_TYPE = UNDEFINED
/* POINTERS TO DATA OBJECTS */
^IMAGE = ("H7269_0000_RE4.TIF")
/* IDENTIFICATION DATA ELEMENTS */
DATA_SET_ID = "MEX-M-HRSC-4-REFDR-MAPPROJECT-EXT3-V4.0"
DATA_SET_NAME = "MARS EXPRESS HRSC MAP PROJECTED REFDR EXTENSION3 V4.0"
DETECTOR_ID = MEX_HRSC_RED
EVENT_TYPE = "MARS-REGIONAL-MAPPING-Vo-Te"
INSTRUMENT_HOST_ID = MEX
INSTRUMENT_HOST_NAME = "MARS EXPRESS"
INSTRUMENT_ID = HRSC
INSTRUMENT_NAME = "HIGH RESOLUTION STEREO CAMERA"
MISSION_NAME = "MARS EXPRESS"
MISSION_PHASE_NAME = ME_Phase_18
PROCESSING_LEVEL_ID = 4
PRODUCT_CREATION_TIME = 2023-02-01T22:33:16.000Z
PRODUCT_ID = "H7269_0000_RE4.TIF"
RELEASE_ID = 0002
REVISION_ID = 0000
/* QUALITY DATA ELEMENTS */
DATA_QUALITY_ID = 1
DATA_QUALITY_DESC = "Data calculated based on original SPICE kernels"
/* TIME DATA ELEMENTS */
SPACECRAFT_CLOCK_START_COUNT = "1/0199951800.08239"
SPACECRAFT_CLOCK_STOP_COUNT = "1/0199952172.65395"
START_TIME = 2009-09-02T06:10:59.731Z
STOP_TIME = 2009-09-02T06:16:06.824Z
/* ORBITAL DATA ELEMENTS */
ASCENDING_NODE_LONGITUDE = 78.79
MAXIMUM_RESOLUTION = 0.1139
FOOTPRINT_POINT_LATITUDE = (20.9925,20.9939,20.9952,20.9952, 21.0083,20.6241,20.2403,19.8568,19.4739 ,19.0906,18.5169,18.1345,17.7526, 17.3708,16.9894,16.6084,16.2277,15.8469 ,15.4672,15.0877,14.5191,14.14,13.5738, 13.1963,12.8188,12.4424,12.0663,11.6912 ,11.3164,10.7547,10.1943,9.8213,9.44937 ,8.70684,7.96673,7.22904,6.49389,6.0861 ,5.64962,5.21417,4.77939,4.34547, 3.91282,3.48099,3.05029,2.62062,2.19229 ,1.76563,1.55271,1.5028,1.49756,1.4931, 1.48814,1.48804,1.48989,1.91609,2.34413 ,2.77287,3.203,3.63427,4.06666,4.50025, 4.93469,5.37033,5.80645,6.44093,7.1764, 7.91416,8.65473,9.39773,9.77005,10.1428 ,10.5164,10.89,11.4525,11.8276,12.2036, 12.5804,12.9573,13.3344,13.7122,14.0905 ,14.4699,14.849,15.2285,15.6082,16.179, 16.5596,16.9409,17.3227,17.7045,18.2784 ,18.8524,19.2354,19.619,20.0025,20.3862 ,20.7704,20.9625,20.9925)
FOOTPRINT_POINT_LONGITUDE = (295.924,295.367,294.679,294.667, 294.655,294.658,294.661,294.664,294.666 ,294.668,294.67,294.672,294.673,294.674 ,294.674,294.675,294.675,294.675, 294.675,294.674,294.673,294.672,294.67, 294.668,294.667,294.665,294.663,294.66, 294.657,294.653,294.648,294.645,294.641 ,294.634,294.625,294.616,294.606,294.6, 294.594,294.587,294.58,294.573,294.566, 294.558,294.55,294.542,294.534,294.525, 294.521,294.52,294.91,295.353,295.887, 295.9,295.909,295.907,295.906,295.904, 295.903,295.902,295.9,295.9,295.899, 295.898,295.897,295.897,295.896,295.896 ,295.896,295.896,295.896,295.896, 295.897,295.897,295.898,295.898,295.899 ,295.9,295.901,295.902,295.902,295.903, 295.905,295.906,295.907,295.908,295.91, 295.911,295.912,295.914,295.915,295.917 ,295.92,295.921,295.923,295.925,295.926 ,295.928,295.929,295.924)
ORBIT_NUMBER = 7269
ORBITAL_ECCENTRICITY = 0.574
ORBITAL_INCLINATION = 86.8
ORBITAL_SEMIMAJOR_AXIS = 8768.14
PERIAPSIS_ALTITUDE = 339.33
PERIAPSIS_ARGUMENT_ANGLE = 163.13
PERIAPSIS_TIME = 2009-09-02T06:11:38.000Z
SPACECRAFT_ORIENTATION = (0.0,-1.0,0.0)
^MEX_ORIENTATION_DESC = "MEX_ORIENTATION_DESC.TXT"
SPACECRAFT_POINTING_MODE = ACROSSTRACK
^MEX_POINTING_DESC = "MEX_POINTING_DESC.TXT"
RIGHT_ASCENSION = -1e+32
DECLINATION = -1e+32
OFFSET_ANGLE = -0.05
SPACECRAFT_SOLAR_DISTANCE = 2.22541e+08
TARGET_NAME = MARS
/* CAMERA DATA ELEMENTS */
DETECTOR_TEMPERATURE = 18.5744
FOCAL_PLANE_TEMPERATURE = 8.3794
INST_CMPRS_NAME = "DISCRETE COSINE TRANSFORMATION (DCT)"
INST_CMPRS_RATIO = 18.5558
INST_CMPRS_QUALITY = 0
INST_CMPRS_QUANTZ_TBL_ID = 0
INSTRUMENT_TEMPERATURE = 11.234
LENS_TEMPERATURE = 8.7872
MACROPIXEL_SIZE = 8
MISSING_FRAMES = 0
PIXEL_SUBSAMPLING_FLAG = N
SIGNAL_CHAIN_ID = 2
/* RADIOMETRIC DATA ELEMENTS */
BANDWIDTH = 48.0
CENTER_FILTER_WAVELENGTH = 748.0
RADIANCE_OFFSET = 0.968218
RADIANCE_SCALING_FACTOR = 0.00474617
REFLECTANCE_SCALING_FACTOR = 0.000536398
MEX:REFLECTANCE_OFFSET = 0.109425
/* IMAGE OBJECT DEFINITIONS */
OBJECT = IMAGE
  INTERCHANGE_FORMAT = BINARY
  LINES = 11573
  LINE_SAMPLES = 800
  SAMPLE_TYPE = UNSIGNED_INTEGER
  SAMPLE_BITS = 8
  BANDS = 1
  BAND_STORAGE_TYPE = BAND_SEQUENTIAL
  MAXIMUM = 255
  MEAN = 92.9225
  MINIMUM = 1
  STANDARD_DEVIATION = 22.2378
END_OBJECT = IMAGE
/* MAP OBJECT DEFINITIONS */
OBJECT = IMAGE_MAP_PROJECTION
  ^DATA_SET_MAP_PROJECTION_CATALOG= "DSMAP.CAT"
  A_AXIS_RADIUS = 3396.0
  B_AXIS_RADIUS = 3396.0
  C_AXIS_RADIUS = 3396.0
  CENTER_LATITUDE = 0.0
  CENTER_LONGITUDE = 295.0
  COORDINATE_SYSTEM_NAME = PLANETOGRAPHIC
  COORDINATE_SYSTEM_TYPE = "BODY-FIXED ROTATING"
  EASTERNMOST_LONGITUDE = 295.929
  FIRST_STANDARD_PARALLEL = "N/A"
  LINE_FIRST_PIXEL = 1
  LINE_LAST_PIXEL = 11573
  LINE_PROJECTION_OFFSET = 12466.3125
  MAP_PROJECTION_ROTATION = 0.0
  MAP_PROJECTION_TYPE = SINUSOIDAL
  MAP_RESOLUTION = 592.713803866667
  MAP_SCALE = 0.1
  MAXIMUM_LATITUDE = 21.0083
  MINIMUM_LATITUDE = 1.48804
  POSITIVE_LONGITUDE_DIRECTION = EAST
  REFERENCE_LATITUDE = "N/A"
  REFERENCE_LONGITUDE = "N/A"
  SAMPLE_FIRST_PIXEL = 1
  SAMPLE_LAST_PIXEL = 800
  SAMPLE_PROJECTION_OFFSET = 275.0625
  SECOND_STANDARD_PARALLEL = "N/A"
  WESTERNMOST_LONGITUDE = 294.52
END_OBJECT = IMAGE_MAP_PROJECTION
END
