PDS_VERSION_ID = PDS3
/* FILE DATA ELEMENTS */
RECORD_TYPE = UNDEFINED
/* POINTERS TO DATA OBJECTS */
^IMAGE = ("H7288_0000_ND4.TIF")
/* IDENTIFICATION DATA ELEMENTS */
DATA_SET_ID = "MEX-M-HRSC-4-REFDR-MAPPROJECT-EXT3-V4.0"
DATA_SET_NAME = "MARS EXPRESS HRSC MAP PROJECTED REFDR EXTENSION3 V4.0"
DETECTOR_ID = MEX_HRSC_NADIR
EVENT_TYPE = "MARS-REGIONAL-MAPPING-Vo-Te-Eo"
INSTRUMENT_HOST_ID = MEX
INSTRUMENT_HOST_NAME = "MARS EXPRESS"
INSTRUMENT_ID = HRSC
INSTRUMENT_NAME = "HIGH RESOLUTION STEREO CAMERA"
MISSION_NAME = "MARS EXPRESS"
MISSION_PHASE_NAME = ME_Phase_18
PROCESSING_LEVEL_ID = 4
PRODUCT_CREATION_TIME = 2023-02-01T22:33:16.000Z
PRODUCT_ID = "H7288_0000_ND4.TIF"
RELEASE_ID = 0002
REVISION_ID = 0000
/* QUALITY DATA ELEMENTS */
DATA_QUALITY_ID = 1
DATA_QUALITY_DESC = "Data calculated based on original SPICE kernels"
/* TIME DATA ELEMENTS */
SPACECRAFT_CLOCK_START_COUNT = "1/0200423736.08252"
SPACECRAFT_CLOCK_STOP_COUNT = "1/0200424126.53020"
START_TIME = 2009-09-07T17:16:13.592Z
STOP_TIME = 2009-09-07T17:21:00.578Z
/* ORBITAL DATA ELEMENTS */
ASCENDING_NODE_LONGITUDE = 78.42
MAXIMUM_RESOLUTION = 0.016
FOOTPRINT_POINT_LATITUDE = (3.94575,3.94972,3.95356,3.95706, 3.95716,3.95745,3.19399,2.58481,1.97712 ,1.5139,1.20303,0.892542,0.423435, 0.105906,-0.211171,-0.527769,-1.01247, -1.33596,-1.65895,-1.9893,-2.31927, -2.64868,-2.98397,-3.32024,-3.65595, -3.99851,-4.51185,-5.03346,-5.3818, -5.91222,-6.26665,-6.80647,-7.16679, -7.534,-7.90049,-8.27225,-8.64475, -9.02225,-9.40063,-9.78407,-10.3634, -10.7536,-11.148,-11.7445,-12.1461, -12.5528,-13.1683,-13.3746,-13.3793, -13.3857,-13.3926,-13.3988,-13.4029, -13.4031,-13.4028,-12.9897,-12.5804, -12.1734,-11.7716,-11.1746,-10.7798, -10.3893,-9.80958,-9.42584,-9.04722, -8.66941,-8.29664,-7.92449,-7.55775, -7.19022,-6.82963,-6.2894,-5.93475, -5.40385,-5.05527,-4.53323,-4.0195, -3.67664,-3.34071,-3.00419,-2.66858, -2.33891,-2.00869,-1.67799,-1.35479, -1.03106,-0.545956,-0.229118,0.0881903, 0.405926,0.720277,1.03076,1.34165, 1.65295,1.96089,2.56903,3.17862,3.78965 ,3.94263,3.94575)
FOOTPRINT_POINT_LONGITUDE = (180.004,179.554,179.091,178.641, 178.627,178.613,178.598,178.585,178.572 ,178.562,178.555,178.548,178.537, 178.529,178.521,178.513,178.501,178.493 ,178.484,178.475,178.466,178.457, 178.447,178.437,178.428,178.418,178.402 ,178.386,178.375,178.358,178.347, 178.329,178.317,178.305,178.292,178.278 ,178.265,178.251,178.237,178.223,178.2, 178.185,178.169,178.144,178.128,178.11, 178.083,178.075,178.074,178.512,179.05, 179.652,180.148,180.169,180.179,180.171 ,180.165,180.157,180.151,180.139, 180.133,180.128,180.118,180.112,180.107 ,180.102,180.097,180.093,180.089, 180.084,180.081,180.074,180.07,180.066, 180.063,180.057,180.053,180.05,180.047, 180.045,180.042,180.04,180.038,180.036, 180.034,180.032,180.029,180.028,180.026 ,180.024,180.023,180.022,180.02,180.019 ,180.018,180.016,180.014,180.012, 180.012,180.004)
ORBIT_NUMBER = 7288
ORBITAL_ECCENTRICITY = 0.573
ORBITAL_INCLINATION = 86.81
ORBITAL_SEMIMAJOR_AXIS = 8757.44
PERIAPSIS_ALTITUDE = 341.78
PERIAPSIS_ARGUMENT_ANGLE = 159.79
PERIAPSIS_TIME = 2009-09-07T17:12:01.000Z
SPACECRAFT_ORIENTATION = (0.0,-1.0,0.0)
^MEX_ORIENTATION_DESC = "MEX_ORIENTATION_DESC.TXT"
SPACECRAFT_POINTING_MODE = NADIR
^MEX_POINTING_DESC = "MEX_POINTING_DESC.TXT"
RIGHT_ASCENSION = -1e+32
DECLINATION = -1e+32
OFFSET_ANGLE = -1e+32
SPACECRAFT_SOLAR_DISTANCE = 2.23598e+08
TARGET_NAME = MARS
/* CAMERA DATA ELEMENTS */
DETECTOR_TEMPERATURE = 18.3705
FOCAL_PLANE_TEMPERATURE = 9.8067
INST_CMPRS_NAME = "DISCRETE COSINE TRANSFORMATION (DCT)"
INST_CMPRS_RATIO = 7.84983
INST_CMPRS_QUALITY = 0
INST_CMPRS_QUANTZ_TBL_ID = 0
INSTRUMENT_TEMPERATURE = 11.234
LENS_TEMPERATURE = 9.3989
MACROPIXEL_SIZE = 1
MISSING_FRAMES = 0
PIXEL_SUBSAMPLING_FLAG = N
SIGNAL_CHAIN_ID = 0
/* RADIOMETRIC DATA ELEMENTS */
BANDWIDTH = 177.0
CENTER_FILTER_WAVELENGTH = 677.5
RADIANCE_OFFSET = 6.12797
RADIANCE_SCALING_FACTOR = 0.0092213
REFLECTANCE_SCALING_FACTOR = 0.000244914
MEX:REFLECTANCE_OFFSET = 0.162757
/* IMAGE OBJECT DEFINITIONS */
OBJECT = IMAGE
  INTERCHANGE_FORMAT = BINARY
  LINES = 82320
  LINE_SAMPLES = 9703
  SAMPLE_TYPE = UNSIGNED_INTEGER
  SAMPLE_BITS = 8
  BANDS = 1
  BAND_STORAGE_TYPE = BAND_SEQUENTIAL
  MAXIMUM = 254
  MEAN = 130.846
  MINIMUM = 1
  STANDARD_DEVIATION = 31.5376
END_OBJECT = IMAGE
/* MAP OBJECT DEFINITIONS */
OBJECT = IMAGE_MAP_PROJECTION
  ^DATA_SET_MAP_PROJECTION_CATALOG= "DSMAP.CAT"
  A_AXIS_RADIUS = 3396.0
  B_AXIS_RADIUS = 3396.0
  C_AXIS_RADIUS = 3396.0
  CENTER_LATITUDE = 0.0
  CENTER_LONGITUDE = 179.0
  COORDINATE_SYSTEM_NAME = PLANETOGRAPHIC
  COORDINATE_SYSTEM_TYPE = "BODY-FIXED ROTATING"
  EASTERNMOST_LONGITUDE = 180.179
  FIRST_STANDARD_PARALLEL = "N/A"
  LINE_FIRST_PIXEL = 1
  LINE_LAST_PIXEL = 82320
  LINE_PROJECTION_OFFSET = 18766.0
  MAP_PROJECTION_ROTATION = 0.0
  MAP_PROJECTION_TYPE = SINUSOIDAL
  MAP_RESOLUTION = 4741.71043093333
  MAP_SCALE = 0.0125
  MAXIMUM_LATITUDE = 3.95745
  MINIMUM_LATITUDE = -13.4031
  POSITIVE_LONGITUDE_DIRECTION = EAST
  REFERENCE_LATITUDE = "N/A"
  REFERENCE_LONGITUDE = "N/A"
  SAMPLE_FIRST_PIXEL = 1
  SAMPLE_LAST_PIXEL = 9703
  SAMPLE_PROJECTION_OFFSET = 4265.0
  SECOND_STANDARD_PARALLEL = "N/A"
  WESTERNMOST_LONGITUDE = 178.074
END_OBJECT = IMAGE_MAP_PROJECTION
END
