PDS_VERSION_ID = PDS3
/* FILE DATA ELEMENTS */
RECORD_TYPE = UNDEFINED
/* POINTERS TO DATA OBJECTS */
^IMAGE = ("H7299_0000_ND4.TIF")
/* IDENTIFICATION DATA ELEMENTS */
DATA_SET_ID = "MEX-M-HRSC-4-REFDR-MAPPROJECT-EXT3-V4.0"
DATA_SET_NAME = "MARS EXPRESS HRSC MAP PROJECTED REFDR EXTENSION3 V4.0"
DETECTOR_ID = MEX_HRSC_NADIR
EVENT_TYPE = "MARS-REGIONAL-MAPPING-Te-Fl-La"
INSTRUMENT_HOST_ID = MEX
INSTRUMENT_HOST_NAME = "MARS EXPRESS"
INSTRUMENT_ID = HRSC
INSTRUMENT_NAME = "HIGH RESOLUTION STEREO CAMERA"
MISSION_NAME = "MARS EXPRESS"
MISSION_PHASE_NAME = ME_Phase_18
PROCESSING_LEVEL_ID = 4
PRODUCT_CREATION_TIME = 2023-02-01T22:33:16.000Z
PRODUCT_ID = "H7299_0000_ND4.TIF"
RELEASE_ID = 0002
REVISION_ID = 0000
/* QUALITY DATA ELEMENTS */
DATA_QUALITY_ID = 1
DATA_QUALITY_DESC = "Data calculated based on original SPICE kernels"
/* TIME DATA ELEMENTS */
SPACECRAFT_CLOCK_START_COUNT = "1/0200696874.09038"
SPACECRAFT_CLOCK_STOP_COUNT = "1/0200697169.41750"
START_TIME = 2009-09-10T21:08:36.243Z
STOP_TIME = 2009-09-10T21:11:44.218Z
/* ORBITAL DATA ELEMENTS */
ASCENDING_NODE_LONGITUDE = 78.2
MAXIMUM_RESOLUTION = 0.0178
FOOTPRINT_POINT_LATITUDE = (0.159258,0.161632,0.164183,0.16674, 0.169316,0.171905,0.175331,0.175495, 0.175724,-0.12759,-0.531272,-1.1476, -1.55896,-2.08249,-2.50153,-2.82081, -3.03442,-3.24781,-3.46092,-3.67861, -3.89596,-4.11304,-4.44058,-4.66181, -4.88272,-5.10329,-5.43963,-5.66429, -5.88863,-6.23006,-6.45832,-6.68627, -6.91791,-7.1499,-7.38158,-7.61591, -7.85141,-8.08679,-8.32426,-8.56346, -8.80223,-9.04331,-9.28598,-9.5282, -9.89702,-10.1428,-10.5159,-10.8901, -11.0167,-11.0188,-11.0244,-11.0293, -11.0335,-11.0367,-11.0418,-11.0476, -11.0478,-11.0476,-10.7958,-10.5463, -10.1727,-9.92653,-9.55718,-9.31469, -9.07177,-8.83039,-8.59133,-8.35197, -8.11414,-7.87865,-7.64265,-7.4081, -7.17619,-6.94395,-6.71208,-6.48387, -6.25533,-5.91339,-5.6888,-5.46388, -5.12711,-4.90623,-4.68506,-4.46358, -4.13565,-3.91828,-3.70064,-3.48274, -3.26939,-3.05577,-2.84192,-2.52226, -2.10281,-1.89273,-1.57868,-1.16688, -0.549835,0.0566635,0.157917,0.159258)
FOOTPRINT_POINT_LONGITUDE = (150.272,150.045,149.803,149.559, 149.314,149.067,148.741,148.726,148.709 ,148.701,148.69,148.673,148.661,148.646 ,148.634,148.625,148.618,148.612, 148.606,148.6,148.592,148.584,148.574, 148.566,148.559,148.55,148.538,148.531, 148.523,148.51,148.501,148.493,148.484, 148.476,148.468,148.462,148.451,148.444 ,148.435,148.426,148.416,148.407, 148.398,148.388,148.372,148.362,148.347 ,148.332,148.326,148.326,148.655, 148.961,149.245,149.469,149.853,150.358 ,150.378,150.388,150.383,150.379, 150.374,150.372,150.367,150.364,150.361 ,150.357,150.354,150.35,150.348,150.345 ,150.343,150.341,150.338,150.335, 150.332,150.329,150.327,150.324,150.321 ,150.319,150.316,150.314,150.311, 150.309,150.306,150.305,150.303,150.301 ,150.299,150.297,150.296,150.293, 150.289,150.288,150.286,150.283,150.278 ,150.274,150.274,150.272)
ORBIT_NUMBER = 7299
ORBITAL_ECCENTRICITY = 0.573
ORBITAL_INCLINATION = 86.8
ORBITAL_SEMIMAJOR_AXIS = 8760.34
PERIAPSIS_ALTITUDE = 343.18
PERIAPSIS_ARGUMENT_ANGLE = 157.89
PERIAPSIS_TIME = 2009-09-10T21:02:52.000Z
SPACECRAFT_ORIENTATION = (0.0,-1.0,0.0)
^MEX_ORIENTATION_DESC = "MEX_ORIENTATION_DESC.TXT"
SPACECRAFT_POINTING_MODE = ACROSSTRACK
^MEX_POINTING_DESC = "MEX_POINTING_DESC.TXT"
RIGHT_ASCENSION = -1e+32
DECLINATION = -1e+32
OFFSET_ANGLE = -0.5
SPACECRAFT_SOLAR_DISTANCE = 2.24213e+08
TARGET_NAME = MARS
/* CAMERA DATA ELEMENTS */
DETECTOR_TEMPERATURE = 18.1666
FOCAL_PLANE_TEMPERATURE = 8.9911
INST_CMPRS_NAME = "DISCRETE COSINE TRANSFORMATION (DCT)"
INST_CMPRS_RATIO = 5.53149
INST_CMPRS_QUALITY = 0
INST_CMPRS_QUANTZ_TBL_ID = 0
INSTRUMENT_TEMPERATURE = 11.4379
LENS_TEMPERATURE = 8.9911
MACROPIXEL_SIZE = 1
MISSING_FRAMES = 0
PIXEL_SUBSAMPLING_FLAG = N
SIGNAL_CHAIN_ID = 0
/* RADIOMETRIC DATA ELEMENTS */
BANDWIDTH = 177.0
CENTER_FILTER_WAVELENGTH = 677.5
RADIANCE_OFFSET = 4.57241
RADIANCE_SCALING_FACTOR = 0.0143086
REFLECTANCE_SCALING_FACTOR = 0.000382125
MEX:REFLECTANCE_OFFSET = 0.122111
/* IMAGE OBJECT DEFINITIONS */
OBJECT = IMAGE
  INTERCHANGE_FORMAT = BINARY
  LINES = 53220
  LINE_SAMPLES = 9591
  SAMPLE_TYPE = UNSIGNED_INTEGER
  SAMPLE_BITS = 8
  BANDS = 1
  BAND_STORAGE_TYPE = BAND_SEQUENTIAL
  MAXIMUM = 255
  MEAN = 159.178
  MINIMUM = 1
  STANDARD_DEVIATION = 26.1757
END_OBJECT = IMAGE
/* MAP OBJECT DEFINITIONS */
OBJECT = IMAGE_MAP_PROJECTION
  ^DATA_SET_MAP_PROJECTION_CATALOG= "DSMAP.CAT"
  A_AXIS_RADIUS = 3396.0
  B_AXIS_RADIUS = 3396.0
  C_AXIS_RADIUS = 3396.0
  CENTER_LATITUDE = 0.0
  CENTER_LONGITUDE = 149.0
  COORDINATE_SYSTEM_NAME = PLANETOGRAPHIC
  COORDINATE_SYSTEM_TYPE = "BODY-FIXED ROTATING"
  EASTERNMOST_LONGITUDE = 150.388
  FIRST_STANDARD_PARALLEL = "N/A"
  LINE_FIRST_PIXEL = 1
  LINE_LAST_PIXEL = 53220
  LINE_PROJECTION_OFFSET = 842.0
  MAP_PROJECTION_ROTATION = 0.0
  MAP_PROJECTION_TYPE = SINUSOIDAL
  MAP_RESOLUTION = 4741.71043093333
  MAP_SCALE = 0.0125
  MAXIMUM_LATITUDE = 0.175724
  MINIMUM_LATITUDE = -11.0478
  POSITIVE_LONGITUDE_DIRECTION = EAST
  REFERENCE_LATITUDE = "N/A"
  REFERENCE_LONGITUDE = "N/A"
  SAMPLE_FIRST_PIXEL = 1
  SAMPLE_LAST_PIXEL = 9591
  SAMPLE_PROJECTION_OFFSET = 3135.0
  SECOND_STANDARD_PARALLEL = "N/A"
  WESTERNMOST_LONGITUDE = 148.326
END_OBJECT = IMAGE_MAP_PROJECTION
END
