PDS_VERSION_ID = PDS3
/* FILE DATA ELEMENTS */
RECORD_TYPE = UNDEFINED
/* POINTERS TO DATA OBJECTS */
^IMAGE = ("H7345_0000_GR4.TIF")
/* IDENTIFICATION DATA ELEMENTS */
DATA_SET_ID = "MEX-M-HRSC-4-REFDR-MAPPROJECT-EXT3-V4.0"
DATA_SET_NAME = "MARS EXPRESS HRSC MAP PROJECTED REFDR EXTENSION3 V4.0"
DETECTOR_ID = MEX_HRSC_GREEN
EVENT_TYPE = "MARS-REGIONAL-MAPPING-Vo-Te-Pf"
INSTRUMENT_HOST_ID = MEX
INSTRUMENT_HOST_NAME = "MARS EXPRESS"
INSTRUMENT_ID = HRSC
INSTRUMENT_NAME = "HIGH RESOLUTION STEREO CAMERA"
MISSION_NAME = "MARS EXPRESS"
MISSION_PHASE_NAME = ME_Phase_18
PROCESSING_LEVEL_ID = 4
PRODUCT_CREATION_TIME = 2023-02-01T22:33:16.000Z
PRODUCT_ID = "H7345_0000_GR4.TIF"
RELEASE_ID = 0002
REVISION_ID = 0000
/* QUALITY DATA ELEMENTS */
DATA_QUALITY_ID = 1
DATA_QUALITY_DESC = "Data calculated based on original SPICE kernels"
/* TIME DATA ELEMENTS */
SPACECRAFT_CLOCK_START_COUNT = "1/0201838521.07283"
SPACECRAFT_CLOCK_STOP_COUNT = "1/0201838910.55143"
START_TIME = 2009-09-24T02:15:50.617Z
STOP_TIME = 2009-09-24T02:20:48.709Z
/* ORBITAL DATA ELEMENTS */
ASCENDING_NODE_LONGITUDE = 77.3
MAXIMUM_RESOLUTION = 0.117
FOOTPRINT_POINT_LATITUDE = (21.2128,21.2182,21.2212,21.223,21.223, 21.2147,20.7536,19.9858,19.3724,18.662, 18.2968,17.9318,17.5672,17.2029,16.8388 ,16.4751,16.1118,15.7489,15.205,14.843, 14.4812,14.1198,13.759,13.2183,12.8582, 12.1397,11.5891,11.2216,10.8546,10.2932 ,9.9179,9.54303,9.16028,8.7771,8.39452, 8.00383,7.41787,7.02222,6.62366,6.2255, 5.81899,5.41328,4.7956,4.38279,3.96203, 3.5415,2.90062,2.68679,2.48026,2.47306, 2.46136,2.45088,2.45057,2.45278,3.09737 ,3.5245,3.94552,4.36645,4.77993,5.39816 ,5.80432,6.21132,6.60951,7.00855, 7.40435,7.79534,8.38185,8.76484,9.14852 ,9.53139,9.90665,10.2825,10.8442, 11.2115,11.5794,12.1303,12.4897,12.8495 ,13.2098,13.5705,13.9316,14.2931,14.655 ,15.0174,15.3799,15.743,16.1063,16.4701 ,16.8343,17.1987,17.5633,17.9284, 18.2937,18.6592,19.3686,19.9829,20.4437 ,20.9049,21.0588,21.2128)
FOOTPRINT_POINT_LONGITUDE = (192.614,192.092,191.69,191.293,191.281 ,191.272,191.27,191.265,191.261,191.255 ,191.251,191.247,191.244,191.24,191.235 ,191.231,191.226,191.221,191.214, 191.209,191.203,191.197,191.191,191.182 ,191.176,191.163,191.152,191.145, 191.137,191.125,191.117,191.109,191.1, 191.091,191.082,191.073,191.058,191.048 ,191.037,191.027,191.016,191.004, 190.987,190.975,190.962,190.949,190.929 ,190.923,190.916,191.37,192.06,192.641, 192.658,192.669,192.665,192.663,192.66, 192.658,192.656,192.652,192.65,192.649, 192.647,192.646,192.644,192.643,192.641 ,192.64,192.639,192.638,192.637,192.636 ,192.635,192.635,192.634,192.634, 192.633,192.633,192.633,192.633,192.633 ,192.632,192.632,192.632,192.632, 192.633,192.633,192.633,192.633,192.633 ,192.633,192.634,192.634,192.634, 192.636,192.636,192.637,192.638,192.639 ,192.614)
ORBIT_NUMBER = 7345
ORBITAL_ECCENTRICITY = 0.572
ORBITAL_INCLINATION = 86.82
ORBITAL_SEMIMAJOR_AXIS = 8745.3
PERIAPSIS_ALTITUDE = 348.12
PERIAPSIS_ARGUMENT_ANGLE = 149.81
PERIAPSIS_TIME = 2009-09-24T02:13:38.000Z
SPACECRAFT_ORIENTATION = (0.0,-1.0,0.0)
^MEX_ORIENTATION_DESC = "MEX_ORIENTATION_DESC.TXT"
SPACECRAFT_POINTING_MODE = ACROSSTRACK
^MEX_POINTING_DESC = "MEX_POINTING_DESC.TXT"
RIGHT_ASCENSION = -1e+32
DECLINATION = -1e+32
OFFSET_ANGLE = 0.5
SPACECRAFT_SOLAR_DISTANCE = 2.26794e+08
TARGET_NAME = MARS
/* CAMERA DATA ELEMENTS */
DETECTOR_TEMPERATURE = 18.1666
FOCAL_PLANE_TEMPERATURE = 8.1755
INST_CMPRS_NAME = "DISCRETE COSINE TRANSFORMATION (DCT)"
INST_CMPRS_RATIO = 24.2216
INST_CMPRS_QUALITY = 0
INST_CMPRS_QUANTZ_TBL_ID = 0
INSTRUMENT_TEMPERATURE = 11.234
LENS_TEMPERATURE = 8.7872
MACROPIXEL_SIZE = 8
MISSING_FRAMES = 0
PIXEL_SUBSAMPLING_FLAG = N
SIGNAL_CHAIN_ID = 2
/* RADIOMETRIC DATA ELEMENTS */
BANDWIDTH = 88.0
CENTER_FILTER_WAVELENGTH = 538.0
RADIANCE_OFFSET = 1.90931
RADIANCE_SCALING_FACTOR = 0.00357201
REFLECTANCE_SCALING_FACTOR = 0.000158186
MEX:REFLECTANCE_OFFSET = 0.0845535
/* IMAGE OBJECT DEFINITIONS */
OBJECT = IMAGE
  INTERCHANGE_FORMAT = BINARY
  LINES = 11126
  LINE_SAMPLES = 1064
  SAMPLE_TYPE = UNSIGNED_INTEGER
  SAMPLE_BITS = 8
  BANDS = 1
  BAND_STORAGE_TYPE = BAND_SEQUENTIAL
  MAXIMUM = 255
  MEAN = 137.603
  MINIMUM = 1
  STANDARD_DEVIATION = 25.8326
END_OBJECT = IMAGE
/* MAP OBJECT DEFINITIONS */
OBJECT = IMAGE_MAP_PROJECTION
  ^DATA_SET_MAP_PROJECTION_CATALOG= "DSMAP.CAT"
  A_AXIS_RADIUS = 3396.0
  B_AXIS_RADIUS = 3396.0
  C_AXIS_RADIUS = 3396.0
  CENTER_LATITUDE = 0.0
  CENTER_LONGITUDE = 192.0
  COORDINATE_SYSTEM_NAME = PLANETOGRAPHIC
  COORDINATE_SYSTEM_TYPE = "BODY-FIXED ROTATING"
  EASTERNMOST_LONGITUDE = 192.669
  FIRST_STANDARD_PARALLEL = "N/A"
  LINE_FIRST_PIXEL = 1
  LINE_LAST_PIXEL = 11126
  LINE_PROJECTION_OFFSET = 12584.0625
  MAP_PROJECTION_ROTATION = 0.0
  MAP_PROJECTION_TYPE = SINUSOIDAL
  MAP_RESOLUTION = 592.713803866667
  MAP_SCALE = 0.1
  MAXIMUM_LATITUDE = 21.223
  MINIMUM_LATITUDE = 2.45057
  POSITIVE_LONGITUDE_DIRECTION = EAST
  REFERENCE_LATITUDE = "N/A"
  REFERENCE_LONGITUDE = "N/A"
  SAMPLE_FIRST_PIXEL = 1
  SAMPLE_LAST_PIXEL = 1064
  SAMPLE_PROJECTION_OFFSET = 659.8125
  SECOND_STANDARD_PARALLEL = "N/A"
  WESTERNMOST_LONGITUDE = 190.916
END_OBJECT = IMAGE_MAP_PROJECTION
END
