PDS_VERSION_ID = PDS3
/* FILE DATA ELEMENTS */
RECORD_TYPE = UNDEFINED
/* POINTERS TO DATA OBJECTS */
^IMAGE = ("H7345_0000_P24.TIF")
/* IDENTIFICATION DATA ELEMENTS */
DATA_SET_ID = "MEX-M-HRSC-4-REFDR-MAPPROJECT-EXT3-V4.0"
DATA_SET_NAME = "MARS EXPRESS HRSC MAP PROJECTED REFDR EXTENSION3 V4.0"
DETECTOR_ID = MEX_HRSC_P2
EVENT_TYPE = "MARS-REGIONAL-MAPPING-Vo-Te-Pf"
INSTRUMENT_HOST_ID = MEX
INSTRUMENT_HOST_NAME = "MARS EXPRESS"
INSTRUMENT_ID = HRSC
INSTRUMENT_NAME = "HIGH RESOLUTION STEREO CAMERA"
MISSION_NAME = "MARS EXPRESS"
MISSION_PHASE_NAME = ME_Phase_18
PROCESSING_LEVEL_ID = 4
PRODUCT_CREATION_TIME = 2023-02-01T22:33:16.000Z
PRODUCT_ID = "H7345_0000_P24.TIF"
RELEASE_ID = 0002
REVISION_ID = 0000
/* QUALITY DATA ELEMENTS */
DATA_QUALITY_ID = 1
DATA_QUALITY_DESC = "Data calculated based on original SPICE kernels"
/* TIME DATA ELEMENTS */
SPACECRAFT_CLOCK_START_COUNT = "1/0201838521.07283"
SPACECRAFT_CLOCK_STOP_COUNT = "1/0201838910.55143"
START_TIME = 2009-09-24T02:16:18.087Z
STOP_TIME = 2009-09-24T02:21:31.486Z
/* ORBITAL DATA ELEMENTS */
ASCENDING_NODE_LONGITUDE = 77.3
MAXIMUM_RESOLUTION = 0.0307
FOOTPRINT_POINT_LATITUDE = (21.2259,21.2178,21.2108,21.2034, 21.2032,21.2317,20.7238,20.3631,20.0028 ,19.6431,19.2842,18.9256,18.5677, 18.2107,17.8541,17.4981,17.1428,16.7882 ,16.4341,16.0809,15.5517,14.6732, 13.9711,13.6131,13.0779,12.7215,12.3572 ,11.9937,11.631,11.2609,10.8902,10.333, 9.95597,9.57979,9.00696,8.62424,8.0426, 7.65383,7.06187,6.66686,6.26437,5.86316 ,5.45536,5.04791,4.63357,4.00923, 3.58942,3.16458,2.73811,2.52221,2.49245 ,2.49236,2.49365,2.49597,2.49608, 2.49671,3.14034,3.56608,3.98631,4.40479 ,4.81925,5.43438,5.8432,6.2447,6.64821, 7.04381,7.63699,8.02623,8.60922,8.99197 ,9.566,9.94221,10.3188,10.8781,11.2491, 11.6201,11.983,12.3471,12.8923,13.2488, 13.6063,14.1423,14.8427,15.5459,15.8987 ,16.2519,16.6057,16.9602,17.4935, 17.8497,18.2065,18.7432,19.1017,19.4607 ,19.8198,20.3603,20.722,21.0829,21.2346 ,21.2259)
FOOTPRINT_POINT_LONGITUDE = (192.631,192.115,191.686,191.262, 191.249,191.242,191.238,191.236,191.233 ,191.229,191.226,191.222,191.219, 191.215,191.21,191.206,191.201,191.196, 191.191,191.186,191.178,191.163,191.151 ,191.144,191.134,191.127,191.119, 191.111,191.103,191.095,191.087,191.073 ,191.064,191.055,191.04,191.03,191.014, 191.003,190.986,190.975,190.963,190.95, 190.938,190.925,190.911,190.89,190.876, 190.861,190.846,190.838,190.837,191.673 ,192.243,192.707,192.725,192.732, 192.725,192.721,192.717,192.714,192.71, 192.705,192.702,192.699,192.696,192.693 ,192.689,192.687,192.684,192.681, 192.679,192.677,192.674,192.673,192.671 ,192.67,192.669,192.667,192.666,192.665 ,192.664,192.663,192.661,192.66,192.659 ,192.659,192.658,192.658,192.657, 192.657,192.656,192.656,192.656,192.656 ,192.656,192.656,192.657,192.657, 192.657,192.631)
ORBIT_NUMBER = 7345
ORBITAL_ECCENTRICITY = 0.572
ORBITAL_INCLINATION = 86.82
ORBITAL_SEMIMAJOR_AXIS = 8745.3
PERIAPSIS_ALTITUDE = 348.12
PERIAPSIS_ARGUMENT_ANGLE = 149.81
PERIAPSIS_TIME = 2009-09-24T02:13:38.000Z
SPACECRAFT_ORIENTATION = (0.0,-1.0,0.0)
^MEX_ORIENTATION_DESC = "MEX_ORIENTATION_DESC.TXT"
SPACECRAFT_POINTING_MODE = ACROSSTRACK
^MEX_POINTING_DESC = "MEX_POINTING_DESC.TXT"
RIGHT_ASCENSION = -1e+32
DECLINATION = -1e+32
OFFSET_ANGLE = 0.5
SPACECRAFT_SOLAR_DISTANCE = 2.26794e+08
TARGET_NAME = MARS
/* CAMERA DATA ELEMENTS */
DETECTOR_TEMPERATURE = 18.5744
FOCAL_PLANE_TEMPERATURE = 8.1755
INST_CMPRS_NAME = "DISCRETE COSINE TRANSFORMATION (DCT)"
INST_CMPRS_RATIO = 7.49531
INST_CMPRS_QUALITY = 0
INST_CMPRS_QUANTZ_TBL_ID = 0
INSTRUMENT_TEMPERATURE = 11.234
LENS_TEMPERATURE = 8.7872
MACROPIXEL_SIZE = 2
MISSING_FRAMES = 0
PIXEL_SUBSAMPLING_FLAG = N
SIGNAL_CHAIN_ID = 3
/* RADIOMETRIC DATA ELEMENTS */
BANDWIDTH = 177.0
CENTER_FILTER_WAVELENGTH = 676.5
RADIANCE_OFFSET = 5.99538
RADIANCE_SCALING_FACTOR = 0.0141814
REFLECTANCE_SCALING_FACTOR = 0.000386763
MEX:REFLECTANCE_OFFSET = 0.163509
/* IMAGE OBJECT DEFINITIONS */
OBJECT = IMAGE
  INTERCHANGE_FORMAT = BINARY
  LINES = 44501
  LINE_SAMPLES = 4253
  SAMPLE_TYPE = UNSIGNED_INTEGER
  SAMPLE_BITS = 8
  BANDS = 1
  BAND_STORAGE_TYPE = BAND_SEQUENTIAL
  MAXIMUM = 255
  MEAN = 133.503
  MINIMUM = 1
  STANDARD_DEVIATION = 28.8981
END_OBJECT = IMAGE
/* MAP OBJECT DEFINITIONS */
OBJECT = IMAGE_MAP_PROJECTION
  ^DATA_SET_MAP_PROJECTION_CATALOG= "DSMAP.CAT"
  A_AXIS_RADIUS = 3396.0
  B_AXIS_RADIUS = 3396.0
  C_AXIS_RADIUS = 3396.0
  CENTER_LATITUDE = 0.0
  CENTER_LONGITUDE = 192.0
  COORDINATE_SYSTEM_NAME = PLANETOGRAPHIC
  COORDINATE_SYSTEM_TYPE = "BODY-FIXED ROTATING"
  EASTERNMOST_LONGITUDE = 192.732
  FIRST_STANDARD_PARALLEL = "N/A"
  LINE_FIRST_PIXEL = 1
  LINE_LAST_PIXEL = 44501
  LINE_PROJECTION_OFFSET = 50337.75
  MAP_PROJECTION_ROTATION = 0.0
  MAP_PROJECTION_TYPE = SINUSOIDAL
  MAP_RESOLUTION = 2370.85521546667
  MAP_SCALE = 0.025
  MAXIMUM_LATITUDE = 21.2346
  MINIMUM_LATITUDE = 2.49236
  POSITIVE_LONGITUDE_DIRECTION = EAST
  REFERENCE_LATITUDE = "N/A"
  REFERENCE_LONGITUDE = "N/A"
  SAMPLE_FIRST_PIXEL = 1
  SAMPLE_LAST_PIXEL = 4253
  SAMPLE_PROJECTION_OFFSET = 2640.75
  SECOND_STANDARD_PARALLEL = "N/A"
  WESTERNMOST_LONGITUDE = 190.837
END_OBJECT = IMAGE_MAP_PROJECTION
END
