PDS_VERSION_ID = PDS3
/* FILE DATA ELEMENTS */
RECORD_TYPE = UNDEFINED
/* POINTERS TO DATA OBJECTS */
^IMAGE = ("H7347_0000_IR4.TIF")
/* IDENTIFICATION DATA ELEMENTS */
DATA_SET_ID = "MEX-M-HRSC-4-REFDR-MAPPROJECT-EXT3-V4.0"
DATA_SET_NAME = "MARS EXPRESS HRSC MAP PROJECTED REFDR EXTENSION3 V4.0"
DETECTOR_ID = MEX_HRSC_IR
EVENT_TYPE = "MARS-REGIONAL-MAPPING-Im-Fl-Lc"
INSTRUMENT_HOST_ID = MEX
INSTRUMENT_HOST_NAME = "MARS EXPRESS"
INSTRUMENT_ID = HRSC
INSTRUMENT_NAME = "HIGH RESOLUTION STEREO CAMERA"
MISSION_NAME = "MARS EXPRESS"
MISSION_PHASE_NAME = ME_Phase_18
PROCESSING_LEVEL_ID = 4
PRODUCT_CREATION_TIME = 2023-02-01T22:33:16.000Z
PRODUCT_ID = "H7347_0000_IR4.TIF"
RELEASE_ID = 0002
REVISION_ID = 0000
/* QUALITY DATA ELEMENTS */
DATA_QUALITY_ID = 1
DATA_QUALITY_DESC = "Data calculated based on original SPICE kernels"
/* TIME DATA ELEMENTS */
SPACECRAFT_CLOCK_START_COUNT = "1/0201888115.08393"
SPACECRAFT_CLOCK_STOP_COUNT = "1/0201888388.47216"
START_TIME = 2009-09-24T16:02:03.052Z
STOP_TIME = 2009-09-24T16:05:17.250Z
/* ORBITAL DATA ELEMENTS */
ASCENDING_NODE_LONGITUDE = 77.27
MAXIMUM_RESOLUTION = 0.0589
FOOTPRINT_POINT_LATITUDE = (24.915,24.9071,24.8975,24.8821,24.8817 ,24.8517,24.5037,24.153,23.6878,23.2221 ,22.9882,22.7552,22.5229,22.2894, 21.9394,21.5894,21.3562,21.1238,20.8901 ,20.6569,20.4197,20.1852,19.9518, 19.4901,19.1349,18.8995,18.667,18.2057, 17.8066,17.5279,17.1095,16.8311,16.5538 ,16.2754,15.9962,15.7194,15.4399, 15.1619,14.7447,14.4661,14.188,13.7716, 13.4942,13.2163,12.9388,12.663,12.3852, 12.2466,12.1789,12.1827,12.1885,12.1937 ,12.1961,12.1962,12.1972,12.4747, 12.7535,13.1627,13.4373,13.7146,14.1388 ,14.4222,14.6991,14.9775,15.3949, 15.6733,15.9521,16.232,16.5034,16.7827, 17.2057,17.4846,17.7622,18.0426,18.2885 ,18.7488,18.9837,19.3399,19.5785,19.813 ,20.1629,20.3961,20.7458,20.979,21.2126 ,21.4465,21.6795,21.9128,22.1465, 22.3799,22.6135,22.964,23.3137,23.5464, 23.7808,24.2429,24.4785,24.7133,24.8296 ,24.915)
FOOTPRINT_POINT_LONGITUDE = (349.985,349.589,349.19,348.661,348.648 ,348.627,348.631,348.634,348.638, 348.642,348.643,348.645,348.647,348.648 ,348.649,348.651,348.652,348.653, 348.653,348.654,348.652,348.651,348.652 ,348.655,348.651,348.65,348.65,348.652, 348.65,348.649,348.646,348.645,348.644, 348.642,348.639,348.638,348.635,348.633 ,348.629,348.626,348.623,348.618, 348.615,348.611,348.608,348.605,348.601 ,348.599,348.598,348.87,349.223,349.694 ,350.028,350.042,350.046,350.045, 350.044,350.043,350.043,350.042,350.039 ,350.037,350.036,350.035,350.033, 350.032,350.031,350.03,350.03,350.029, 350.026,350.025,350.024,350.023,350.022 ,350.021,350.02,350.018,350.016,350.015 ,350.013,350.012,350.011,350.01,350.009 ,350.008,350.007,350.006,350.004, 350.003,350.002,350.0,349.999,349.998, 349.996,349.994,349.993,349.991,349.991 ,349.985)
ORBIT_NUMBER = 7347
ORBITAL_ECCENTRICITY = 0.572
ORBITAL_INCLINATION = 86.81
ORBITAL_SEMIMAJOR_AXIS = 8746.83
PERIAPSIS_ALTITUDE = 348.47
PERIAPSIS_ARGUMENT_ANGLE = 149.44
PERIAPSIS_TIME = 2009-09-24T16:01:02.000Z
SPACECRAFT_ORIENTATION = (0.0,-1.0,0.0)
^MEX_ORIENTATION_DESC = "MEX_ORIENTATION_DESC.TXT"
SPACECRAFT_POINTING_MODE = ACROSSTRACK
^MEX_POINTING_DESC = "MEX_POINTING_DESC.TXT"
RIGHT_ASCENSION = -1e+32
DECLINATION = -1e+32
OFFSET_ANGLE = -0.35
SPACECRAFT_SOLAR_DISTANCE = 2.26907e+08
TARGET_NAME = MARS
/* CAMERA DATA ELEMENTS */
DETECTOR_TEMPERATURE = 17.5549
FOCAL_PLANE_TEMPERATURE = 8.3794
INST_CMPRS_NAME = "DISCRETE COSINE TRANSFORMATION (DCT)"
INST_CMPRS_RATIO = 9.63061
INST_CMPRS_QUALITY = 0
INST_CMPRS_QUANTZ_TBL_ID = 0
INSTRUMENT_TEMPERATURE = 11.4379
LENS_TEMPERATURE = 8.7872
MACROPIXEL_SIZE = 4
MISSING_FRAMES = 0
PIXEL_SUBSAMPLING_FLAG = N
SIGNAL_CHAIN_ID = 2
/* RADIOMETRIC DATA ELEMENTS */
BANDWIDTH = 81.0
CENTER_FILTER_WAVELENGTH = 955.5
RADIANCE_OFFSET = 0.921326
RADIANCE_SCALING_FACTOR = 0.00576921
REFLECTANCE_SCALING_FACTOR = 0.000640825
MEX:REFLECTANCE_OFFSET = 0.102338
/* IMAGE OBJECT DEFINITIONS */
OBJECT = IMAGE
  INTERCHANGE_FORMAT = BINARY
  LINES = 15047
  LINE_SAMPLES = 1737
  SAMPLE_TYPE = UNSIGNED_INTEGER
  SAMPLE_BITS = 8
  BANDS = 1
  BAND_STORAGE_TYPE = BAND_SEQUENTIAL
  MAXIMUM = 255
  MEAN = 137.61
  MINIMUM = 1
  STANDARD_DEVIATION = 38.8573
END_OBJECT = IMAGE
/* MAP OBJECT DEFINITIONS */
OBJECT = IMAGE_MAP_PROJECTION
  ^DATA_SET_MAP_PROJECTION_CATALOG= "DSMAP.CAT"
  A_AXIS_RADIUS = 3396.0
  B_AXIS_RADIUS = 3396.0
  C_AXIS_RADIUS = 3396.0
  CENTER_LATITUDE = 0.0
  CENTER_LONGITUDE = 349.0
  COORDINATE_SYSTEM_NAME = PLANETOGRAPHIC
  COORDINATE_SYSTEM_TYPE = "BODY-FIXED ROTATING"
  EASTERNMOST_LONGITUDE = 350.046
  FIRST_STANDARD_PARALLEL = "N/A"
  LINE_FIRST_PIXEL = 1
  LINE_LAST_PIXEL = 15047
  LINE_PROJECTION_OFFSET = 29501.875
  MAP_PROJECTION_ROTATION = 0.0
  MAP_PROJECTION_TYPE = SINUSOIDAL
  MAP_RESOLUTION = 1185.42760773333
  MAP_SCALE = 0.05
  MAXIMUM_LATITUDE = 24.915
  MINIMUM_LATITUDE = 12.1789
  POSITIVE_LONGITUDE_DIRECTION = EAST
  REFERENCE_LATITUDE = "N/A"
  REFERENCE_LONGITUDE = "N/A"
  SAMPLE_FIRST_PIXEL = 1
  SAMPLE_LAST_PIXEL = 1737
  SAMPLE_PROJECTION_OFFSET = 496.875
  SECOND_STANDARD_PARALLEL = "N/A"
  WESTERNMOST_LONGITUDE = 348.598
END_OBJECT = IMAGE_MAP_PROJECTION
END
