PDS_VERSION_ID = PDS3
/* FILE DATA ELEMENTS */
RECORD_TYPE = UNDEFINED
/* POINTERS TO DATA OBJECTS */
^IMAGE = ("H7396_0000_BL4.TIF")
/* IDENTIFICATION DATA ELEMENTS */
DATA_SET_ID = "MEX-M-HRSC-4-REFDR-MAPPROJECT-EXT3-V4.0"
DATA_SET_NAME = "MARS EXPRESS HRSC MAP PROJECTED REFDR EXTENSION3 V4.0"
DETECTOR_ID = MEX_HRSC_BLUE
EVENT_TYPE = "MARS-REGIONAL-MAPPING-Vo-Te-Pf"
INSTRUMENT_HOST_ID = MEX
INSTRUMENT_HOST_NAME = "MARS EXPRESS"
INSTRUMENT_ID = HRSC
INSTRUMENT_NAME = "HIGH RESOLUTION STEREO CAMERA"
MISSION_NAME = "MARS EXPRESS"
MISSION_PHASE_NAME = ME_Phase_18
PROCESSING_LEVEL_ID = 4
PRODUCT_CREATION_TIME = 2023-02-01T22:33:16.000Z
PRODUCT_ID = "H7396_0000_BL4.TIF"
RELEASE_ID = 0002
REVISION_ID = 0000
/* QUALITY DATA ELEMENTS */
DATA_QUALITY_ID = 1
DATA_QUALITY_DESC = "Data calculated based on original SPICE kernels"
/* TIME DATA ELEMENTS */
SPACECRAFT_CLOCK_START_COUNT = "1/0203104510.09066"
SPACECRAFT_CLOCK_STOP_COUNT = "1/0203104800.49749"
START_TIME = 2009-10-08T17:55:51.033Z
STOP_TIME = 2009-10-08T17:59:23.448Z
/* ORBITAL DATA ELEMENTS */
ASCENDING_NODE_LONGITUDE = 76.3
MAXIMUM_RESOLUTION = 0.118
FOOTPRINT_POINT_LATITUDE = (30.9668,30.9648,30.9615,30.9553, 30.9551,30.9625,30.4039,29.9576,29.4468 ,29.1797,28.9144,28.649,28.3838,28.1187 ,27.8542,27.4573,27.1932,26.9293, 26.6651,26.4015,26.1382,25.7435,25.4807 ,25.2183,24.956,24.694,24.4322,23.9098, 23.3885,22.8682,22.349,22.0848,21.8189, 21.5535,21.2882,21.0233,20.7546,20.4834 ,20.2125,19.942,19.6719,19.3957,19.1193 ,18.8433,18.5677,18.1461,17.8647, 17.7241,17.6645,17.6627,17.6586,17.6547 ,17.6545,17.6566,17.9382,18.2202, 18.5027,18.7787,19.0551,19.3319,19.7452 ,20.0159,20.287,20.5583,20.9647,21.2299 ,21.4956,21.7616,22.0278,22.2939, 22.8139,23.2046,23.7268,23.988,24.2498, 24.5116,24.7738,25.0363,25.299,25.562, 25.8253,26.0888,26.3525,26.6165,26.8806 ,27.1451,27.4097,27.6745,27.9395, 28.2048,28.4701,28.7359,29.0017,29.2677 ,29.534,29.9224,30.3695,30.8169,30.9289 ,30.9668)
FOOTPRINT_POINT_LONGITUDE = (88.6373,88.2041,87.7682,87.2054, 87.1917,87.1595,87.1688,87.1757,87.1796 ,87.1866,87.1891,87.1922,87.1951, 87.1979,87.1999,87.2033,87.2051,87.2066 ,87.2093,87.2108,87.2119,87.2138, 87.2148,87.2152,87.2159,87.2162,87.2165 ,87.2155,87.2139,87.212,87.2095,87.2075 ,87.2058,87.2038,87.2019,87.1998, 87.1973,87.1948,87.1923,87.1894,87.1864 ,87.1832,87.1799,87.1765,87.173,87.1672 ,87.1631,87.1611,87.1602,87.6534, 88.3149,88.7739,88.7892,88.7993,88.7967 ,88.794,88.7914,88.7887,88.7861,88.7834 ,88.7794,88.7768,88.774,88.7713,88.7671 ,88.7644,88.7618,88.7591,88.7563, 88.7534,88.7479,88.7437,88.7383,88.7352 ,88.7325,88.7295,88.7265,88.7236, 88.7205,88.7176,88.7147,88.7116,88.7085 ,88.7054,88.7022,88.699,88.6957,88.6924 ,88.689,88.6856,88.6821,88.6787,88.6751 ,88.6715,88.6679,88.6625,88.6562, 88.6497,88.6481,88.6373)
ORBIT_NUMBER = 7396
ORBITAL_ECCENTRICITY = 0.572
ORBITAL_INCLINATION = 86.82
ORBITAL_SEMIMAJOR_AXIS = 8742.2
PERIAPSIS_ALTITUDE = 353.13
PERIAPSIS_ARGUMENT_ANGLE = 140.88
PERIAPSIS_TIME = 2009-10-08T17:53:40.000Z
SPACECRAFT_ORIENTATION = (0.0,-1.0,0.0)
^MEX_ORIENTATION_DESC = "MEX_ORIENTATION_DESC.TXT"
SPACECRAFT_POINTING_MODE = ACROSSTRACK
^MEX_POINTING_DESC = "MEX_POINTING_DESC.TXT"
RIGHT_ASCENSION = -1e+32
DECLINATION = -1e+32
OFFSET_ANGLE = -0.269
SPACECRAFT_SOLAR_DISTANCE = 2.29641e+08
TARGET_NAME = MARS
/* CAMERA DATA ELEMENTS */
DETECTOR_TEMPERATURE = 18.3705
FOCAL_PLANE_TEMPERATURE = 8.5833
INST_CMPRS_NAME = "DISCRETE COSINE TRANSFORMATION (DCT)"
INST_CMPRS_RATIO = 36.4145
INST_CMPRS_QUALITY = 0
INST_CMPRS_QUANTZ_TBL_ID = 0
INSTRUMENT_TEMPERATURE = 11.234
LENS_TEMPERATURE = 9.195
MACROPIXEL_SIZE = 8
MISSING_FRAMES = 0
PIXEL_SUBSAMPLING_FLAG = N
SIGNAL_CHAIN_ID = 2
/* RADIOMETRIC DATA ELEMENTS */
BANDWIDTH = 76.0
CENTER_FILTER_WAVELENGTH = 444.0
RADIANCE_OFFSET = 0.648346
RADIANCE_SCALING_FACTOR = 0.00147199
REFLECTANCE_SCALING_FACTOR = 7.97556e-05
MEX:REFLECTANCE_OFFSET = 0.0351287
/* IMAGE OBJECT DEFINITIONS */
OBJECT = IMAGE
  INTERCHANGE_FORMAT = BINARY
  LINES = 7903
  LINE_SAMPLES = 930
  SAMPLE_TYPE = UNSIGNED_INTEGER
  SAMPLE_BITS = 8
  BANDS = 1
  BAND_STORAGE_TYPE = BAND_SEQUENTIAL
  MAXIMUM = 255
  MEAN = 138.036
  MINIMUM = 1
  STANDARD_DEVIATION = 25.5515
END_OBJECT = IMAGE
/* MAP OBJECT DEFINITIONS */
OBJECT = IMAGE_MAP_PROJECTION
  ^DATA_SET_MAP_PROJECTION_CATALOG= "DSMAP.CAT"
  A_AXIS_RADIUS = 3396.0
  B_AXIS_RADIUS = 3396.0
  C_AXIS_RADIUS = 3396.0
  CENTER_LATITUDE = 0.0
  CENTER_LONGITUDE = 88.0
  COORDINATE_SYSTEM_NAME = PLANETOGRAPHIC
  COORDINATE_SYSTEM_TYPE = "BODY-FIXED ROTATING"
  EASTERNMOST_LONGITUDE = 88.7993
  FIRST_STANDARD_PARALLEL = "N/A"
  LINE_FIRST_PIXEL = 1
  LINE_LAST_PIXEL = 7903
  LINE_PROJECTION_OFFSET = 18372.0625
  MAP_PROJECTION_ROTATION = 0.0
  MAP_PROJECTION_TYPE = SINUSOIDAL
  MAP_RESOLUTION = 592.713803866667
  MAP_SCALE = 0.1
  MAXIMUM_LATITUDE = 30.9668
  MINIMUM_LATITUDE = 17.6545
  POSITIVE_LONGITUDE_DIRECTION = EAST
  REFERENCE_LATITUDE = "N/A"
  REFERENCE_LONGITUDE = "N/A"
  SAMPLE_FIRST_PIXEL = 1
  SAMPLE_LAST_PIXEL = 930
  SAMPLE_PROJECTION_OFFSET = 481.4375
  SECOND_STANDARD_PARALLEL = "N/A"
  WESTERNMOST_LONGITUDE = 87.15949999999999
END_OBJECT = IMAGE_MAP_PROJECTION
END
