PDS_VERSION_ID = PDS3
/* FILE DATA ELEMENTS */
RECORD_TYPE = UNDEFINED
/* POINTERS TO DATA OBJECTS */
^IMAGE = ("H7425_0000_GR4.TIF")
/* IDENTIFICATION DATA ELEMENTS */
DATA_SET_ID = "MEX-M-HRSC-4-REFDR-MAPPROJECT-EXT3-V4.0"
DATA_SET_NAME = "MARS EXPRESS HRSC MAP PROJECTED REFDR EXTENSION3 V4.0"
DETECTOR_ID = MEX_HRSC_GREEN
EVENT_TYPE = "MARS-REGIONAL-MAPPING-Im-Fl-Pf"
INSTRUMENT_HOST_ID = MEX
INSTRUMENT_HOST_NAME = "MARS EXPRESS"
INSTRUMENT_ID = HRSC
INSTRUMENT_NAME = "HIGH RESOLUTION STEREO CAMERA"
MISSION_NAME = "MARS EXPRESS"
MISSION_PHASE_NAME = ME_Phase_18
PROCESSING_LEVEL_ID = 4
PRODUCT_CREATION_TIME = 2023-02-02T15:10:19.000Z
PRODUCT_ID = "H7425_0000_GR4.TIF"
RELEASE_ID = 0003
REVISION_ID = 0000
/* QUALITY DATA ELEMENTS */
DATA_QUALITY_ID = 1
DATA_QUALITY_DESC = "Data calculated based on original SPICE kernels"
/* TIME DATA ELEMENTS */
SPACECRAFT_CLOCK_START_COUNT = "1/0203824530.09042"
SPACECRAFT_CLOCK_STOP_COUNT = "1/0203824900.34448"
START_TIME = 2009-10-17T01:56:01.683Z
STOP_TIME = 2009-10-17T02:00:31.686Z
/* ORBITAL DATA ELEMENTS */
ASCENDING_NODE_LONGITUDE = 75.73
MAXIMUM_RESOLUTION = 0.1246
FOOTPRINT_POINT_LATITUDE = (30.5384,30.5321,30.5253,30.5172, 30.5169,30.5091,29.8903,28.963,28.3462, 27.7307,27.1162,26.6449,26.3304,26.0161 ,25.7024,25.382,25.061,24.74,24.4196, 23.9288,23.4382,23.111,22.7762,22.4418, 22.108,21.5991,21.2585,20.7444,20.3968, 20.0498,19.699,19.3453,18.9916,18.6387, 18.2868,17.9355,17.5849,17.235,16.8856, 16.537,16.1891,15.8419,15.4952,15.1493, 14.804,14.4594,14.1155,13.9439,13.8325, 13.8316,13.8297,13.8255,13.821,13.8208, 13.8229,14.167,14.5117,14.8574,15.2034, 15.5502,15.8978,16.246,16.5951,16.9448, 17.2949,17.6457,18.174,18.5261,18.8794, 19.2334,19.5878,20.1153,20.4629,20.9841 ,21.3251,21.6666,22.0079,22.3422, 22.6769,23.1786,23.5063,23.9988,24.3277 ,24.6487,24.9701,25.292,25.6141,25.9295 ,26.2434,26.5584,26.8748,27.1879, 27.8037,28.4205,29.0385,29.5027,29.8126 ,30.2778,30.4327,30.5384)
FOOTPRINT_POINT_LONGITUDE = (43.8255,43.2067,42.7422,42.3024, 42.2877,42.2617,42.2709,42.2797,42.2843 ,42.2884,42.2909,42.2929,42.2937, 42.2938,42.2945,42.2939,42.2948,42.2941 ,42.2939,42.29,42.2906,42.289,42.2869, 42.2845,42.2822,42.2773,42.2744,42.2683 ,42.2639,42.2594,42.2538,42.2488, 42.2422,42.2355,42.2296,42.2235,42.217, 42.2106,42.2035,42.1966,42.1892,42.1818 ,42.1737,42.1656,42.157,42.1482,42.1389 ,42.1344,42.1314,42.5103,42.962,43.5367 ,44.019,44.0369,44.0487,44.0453,44.0418 ,44.0382,44.0348,44.0313,44.0278, 44.0242,44.0203,44.0164,44.0129,44.0092 ,44.0027,43.9992,43.9952,43.9908, 43.9868,43.9806,43.9767,43.9704,43.9663 ,43.9622,43.9581,43.954,43.9499,43.9438 ,43.9396,43.9331,43.9287,43.9246, 43.9202,43.9156,43.9111,43.9065,43.9027 ,43.8979,43.892,43.8873,43.8774,43.8674 ,43.857,43.8489,43.8433,43.8349,43.8323 ,43.8255)
ORBIT_NUMBER = 7425
ORBITAL_ECCENTRICITY = 0.571
ORBITAL_INCLINATION = 86.82
ORBITAL_SEMIMAJOR_AXIS = 8731.62
PERIAPSIS_ALTITUDE = 357.22
PERIAPSIS_ARGUMENT_ANGLE = 135.85
PERIAPSIS_TIME = 2009-10-17T01:52:37.000Z
SPACECRAFT_ORIENTATION = (0.0,-1.0,0.0)
^MEX_ORIENTATION_DESC = "MEX_ORIENTATION_DESC.TXT"
SPACECRAFT_POINTING_MODE = ACROSSTRACK
^MEX_POINTING_DESC = "MEX_POINTING_DESC.TXT"
RIGHT_ASCENSION = -1e+32
DECLINATION = -1e+32
OFFSET_ANGLE = -0.38
SPACECRAFT_SOLAR_DISTANCE = 2.31233e+08
TARGET_NAME = MARS
/* CAMERA DATA ELEMENTS */
DETECTOR_TEMPERATURE = 18.3705
FOCAL_PLANE_TEMPERATURE = 8.3794
INST_CMPRS_NAME = "DISCRETE COSINE TRANSFORMATION (DCT)"
INST_CMPRS_RATIO = 26.1294
INST_CMPRS_QUALITY = 0
INST_CMPRS_QUANTZ_TBL_ID = 0
INSTRUMENT_TEMPERATURE = 11.234
LENS_TEMPERATURE = 8.5833
MACROPIXEL_SIZE = 8
MISSING_FRAMES = 0
PIXEL_SUBSAMPLING_FLAG = N
SIGNAL_CHAIN_ID = 2
/* RADIOMETRIC DATA ELEMENTS */
BANDWIDTH = 88.0
CENTER_FILTER_WAVELENGTH = 538.0
RADIANCE_OFFSET = 1.7904
RADIANCE_SCALING_FACTOR = 0.00460406
REFLECTANCE_SCALING_FACTOR = 0.00021195
MEX:REFLECTANCE_OFFSET = 0.082422
/* IMAGE OBJECT DEFINITIONS */
OBJECT = IMAGE
  INTERCHANGE_FORMAT = BINARY
  LINES = 9906
  LINE_SAMPLES = 1132
  SAMPLE_TYPE = UNSIGNED_INTEGER
  SAMPLE_BITS = 8
  BANDS = 1
  BAND_STORAGE_TYPE = BAND_SEQUENTIAL
  MAXIMUM = 255
  MEAN = 150.004
  MINIMUM = 1
  STANDARD_DEVIATION = 29.1609
END_OBJECT = IMAGE
/* MAP OBJECT DEFINITIONS */
OBJECT = IMAGE_MAP_PROJECTION
  ^DATA_SET_MAP_PROJECTION_CATALOG= "DSMAP.CAT"
  A_AXIS_RADIUS = 3396.0
  B_AXIS_RADIUS = 3396.0
  C_AXIS_RADIUS = 3396.0
  CENTER_LATITUDE = 0.0
  CENTER_LONGITUDE = 43.0
  COORDINATE_SYSTEM_NAME = PLANETOGRAPHIC
  COORDINATE_SYSTEM_TYPE = "BODY-FIXED ROTATING"
  EASTERNMOST_LONGITUDE = 44.0487
  FIRST_STANDARD_PARALLEL = "N/A"
  LINE_FIRST_PIXEL = 1
  LINE_LAST_PIXEL = 9906
  LINE_PROJECTION_OFFSET = 18101.4375
  MAP_PROJECTION_ROTATION = 0.0
  MAP_PROJECTION_TYPE = SINUSOIDAL
  MAP_RESOLUTION = 592.713803866667
  MAP_SCALE = 0.1
  MAXIMUM_LATITUDE = 30.5384
  MINIMUM_LATITUDE = 13.8208
  POSITIVE_LONGITUDE_DIRECTION = EAST
  REFERENCE_LATITUDE = "N/A"
  REFERENCE_LONGITUDE = "N/A"
  SAMPLE_FIRST_PIXEL = 1
  SAMPLE_LAST_PIXEL = 1132
  SAMPLE_PROJECTION_OFFSET = 520.0625
  SECOND_STANDARD_PARALLEL = "N/A"
  WESTERNMOST_LONGITUDE = 42.1314
END_OBJECT = IMAGE_MAP_PROJECTION
END
