PDS_VERSION_ID = PDS3
/* FILE DATA ELEMENTS */
RECORD_TYPE = UNDEFINED
/* POINTERS TO DATA OBJECTS */
^IMAGE = ("H7436_0000_GR4.TIF")
/* IDENTIFICATION DATA ELEMENTS */
DATA_SET_ID = "MEX-M-HRSC-4-REFDR-MAPPROJECT-EXT3-V4.0"
DATA_SET_NAME = "MARS EXPRESS HRSC MAP PROJECTED REFDR EXTENSION3 V4.0"
DETECTOR_ID = MEX_HRSC_GREEN
EVENT_TYPE = "MARS-REGIONAL-MAPPING-Fl-Pf-La"
INSTRUMENT_HOST_ID = MEX
INSTRUMENT_HOST_NAME = "MARS EXPRESS"
INSTRUMENT_ID = HRSC
INSTRUMENT_NAME = "HIGH RESOLUTION STEREO CAMERA"
MISSION_NAME = "MARS EXPRESS"
MISSION_PHASE_NAME = ME_Phase_18
PROCESSING_LEVEL_ID = 4
PRODUCT_CREATION_TIME = 2023-02-02T15:10:19.000Z
PRODUCT_ID = "H7436_0000_GR4.TIF"
RELEASE_ID = 0003
REVISION_ID = 0000
/* QUALITY DATA ELEMENTS */
DATA_QUALITY_ID = 1
DATA_QUALITY_DESC = "Data calculated based on original SPICE kernels"
/* TIME DATA ELEMENTS */
SPACECRAFT_CLOCK_START_COUNT = "1/0204097606.09130"
SPACECRAFT_CLOCK_STOP_COUNT = "1/0204098081.65216"
START_TIME = 2009-10-20T05:47:17.707Z
STOP_TIME = 2009-10-20T05:53:18.080Z
/* ORBITAL DATA ELEMENTS */
ASCENDING_NODE_LONGITUDE = 75.52
MAXIMUM_RESOLUTION = 0.0627
FOOTPRINT_POINT_LATITUDE = (32.5022,32.4958,32.4844,32.4842, 32.4758,31.9023,31.5209,30.7588,29.9986 ,29.2399,28.8511,28.4631,27.8811, 27.2885,26.8923,26.4963,26.0923,25.6873 ,25.2832,24.6645,24.2517,23.834,23.4128 ,22.9925,22.5635,22.1354,21.4831, 21.0471,20.6028,20.1587,19.7072,19.2555 ,18.796,18.1021,17.6349,17.1609,16.4426 ,15.7144,15.2259,14.7286,14.2268, 13.7197,13.2093,12.6911,12.1675,11.6382 ,10.8341,10.5633,10.5317,10.5257, 10.5187,10.513,10.5025,10.5022,10.5035, 11.0462,11.5827,12.1132,12.6391,13.1591 ,13.6718,14.1796,14.683,15.1815,15.6732 ,16.1614,16.6452,17.1226,17.5983, 18.0669,18.5323,18.9928,19.6759,20.1288 ,20.5736,21.0194,21.4565,22.1109, 22.5404,23.1817,23.6029,24.2329,24.6459 ,25.0592,25.6709,26.0761,26.4818, 26.8783,27.2756,27.8703,28.4531,28.8416 ,29.2311,29.9917,30.7533,31.135,31.7074 ,32.281,32.4729,32.5022)
FOOTPRINT_POINT_LONGITUDE = (14.7761,13.9789,13.2086,13.1937, 13.1717,13.1778,13.1827,13.1899,13.1958 ,13.1995,13.1999,13.2019,13.2016, 13.2027,13.2026,13.2011,13.2012,13.1987 ,13.1963,13.1925,13.1884,13.1848,13.18, 13.176,13.1717,13.167,13.1581,13.1517, 13.1452,13.1372,13.1288,13.1201,13.1111 ,13.0963,13.0857,13.0746,13.0545, 13.0351,13.0251,13.0111,12.9965,12.9787 ,12.9649,12.9482,12.9308,12.9118, 12.8842,12.8741,12.8732,13.3367,13.9043 ,14.3498,15.0163,15.0365,15.0432, 15.0381,15.0336,15.0296,15.0242,15.0194 ,15.0147,15.0101,15.0059,15.0014, 14.9968,14.9926,14.9879,14.9832,14.9785 ,14.9732,14.9689,14.9649,14.9582, 14.9534,14.9489,14.9444,14.9397,14.9322 ,14.9269,14.9199,14.9153,14.9081, 14.9034,14.8994,14.8913,14.8865,14.8817 ,14.8764,14.8706,14.8625,14.8539, 14.8494,14.8436,14.8311,14.8193,14.8126 ,14.8042,14.795,14.7908,14.7761)
ORBIT_NUMBER = 7436
ORBITAL_ECCENTRICITY = 0.571
ORBITAL_INCLINATION = 86.82
ORBITAL_SEMIMAJOR_AXIS = 8725.54
PERIAPSIS_ALTITUDE = 358.66
PERIAPSIS_ARGUMENT_ANGLE = 133.91
PERIAPSIS_TIME = 2009-10-20T05:43:53.000Z
SPACECRAFT_ORIENTATION = (0.0,-1.0,0.0)
^MEX_ORIENTATION_DESC = "MEX_ORIENTATION_DESC.TXT"
SPACECRAFT_POINTING_MODE = ACROSSTRACK
^MEX_POINTING_DESC = "MEX_POINTING_DESC.TXT"
RIGHT_ASCENSION = -1e+32
DECLINATION = -1e+32
OFFSET_ANGLE = -0.1
SPACECRAFT_SOLAR_DISTANCE = 2.3183e+08
TARGET_NAME = MARS
/* CAMERA DATA ELEMENTS */
DETECTOR_TEMPERATURE = 17.9627
FOCAL_PLANE_TEMPERATURE = 8.1755
INST_CMPRS_NAME = "DISCRETE COSINE TRANSFORMATION (DCT)"
INST_CMPRS_RATIO = 17.2283
INST_CMPRS_QUALITY = 0
INST_CMPRS_QUANTZ_TBL_ID = 0
INSTRUMENT_TEMPERATURE = 11.234
LENS_TEMPERATURE = 8.5833
MACROPIXEL_SIZE = 4
MISSING_FRAMES = 0
PIXEL_SUBSAMPLING_FLAG = N
SIGNAL_CHAIN_ID = 2
/* RADIOMETRIC DATA ELEMENTS */
BANDWIDTH = 88.0
CENTER_FILTER_WAVELENGTH = 538.0
RADIANCE_OFFSET = 1.73047
RADIANCE_SCALING_FACTOR = 0.00654086
REFLECTANCE_SCALING_FACTOR = 0.000302667
MEX:REFLECTANCE_OFFSET = 0.0800743
/* IMAGE OBJECT DEFINITIONS */
OBJECT = IMAGE
  INTERCHANGE_FORMAT = BINARY
  LINES = 26072
  LINE_SAMPLES = 2583
  SAMPLE_TYPE = UNSIGNED_INTEGER
  SAMPLE_BITS = 8
  BANDS = 1
  BAND_STORAGE_TYPE = BAND_SEQUENTIAL
  MAXIMUM = 255
  MEAN = 128.566
  MINIMUM = 1
  STANDARD_DEVIATION = 20.7344
END_OBJECT = IMAGE
/* MAP OBJECT DEFINITIONS */
OBJECT = IMAGE_MAP_PROJECTION
  ^DATA_SET_MAP_PROJECTION_CATALOG= "DSMAP.CAT"
  A_AXIS_RADIUS = 3396.0
  B_AXIS_RADIUS = 3396.0
  C_AXIS_RADIUS = 3396.0
  CENTER_LATITUDE = 0.0
  CENTER_LONGITUDE = 14.0
  COORDINATE_SYSTEM_NAME = PLANETOGRAPHIC
  COORDINATE_SYSTEM_TYPE = "BODY-FIXED ROTATING"
  EASTERNMOST_LONGITUDE = 15.0432
  FIRST_STANDARD_PARALLEL = "N/A"
  LINE_FIRST_PIXEL = 1
  LINE_LAST_PIXEL = 26072
  LINE_PROJECTION_OFFSET = 38536.375
  MAP_PROJECTION_ROTATION = 0.0
  MAP_PROJECTION_TYPE = SINUSOIDAL
  MAP_RESOLUTION = 1185.42760773333
  MAP_SCALE = 0.05
  MAXIMUM_LATITUDE = 32.5022
  MINIMUM_LATITUDE = 10.5022
  POSITIVE_LONGITUDE_DIRECTION = EAST
  REFERENCE_LATITUDE = "N/A"
  REFERENCE_LONGITUDE = "N/A"
  SAMPLE_FIRST_PIXEL = 1
  SAMPLE_LAST_PIXEL = 2583
  SAMPLE_PROJECTION_OFFSET = 1343.875
  SECOND_STANDARD_PARALLEL = "N/A"
  WESTERNMOST_LONGITUDE = 12.8732
END_OBJECT = IMAGE_MAP_PROJECTION
END
