PDS_VERSION_ID = PDS3
/* FILE DATA ELEMENTS */
RECORD_TYPE = UNDEFINED
/* POINTERS TO DATA OBJECTS */
^IMAGE = ("H7436_0000_ND4.TIF")
/* IDENTIFICATION DATA ELEMENTS */
DATA_SET_ID = "MEX-M-HRSC-4-REFDR-MAPPROJECT-EXT3-V4.0"
DATA_SET_NAME = "MARS EXPRESS HRSC MAP PROJECTED REFDR EXTENSION3 V4.0"
DETECTOR_ID = MEX_HRSC_NADIR
EVENT_TYPE = "MARS-REGIONAL-MAPPING-Fl-Pf-La"
INSTRUMENT_HOST_ID = MEX
INSTRUMENT_HOST_NAME = "MARS EXPRESS"
INSTRUMENT_ID = HRSC
INSTRUMENT_NAME = "HIGH RESOLUTION STEREO CAMERA"
MISSION_NAME = "MARS EXPRESS"
MISSION_PHASE_NAME = ME_Phase_18
PROCESSING_LEVEL_ID = 4
PRODUCT_CREATION_TIME = 2023-02-02T15:10:19.000Z
PRODUCT_ID = "H7436_0000_ND4.TIF"
RELEASE_ID = 0003
REVISION_ID = 0000
/* QUALITY DATA ELEMENTS */
DATA_QUALITY_ID = 1
DATA_QUALITY_DESC = "Data calculated based on original SPICE kernels"
/* TIME DATA ELEMENTS */
SPACECRAFT_CLOCK_START_COUNT = "1/0204097606.09130"
SPACECRAFT_CLOCK_STOP_COUNT = "1/0204098081.65216"
START_TIME = 2009-10-20T05:47:23.617Z
STOP_TIME = 2009-10-20T05:53:28.614Z
/* ORBITAL DATA ELEMENTS */
ASCENDING_NODE_LONGITUDE = 75.52
MAXIMUM_RESOLUTION = 0.0158
FOOTPRINT_POINT_LATITUDE = (32.5065,32.5023,32.4893,32.489,32.4891 ,31.9183,31.1587,30.401,29.6454,29.2586 ,28.6787,28.2929,27.7025,27.3081, 26.9142,26.5117,26.1091,25.7074,25.2972 ,24.682,24.0574,23.6396,23.0039,22.5784 ,21.9304,21.4975,21.0559,20.6154, 20.1672,19.4911,19.0353,18.5746,18.1117 ,17.6414,17.1695,16.6917,16.2091, 15.7233,15.231,14.7336,14.2323,13.7267, 13.2135,12.6951,12.1714,11.6423,10.8374 ,10.5665,10.5442,10.5368,10.528,10.5141 ,10.5137,10.5139,11.3261,11.8607, 12.3886,12.9103,13.4268,13.9379,14.4447 ,14.9449,15.4399,15.9312,16.4174, 16.8976,17.3751,17.8465,18.5462,19.0083 ,19.4651,20.143,20.5926,21.0339,21.4764 ,21.9105,22.5602,22.9865,23.6239, 24.0424,24.6688,25.0795,25.4908,26.099, 26.5023,26.906,27.3005,27.6956,28.2876, 28.6741,29.0612,29.4489,30.0211,30.7792 ,31.1589,31.5392,31.9199,32.3011, 32.4918,32.5065)
FOOTPRINT_POINT_LONGITUDE = (14.7805,14.1813,13.2003,13.1844, 13.1581,13.1643,13.1726,13.1788,13.1827 ,13.1848,13.1869,13.1868,13.1865, 13.1872,13.1879,13.1852,13.1852,13.1824 ,13.1797,13.1756,13.169,13.1655,13.1582 ,13.1536,13.1456,13.1394,13.1326, 13.1258,13.1174,13.1044,13.0952,13.0854 ,13.0751,13.0641,13.0526,13.0409,13.025 ,13.0117,13.0012,12.9869,12.9718, 12.9536,12.9392,12.9218,12.904,12.8847, 12.8559,12.845,12.8441,13.4996,14.1555, 15.0275,15.0493,15.0599,15.0517,15.048, 15.0416,15.0365,15.0315,15.0269,15.0219 ,15.0168,15.0118,15.0073,15.0024, 14.9974,14.9924,14.9871,14.9795,14.9754 ,14.9706,14.9634,14.9584,14.9537, 14.9487,14.9435,14.9353,14.9306,14.9233 ,14.9182,14.9108,14.9067,14.9006, 14.8932,14.8884,14.8825,14.8768,14.871, 14.8628,14.8571,14.8521,14.8459,14.8361 ,14.824,14.8171,14.812,14.8053,14.7992, 14.7946,14.7805)
ORBIT_NUMBER = 7436
ORBITAL_ECCENTRICITY = 0.571
ORBITAL_INCLINATION = 86.82
ORBITAL_SEMIMAJOR_AXIS = 8725.54
PERIAPSIS_ALTITUDE = 358.66
PERIAPSIS_ARGUMENT_ANGLE = 133.91
PERIAPSIS_TIME = 2009-10-20T05:43:53.000Z
SPACECRAFT_ORIENTATION = (0.0,-1.0,0.0)
^MEX_ORIENTATION_DESC = "MEX_ORIENTATION_DESC.TXT"
SPACECRAFT_POINTING_MODE = ACROSSTRACK
^MEX_POINTING_DESC = "MEX_POINTING_DESC.TXT"
RIGHT_ASCENSION = -1e+32
DECLINATION = -1e+32
OFFSET_ANGLE = -0.1
SPACECRAFT_SOLAR_DISTANCE = 2.3183e+08
TARGET_NAME = MARS
/* CAMERA DATA ELEMENTS */
DETECTOR_TEMPERATURE = 17.9627
FOCAL_PLANE_TEMPERATURE = 8.1755
INST_CMPRS_NAME = "DISCRETE COSINE TRANSFORMATION (DCT)"
INST_CMPRS_RATIO = 7.17626
INST_CMPRS_QUALITY = 0
INST_CMPRS_QUANTZ_TBL_ID = 0
INSTRUMENT_TEMPERATURE = 11.234
LENS_TEMPERATURE = 8.5833
MACROPIXEL_SIZE = 1
MISSING_FRAMES = 0
PIXEL_SUBSAMPLING_FLAG = N
SIGNAL_CHAIN_ID = 0
/* RADIOMETRIC DATA ELEMENTS */
BANDWIDTH = 177.0
CENTER_FILTER_WAVELENGTH = 677.5
RADIANCE_OFFSET = 4.84537
RADIANCE_SCALING_FACTOR = 0.0293405
REFLECTANCE_SCALING_FACTOR = 0.000837711
MEX:REFLECTANCE_OFFSET = 0.138342
/* IMAGE OBJECT DEFINITIONS */
OBJECT = IMAGE
  INTERCHANGE_FORMAT = BINARY
  LINES = 104285
  LINE_SAMPLES = 10329
  SAMPLE_TYPE = UNSIGNED_INTEGER
  SAMPLE_BITS = 8
  BANDS = 1
  BAND_STORAGE_TYPE = BAND_SEQUENTIAL
  MAXIMUM = 255
  MEAN = 141.607
  MINIMUM = 1
  STANDARD_DEVIATION = 21.9414
END_OBJECT = IMAGE
/* MAP OBJECT DEFINITIONS */
OBJECT = IMAGE_MAP_PROJECTION
  ^DATA_SET_MAP_PROJECTION_CATALOG= "DSMAP.CAT"
  A_AXIS_RADIUS = 3396.0
  B_AXIS_RADIUS = 3396.0
  C_AXIS_RADIUS = 3396.0
  CENTER_LATITUDE = 0.0
  CENTER_LONGITUDE = 14.0
  COORDINATE_SYSTEM_NAME = PLANETOGRAPHIC
  COORDINATE_SYSTEM_TYPE = "BODY-FIXED ROTATING"
  EASTERNMOST_LONGITUDE = 15.0599
  FIRST_STANDARD_PARALLEL = "N/A"
  LINE_FIRST_PIXEL = 1
  LINE_LAST_PIXEL = 104285
  LINE_PROJECTION_OFFSET = 154147.0
  MAP_PROJECTION_ROTATION = 0.0
  MAP_PROJECTION_TYPE = SINUSOIDAL
  MAP_RESOLUTION = 4741.71043093333
  MAP_SCALE = 0.0125
  MAXIMUM_LATITUDE = 32.5065
  MINIMUM_LATITUDE = 10.5137
  POSITIVE_LONGITUDE_DIRECTION = EAST
  REFERENCE_LATITUDE = "N/A"
  REFERENCE_LONGITUDE = "N/A"
  SAMPLE_FIRST_PIXEL = 1
  SAMPLE_LAST_PIXEL = 10329
  SAMPLE_PROJECTION_OFFSET = 5377.0
  SECOND_STANDARD_PARALLEL = "N/A"
  WESTERNMOST_LONGITUDE = 12.8441
END_OBJECT = IMAGE_MAP_PROJECTION
END
