PDS_VERSION_ID = PDS3
/* FILE DATA ELEMENTS */
RECORD_TYPE = UNDEFINED
/* POINTERS TO DATA OBJECTS */
^IMAGE = ("H7436_0000_S24.TIF")
/* IDENTIFICATION DATA ELEMENTS */
DATA_SET_ID = "MEX-M-HRSC-4-REFDR-MAPPROJECT-EXT3-V4.0"
DATA_SET_NAME = "MARS EXPRESS HRSC MAP PROJECTED REFDR EXTENSION3 V4.0"
DETECTOR_ID = MEX_HRSC_S2
EVENT_TYPE = "MARS-REGIONAL-MAPPING-Fl-Pf-La"
INSTRUMENT_HOST_ID = MEX
INSTRUMENT_HOST_NAME = "MARS EXPRESS"
INSTRUMENT_ID = HRSC
INSTRUMENT_NAME = "HIGH RESOLUTION STEREO CAMERA"
MISSION_NAME = "MARS EXPRESS"
MISSION_PHASE_NAME = ME_Phase_18
PROCESSING_LEVEL_ID = 4
PRODUCT_CREATION_TIME = 2023-02-02T15:10:19.000Z
PRODUCT_ID = "H7436_0000_S24.TIF"
RELEASE_ID = 0003
REVISION_ID = 0000
/* QUALITY DATA ELEMENTS */
DATA_QUALITY_ID = 1
DATA_QUALITY_DESC = "Data calculated based on original SPICE kernels"
/* TIME DATA ELEMENTS */
SPACECRAFT_CLOCK_START_COUNT = "1/0204097606.09130"
SPACECRAFT_CLOCK_STOP_COUNT = "1/0204098081.65216"
START_TIME = 2009-10-20T05:48:01.663Z
STOP_TIME = 2009-10-20T05:54:42.543Z
/* ORBITAL DATA ELEMENTS */
ASCENDING_NODE_LONGITUDE = 75.52
MAXIMUM_RESOLUTION = 0.0349
FOOTPRINT_POINT_LATITUDE = (32.4486,32.448,32.4466,32.4436,32.4435 ,32.4903,31.745,30.8038,30.4211,29.8467 ,29.2695,28.6837,28.2958,27.7033, 27.1045,26.706,26.297,25.8914,25.4847, 25.0732,24.6581,24.245,23.8238,23.402, 22.9757,22.3268,21.6749,21.2359,20.7912 ,20.3456,19.8968,19.4434,18.9874, 18.5254,18.0601,17.5919,17.1195,16.4088 ,15.9255,15.1797,14.6841,14.1828, 13.6769,13.1677,12.6513,11.8755,11.3617 ,10.8613,10.6075,10.5569,10.5395, 10.5155,10.4963,10.496,10.4966,11.0043, 11.5194,12.0356,12.5538,13.0716,13.584, 14.0917,14.5946,15.0928,15.5859,16.0764 ,16.5606,17.0394,17.5131,17.9821,18.449 ,18.9138,19.3725,19.8282,20.2792,20.728 ,21.1713,21.6109,22.2634,22.6949, 23.1219,23.7615,24.3949,25.0216,25.6372 ,26.0479,26.4541,26.8557,27.258,27.8531 ,28.2519,28.642,29.0346,29.4256,30.19, 30.7665,31.5258,32.2782,32.4598, 32.4486)
FOOTPRINT_POINT_LONGITUDE = (14.821,14.3348,13.8478,13.1637,13.1474 ,13.122,13.1289,13.1351,13.1373,13.139, 13.14,13.1403,13.1395,13.1371,13.1361, 13.1321,13.1322,13.1285,13.1242,13.1205 ,13.116,13.11,13.1045,13.0988,13.0919, 13.0827,13.0709,13.0624,13.0537,13.0444 ,13.0335,13.0225,13.011,12.999,12.9861, 12.9726,12.9586,12.9335,12.9176,12.8959 ,12.8782,12.8601,12.8411,12.8207,12.8, 12.7674,12.7454,12.7199,12.7085,12.7061 ,13.4335,14.3283,15.1728,15.197,15.2057 ,15.1962,15.1879,15.1789,15.1695, 15.1606,15.1519,15.1434,15.1352,15.1272 ,15.1192,15.1118,15.1039,15.0961, 15.0884,15.0805,15.073,15.0663,15.0594, 15.0523,15.045,15.0388,15.0312,15.0244, 15.0137,15.0062,14.9993,14.9898,14.98, 14.9709,14.9604,14.9537,14.9473,14.94, 14.9329,14.9227,14.916,14.909,14.9026, 14.8952,14.8801,14.8693,14.8561,14.841, 14.8361,14.821)
ORBIT_NUMBER = 7436
ORBITAL_ECCENTRICITY = 0.571
ORBITAL_INCLINATION = 86.82
ORBITAL_SEMIMAJOR_AXIS = 8725.54
PERIAPSIS_ALTITUDE = 358.66
PERIAPSIS_ARGUMENT_ANGLE = 133.91
PERIAPSIS_TIME = 2009-10-20T05:43:53.000Z
SPACECRAFT_ORIENTATION = (0.0,-1.0,0.0)
^MEX_ORIENTATION_DESC = "MEX_ORIENTATION_DESC.TXT"
SPACECRAFT_POINTING_MODE = ACROSSTRACK
^MEX_POINTING_DESC = "MEX_POINTING_DESC.TXT"
RIGHT_ASCENSION = -1e+32
DECLINATION = -1e+32
OFFSET_ANGLE = -0.1
SPACECRAFT_SOLAR_DISTANCE = 2.3183e+08
TARGET_NAME = MARS
/* CAMERA DATA ELEMENTS */
DETECTOR_TEMPERATURE = 18.5744
FOCAL_PLANE_TEMPERATURE = 8.1755
INST_CMPRS_NAME = "DISCRETE COSINE TRANSFORMATION (DCT)"
INST_CMPRS_RATIO = 12.3659
INST_CMPRS_QUALITY = 0
INST_CMPRS_QUANTZ_TBL_ID = 0
INSTRUMENT_TEMPERATURE = 11.234
LENS_TEMPERATURE = 8.5833
MACROPIXEL_SIZE = 2
MISSING_FRAMES = 0
PIXEL_SUBSAMPLING_FLAG = N
SIGNAL_CHAIN_ID = 1
/* RADIOMETRIC DATA ELEMENTS */
BANDWIDTH = 178.0
CENTER_FILTER_WAVELENGTH = 679.0
RADIANCE_OFFSET = 5.4952
RADIANCE_SCALING_FACTOR = 0.0263387
REFLECTANCE_SCALING_FACTOR = 0.000749663
MEX:REFLECTANCE_OFFSET = 0.156407
/* IMAGE OBJECT DEFINITIONS */
OBJECT = IMAGE
  INTERCHANGE_FORMAT = BINARY
  LINES = 52143
  LINE_SAMPLES = 5165
  SAMPLE_TYPE = UNSIGNED_INTEGER
  SAMPLE_BITS = 8
  BANDS = 1
  BAND_STORAGE_TYPE = BAND_SEQUENTIAL
  MAXIMUM = 255
  MEAN = 156.064
  MINIMUM = 1
  STANDARD_DEVIATION = 20.1266
END_OBJECT = IMAGE
/* MAP OBJECT DEFINITIONS */
OBJECT = IMAGE_MAP_PROJECTION
  ^DATA_SET_MAP_PROJECTION_CATALOG= "DSMAP.CAT"
  A_AXIS_RADIUS = 3396.0
  B_AXIS_RADIUS = 3396.0
  C_AXIS_RADIUS = 3396.0
  CENTER_LATITUDE = 0.0
  CENTER_LONGITUDE = 14.0
  COORDINATE_SYSTEM_NAME = PLANETOGRAPHIC
  COORDINATE_SYSTEM_TYPE = "BODY-FIXED ROTATING"
  EASTERNMOST_LONGITUDE = 15.2057
  FIRST_STANDARD_PARALLEL = "N/A"
  LINE_FIRST_PIXEL = 1
  LINE_LAST_PIXEL = 52143
  LINE_PROJECTION_OFFSET = 77073.25
  MAP_PROJECTION_ROTATION = 0.0
  MAP_PROJECTION_TYPE = SINUSOIDAL
  MAP_RESOLUTION = 2370.85521546667
  MAP_SCALE = 0.025
  MAXIMUM_LATITUDE = 32.4903
  MINIMUM_LATITUDE = 10.496
  POSITIVE_LONGITUDE_DIRECTION = EAST
  REFERENCE_LATITUDE = "N/A"
  REFERENCE_LONGITUDE = "N/A"
  SAMPLE_FIRST_PIXEL = 1
  SAMPLE_LAST_PIXEL = 5165
  SAMPLE_PROJECTION_OFFSET = 2688.25
  SECOND_STANDARD_PARALLEL = "N/A"
  WESTERNMOST_LONGITUDE = 12.7061
END_OBJECT = IMAGE_MAP_PROJECTION
END
