PDS_VERSION_ID = PDS3
/* FILE DATA ELEMENTS */
RECORD_TYPE = UNDEFINED
/* POINTERS TO DATA OBJECTS */
^IMAGE = ("H7439_0000_S14.TIF")
/* IDENTIFICATION DATA ELEMENTS */
DATA_SET_ID = "MEX-M-HRSC-4-REFDR-MAPPROJECT-EXT3-V4.0"
DATA_SET_NAME = "MARS EXPRESS HRSC MAP PROJECTED REFDR EXTENSION3 V4.0"
DETECTOR_ID = MEX_HRSC_S1
EVENT_TYPE = "MARS-LOCAL-STEREO-Te-Fl-Pf"
INSTRUMENT_HOST_ID = MEX
INSTRUMENT_HOST_NAME = "MARS EXPRESS"
INSTRUMENT_ID = HRSC
INSTRUMENT_NAME = "HIGH RESOLUTION STEREO CAMERA"
MISSION_NAME = "MARS EXPRESS"
MISSION_PHASE_NAME = ME_Phase_18
PROCESSING_LEVEL_ID = 4
PRODUCT_CREATION_TIME = 2023-02-02T15:10:19.000Z
PRODUCT_ID = "H7439_0000_S14.TIF"
RELEASE_ID = 0003
REVISION_ID = 0000
/* QUALITY DATA ELEMENTS */
DATA_QUALITY_ID = 1
DATA_QUALITY_DESC = "Data calculated based on original SPICE kernels"
/* TIME DATA ELEMENTS */
SPACECRAFT_CLOCK_START_COUNT = "1/0204172026.09054"
SPACECRAFT_CLOCK_STOP_COUNT = "1/0204172188.09938"
START_TIME = 2009-10-21T02:27:08.624Z
STOP_TIME = 2009-10-21T02:28:33.227Z
/* ORBITAL DATA ELEMENTS */
ASCENDING_NODE_LONGITUDE = 75.45
MAXIMUM_RESOLUTION = 0.0156
FOOTPRINT_POINT_LATITUDE = (36.8534,36.8592,36.863,36.866,36.8683, 36.8697,36.8705,36.8705,36.8152,36.6301 ,36.4809,36.3692,36.2579,36.1466,35.98, 35.8682,35.7566,35.5906,35.4797,35.3653 ,35.1939,35.0819,34.9184,34.698,34.5304 ,34.31,34.1477,34.0325,33.9181,33.698, 33.5842,33.3609,33.2036,32.9828,32.8706 ,32.7487,32.636,32.4698,32.3072,32.1458 ,32.0351,31.9183,31.7534,31.535,31.3661 ,31.3103,31.2984,31.296,31.2913,31.2863 ,31.2855,31.2823,31.2778,31.2708, 31.2677,31.2653,31.2654,31.3792,31.6045 ,31.7622,31.8735,31.9897,32.1071, 32.2188,32.3309,32.4419,32.5527,32.767, 32.8806,33.0996,33.2113,33.3285,33.4998 ,33.714,33.8259,33.9369,34.0492,34.1613 ,34.3287,34.4406,34.5528,34.7205, 34.8328,34.9437,35.0552,35.2225,35.3344 ,35.4459,35.5576,35.6693,35.7804, 35.8916,36.0036,36.1715,36.2838,36.3952 ,36.5547,36.7417,36.7887,36.8534)
FOOTPRINT_POINT_LONGITUDE = (72.8353,72.5172,72.2644,72.013,71.7633 ,71.5148,71.2675,71.252,71.2405,71.2441 ,71.2468,71.2488,71.2507,71.2526, 71.2554,71.2572,71.259,71.2617,71.2634, 71.2648,71.2668,71.2683,71.2709,71.2739 ,71.276,71.2788,71.2811,71.282,71.2829, 71.2854,71.2862,71.2882,71.2905,71.2925 ,71.2933,71.2932,71.2938,71.295,71.2965 ,71.298,71.2987,71.2987,71.2997,71.3011 ,71.3016,71.3017,71.3018,71.5354, 71.8021,71.9914,72.1334,72.308,72.4836, 72.7086,72.8848,72.9021,72.91,72.908, 72.9054,72.9102,72.9098,72.9063,72.902, 72.9013,72.9003,72.8999,72.8997,72.9038 ,72.9018,72.9029,72.9021,72.8979, 72.8943,72.8985,72.8975,72.8971,72.8959 ,72.8947,72.8935,72.8925,72.8913, 72.8899,72.8886,72.8882,72.8874,72.8861 ,72.885,72.8842,72.8832,72.8821,72.8816 ,72.8809,72.8797,72.8778,72.8764, 72.8755,72.8743,72.8726,72.872,72.8353)
ORBIT_NUMBER = 7439
ORBITAL_ECCENTRICITY = 0.571
ORBITAL_INCLINATION = 86.83
ORBITAL_SEMIMAJOR_AXIS = 8728.47
PERIAPSIS_ALTITUDE = 358.02
PERIAPSIS_ARGUMENT_ANGLE = 133.39
PERIAPSIS_TIME = 2009-10-21T02:25:11.000Z
SPACECRAFT_ORIENTATION = (0.0,-1.0,0.0)
^MEX_ORIENTATION_DESC = "MEX_ORIENTATION_DESC.TXT"
SPACECRAFT_POINTING_MODE = ACROSSTRACK
^MEX_POINTING_DESC = "MEX_POINTING_DESC.TXT"
RIGHT_ASCENSION = -1e+32
DECLINATION = -1e+32
OFFSET_ANGLE = 0.45
SPACECRAFT_SOLAR_DISTANCE = 2.31992e+08
TARGET_NAME = MARS
/* CAMERA DATA ELEMENTS */
DETECTOR_TEMPERATURE = 17.5549
FOCAL_PLANE_TEMPERATURE = 8.3794
INST_CMPRS_NAME = "DISCRETE COSINE TRANSFORMATION (DCT)"
INST_CMPRS_RATIO = 8.27037
INST_CMPRS_QUALITY = 0
INST_CMPRS_QUANTZ_TBL_ID = 0
INSTRUMENT_TEMPERATURE = 11.234
LENS_TEMPERATURE = 8.5833
MACROPIXEL_SIZE = 1
MISSING_FRAMES = 0
PIXEL_SUBSAMPLING_FLAG = N
SIGNAL_CHAIN_ID = 2
/* RADIOMETRIC DATA ELEMENTS */
BANDWIDTH = 180.0
CENTER_FILTER_WAVELENGTH = 677.0
RADIANCE_OFFSET = 4.97434
RADIANCE_SCALING_FACTOR = 0.0177338
REFLECTANCE_SCALING_FACTOR = 0.000497958
MEX:REFLECTANCE_OFFSET = 0.139677
/* IMAGE OBJECT DEFINITIONS */
OBJECT = IMAGE
  INTERCHANGE_FORMAT = BINARY
  LINES = 26312
  LINE_SAMPLES = 6711
  SAMPLE_TYPE = UNSIGNED_INTEGER
  SAMPLE_BITS = 8
  BANDS = 1
  BAND_STORAGE_TYPE = BAND_SEQUENTIAL
  MAXIMUM = 255
  MEAN = 132.371
  MINIMUM = 1
  STANDARD_DEVIATION = 25.9467
END_OBJECT = IMAGE
/* MAP OBJECT DEFINITIONS */
OBJECT = IMAGE_MAP_PROJECTION
  ^DATA_SET_MAP_PROJECTION_CATALOG= "DSMAP.CAT"
  A_AXIS_RADIUS = 3396.0
  B_AXIS_RADIUS = 3396.0
  C_AXIS_RADIUS = 3396.0
  CENTER_LATITUDE = 0.0
  CENTER_LONGITUDE = 72.0
  COORDINATE_SYSTEM_NAME = PLANETOGRAPHIC
  COORDINATE_SYSTEM_TYPE = "BODY-FIXED ROTATING"
  EASTERNMOST_LONGITUDE = 72.9102
  FIRST_STANDARD_PARALLEL = "N/A"
  LINE_FIRST_PIXEL = 1
  LINE_LAST_PIXEL = 26312
  LINE_PROJECTION_OFFSET = 174562.0
  MAP_PROJECTION_ROTATION = 0.0
  MAP_PROJECTION_TYPE = SINUSOIDAL
  MAP_RESOLUTION = 4741.71043093333
  MAP_SCALE = 0.0125
  MAXIMUM_LATITUDE = 36.8705
  MINIMUM_LATITUDE = 31.2653
  POSITIVE_LONGITUDE_DIRECTION = EAST
  REFERENCE_LATITUDE = "N/A"
  REFERENCE_LONGITUDE = "N/A"
  SAMPLE_FIRST_PIXEL = 1
  SAMPLE_LAST_PIXEL = 6711
  SAMPLE_PROJECTION_OFFSET = 2962.0
  SECOND_STANDARD_PARALLEL = "N/A"
  WESTERNMOST_LONGITUDE = 71.2405
END_OBJECT = IMAGE_MAP_PROJECTION
END
