PDS_VERSION_ID = PDS3
/* FILE DATA ELEMENTS */
RECORD_TYPE = UNDEFINED
/* POINTERS TO DATA OBJECTS */
^IMAGE = ("H7445_0000_BL4.TIF")
/* IDENTIFICATION DATA ELEMENTS */
DATA_SET_ID = "MEX-M-HRSC-4-REFDR-MAPPROJECT-EXT3-V4.0"
DATA_SET_NAME = "MARS EXPRESS HRSC MAP PROJECTED REFDR EXTENSION3 V4.0"
DETECTOR_ID = MEX_HRSC_BLUE
EVENT_TYPE = "MARS-REGIONAL-MAPPING-Vo-Te-Pf"
INSTRUMENT_HOST_ID = MEX
INSTRUMENT_HOST_NAME = "MARS EXPRESS"
INSTRUMENT_ID = HRSC
INSTRUMENT_NAME = "HIGH RESOLUTION STEREO CAMERA"
MISSION_NAME = "MARS EXPRESS"
MISSION_PHASE_NAME = ME_Phase_18
PROCESSING_LEVEL_ID = 4
PRODUCT_CREATION_TIME = 2023-02-02T15:10:19.000Z
PRODUCT_ID = "H7445_0000_BL4.TIF"
RELEASE_ID = 0003
REVISION_ID = 0000
/* QUALITY DATA ELEMENTS */
DATA_QUALITY_ID = 1
DATA_QUALITY_DESC = "Data calculated based on original SPICE kernels"
/* TIME DATA ELEMENTS */
SPACECRAFT_CLOCK_START_COUNT = "1/0204320837.07298"
SPACECRAFT_CLOCK_STOP_COUNT = "1/0204321097.04608"
START_TIME = 2009-10-22T19:47:57.848Z
STOP_TIME = 2009-10-22T19:51:06.479Z
/* ORBITAL DATA ELEMENTS */
ASCENDING_NODE_LONGITUDE = 75.33
MAXIMUM_RESOLUTION = 0.1163
FOOTPRINT_POINT_LATITUDE = (46.8625,46.8503,46.8328,46.8187, 46.8181,46.8318,46.6065,46.3813,46.156, 45.9308,45.7057,45.4805,45.1428,44.9177 ,44.6929,44.468,44.2431,44.0183,43.7936 ,43.5688,43.3442,43.1197,42.8952, 42.4464,41.9979,41.5497,41.1019,40.6545 ,40.2075,39.9597,39.6932,39.4269, 39.1608,38.8948,38.629,38.3634,38.0979, 37.8327,37.5676,37.3027,37.038,36.7735, 36.5091,36.245,35.9811,35.7175,35.454, 35.1907,34.9277,34.7963,34.7684,34.7759 ,34.7822,34.7875,34.7875,34.7896,35.053 ,35.3166,35.5804,35.9766,36.2409, 36.5056,36.7703,37.0354,37.4327,37.8313 ,38.097,38.3633,38.6297,38.8961,39.2958 ,39.5627,39.8296,40.2157,40.6637,41.112 ,41.5608,41.7854,42.01,42.2347,42.4595, 42.6844,42.9093,43.1343,43.3594,43.5846 ,43.9225,44.2606,44.486,44.7115,44.937, 45.1626,45.3883,45.614,45.8398,46.0656, 46.4042,46.7431,46.8561,46.8625)
FOOTPRINT_POINT_LONGITUDE = (186.865,186.27,185.593,185.131,185.114 ,185.066,185.082,185.098,185.114, 185.129,185.144,185.158,185.18,185.194, 185.207,185.22,185.233,185.245,185.258, 185.27,185.282,185.294,185.305,185.327, 185.348,185.368,185.387,185.405,185.422 ,185.431,185.441,185.45,185.459,185.468 ,185.476,185.484,185.492,185.5,185.507, 185.514,185.521,185.527,185.533,185.539 ,185.545,185.551,185.556,185.561, 185.566,185.568,185.568,186.036,186.552 ,187.21,187.225,187.236,187.231,187.225 ,187.22,187.212,187.206,187.201,187.195 ,187.19,187.18,187.172,187.165,187.16, 187.154,187.148,187.138,187.132,187.125 ,187.115,187.103,187.091,187.079, 187.073,187.066,187.06,187.053,187.046, 187.04,187.033,187.026,187.019,187.008, 186.997,186.99,186.982,186.974,186.967, 186.959,186.951,186.943,186.934,186.922 ,186.909,186.905,186.865)
ORBIT_NUMBER = 7445
ORBITAL_ECCENTRICITY = 0.57
ORBITAL_INCLINATION = 86.83
ORBITAL_SEMIMAJOR_AXIS = 8718.31
PERIAPSIS_ALTITUDE = 359.48
PERIAPSIS_ARGUMENT_ANGLE = 132.35
PERIAPSIS_TIME = 2009-10-22T19:47:41.000Z
SPACECRAFT_ORIENTATION = (0.0,-1.0,0.0)
^MEX_ORIENTATION_DESC = "MEX_ORIENTATION_DESC.TXT"
SPACECRAFT_POINTING_MODE = NADIR
^MEX_POINTING_DESC = "MEX_POINTING_DESC.TXT"
RIGHT_ASCENSION = -1e+32
DECLINATION = -1e+32
OFFSET_ANGLE = -1e+32
SPACECRAFT_SOLAR_DISTANCE = 2.32315e+08
TARGET_NAME = MARS
/* CAMERA DATA ELEMENTS */
DETECTOR_TEMPERATURE = 18.3705
FOCAL_PLANE_TEMPERATURE = 8.5833
INST_CMPRS_NAME = "DISCRETE COSINE TRANSFORMATION (DCT)"
INST_CMPRS_RATIO = 29.9925
INST_CMPRS_QUALITY = 0
INST_CMPRS_QUANTZ_TBL_ID = 0
INSTRUMENT_TEMPERATURE = 11.234
LENS_TEMPERATURE = 10.2145
MACROPIXEL_SIZE = 8
MISSING_FRAMES = 0
PIXEL_SUBSAMPLING_FLAG = N
SIGNAL_CHAIN_ID = 2
/* RADIOMETRIC DATA ELEMENTS */
BANDWIDTH = 76.0
CENTER_FILTER_WAVELENGTH = 444.0
RADIANCE_OFFSET = 0.646941
RADIANCE_SCALING_FACTOR = 0.00128417
REFLECTANCE_SCALING_FACTOR = 7.1209e-05
MEX:REFLECTANCE_OFFSET = 0.0358737
/* IMAGE OBJECT DEFINITIONS */
OBJECT = IMAGE
  INTERCHANGE_FORMAT = BINARY
  LINES = 7179
  LINE_SAMPLES = 988
  SAMPLE_TYPE = UNSIGNED_INTEGER
  SAMPLE_BITS = 8
  BANDS = 1
  BAND_STORAGE_TYPE = BAND_SEQUENTIAL
  MAXIMUM = 255
  MEAN = 124.125
  MINIMUM = 1
  STANDARD_DEVIATION = 40.7732
END_OBJECT = IMAGE
/* MAP OBJECT DEFINITIONS */
OBJECT = IMAGE_MAP_PROJECTION
  ^DATA_SET_MAP_PROJECTION_CATALOG= "DSMAP.CAT"
  A_AXIS_RADIUS = 3396.0
  B_AXIS_RADIUS = 3396.0
  C_AXIS_RADIUS = 3396.0
  CENTER_LATITUDE = 0.0
  CENTER_LONGITUDE = 186.0
  COORDINATE_SYSTEM_NAME = PLANETOGRAPHIC
  COORDINATE_SYSTEM_TYPE = "BODY-FIXED ROTATING"
  EASTERNMOST_LONGITUDE = 187.236
  FIRST_STANDARD_PARALLEL = "N/A"
  LINE_FIRST_PIXEL = 1
  LINE_LAST_PIXEL = 7179
  LINE_PROJECTION_OFFSET = 27785.0625
  MAP_PROJECTION_ROTATION = 0.0
  MAP_PROJECTION_TYPE = SINUSOIDAL
  MAP_RESOLUTION = 592.713803866667
  MAP_SCALE = 0.1
  MAXIMUM_LATITUDE = 46.8625
  MINIMUM_LATITUDE = 34.7684
  POSITIVE_LONGITUDE_DIRECTION = EAST
  REFERENCE_LATITUDE = "N/A"
  REFERENCE_LONGITUDE = "N/A"
  SAMPLE_FIRST_PIXEL = 1
  SAMPLE_LAST_PIXEL = 988
  SAMPLE_PROJECTION_OFFSET = 387.5625
  SECOND_STANDARD_PARALLEL = "N/A"
  WESTERNMOST_LONGITUDE = 185.066
END_OBJECT = IMAGE_MAP_PROJECTION
END
