PDS_VERSION_ID = PDS3
/* FILE DATA ELEMENTS */
RECORD_TYPE = UNDEFINED
/* POINTERS TO DATA OBJECTS */
^IMAGE = ("H7466_0000_GR4.TIF")
/* IDENTIFICATION DATA ELEMENTS */
DATA_SET_ID = "MEX-M-HRSC-4-REFDR-MAPPROJECT-EXT3-V4.0"
DATA_SET_NAME = "MARS EXPRESS HRSC MAP PROJECTED REFDR EXTENSION3 V4.0"
DETECTOR_ID = MEX_HRSC_GREEN
EVENT_TYPE = "MARS-REGIONAL-MAPPING-Vo-Te-Pf"
INSTRUMENT_HOST_ID = MEX
INSTRUMENT_HOST_NAME = "MARS EXPRESS"
INSTRUMENT_ID = HRSC
INSTRUMENT_NAME = "HIGH RESOLUTION STEREO CAMERA"
MISSION_NAME = "MARS EXPRESS"
MISSION_PHASE_NAME = ME_Phase_18
PROCESSING_LEVEL_ID = 4
PRODUCT_CREATION_TIME = 2023-02-02T15:10:19.000Z
PRODUCT_ID = "H7466_0000_GR4.TIF"
RELEASE_ID = 0003
REVISION_ID = 0000
/* QUALITY DATA ELEMENTS */
DATA_QUALITY_ID = 1
DATA_QUALITY_DESC = "Data calculated based on original SPICE kernels"
/* TIME DATA ELEMENTS */
SPACECRAFT_CLOCK_START_COUNT = "1/0204842094.09112"
SPACECRAFT_CLOCK_STOP_COUNT = "1/0204842384.26309"
START_TIME = 2009-10-28T20:35:24.876Z
STOP_TIME = 2009-10-28T20:39:02.379Z
/* ORBITAL DATA ELEMENTS */
ASCENDING_NODE_LONGITUDE = 74.93
MAXIMUM_RESOLUTION = 0.1159
FOOTPRINT_POINT_LATITUDE = (54.6121,54.5873,54.5587,54.5164, 54.5152,54.493,53.9647,53.4358,52.9066, 52.3769,51.8468,51.5817,51.3165,51.0513 ,50.6533,50.3879,49.9897,49.7242, 49.4586,49.193,48.9274,48.6618,48.3961, 47.9977,47.732,47.4664,47.0679,46.6695, 46.4038,46.1383,45.8727,45.6072,45.3417 ,44.9436,44.4129,44.1066,43.7901, 43.4736,43.1573,42.841,42.525,42.2091, 41.7353,41.4197,41.1042,40.7888,40.6312 ,40.5221,40.5415,40.5629,40.5739, 40.5743,40.5765,40.8925,41.2086,41.525, 41.8415,42.1581,42.4749,42.9503,43.2674 ,43.5845,43.9019,44.2194,44.5183, 44.9175,45.1837,45.45,45.8495,46.1159, 46.3823,46.6488,46.9153,47.1818,47.4484 ,47.715,48.1149,48.3815,48.6481,48.9148 ,49.3147,49.7146,49.9812,50.2477, 50.5142,50.7807,51.0471,51.3136,51.5799 ,51.9794,52.2456,52.6448,52.9109,53.177 ,53.4429,53.8416,54.1074,54.373,54.5058 ,54.6121)
FOOTPRINT_POINT_LONGITUDE = (227.555,226.93,226.297,225.473,225.453 ,225.348,225.432,225.513,225.591, 225.665,225.736,225.771,225.805,225.838 ,225.887,225.918,225.964,225.994, 226.023,226.052,226.08,226.107,226.134, 226.174,226.199,226.224,226.26,226.296, 226.319,226.341,226.363,226.385,226.405 ,226.436,226.475,226.497,226.519,226.54 ,226.561,226.581,226.6,226.619,226.646, 226.664,226.681,226.697,226.705,226.711 ,227.259,227.981,228.433,228.449, 228.459,228.446,228.433,228.419,228.405 ,228.391,228.376,228.354,228.339, 228.324,228.308,228.292,228.276,228.256 ,228.241,228.227,228.205,228.19,228.174 ,228.159,228.143,228.127,228.111, 228.094,228.069,228.052,228.034,228.016 ,227.989,227.961,227.942,227.923, 227.903,227.883,227.863,227.843,227.822 ,227.789,227.768,227.734,227.711, 227.688,227.664,227.628,227.604,227.579 ,227.566,227.555)
ORBIT_NUMBER = 7466
ORBITAL_ECCENTRICITY = 0.57
ORBITAL_INCLINATION = 86.83
ORBITAL_SEMIMAJOR_AXIS = 8716.89
PERIAPSIS_ALTITUDE = 360.89
PERIAPSIS_ARGUMENT_ANGLE = 128.66
PERIAPSIS_TIME = 2009-10-28T20:36:22.000Z
SPACECRAFT_ORIENTATION = (0.0,-1.0,0.0)
^MEX_ORIENTATION_DESC = "MEX_ORIENTATION_DESC.TXT"
SPACECRAFT_POINTING_MODE = ACROSSTRACK
^MEX_POINTING_DESC = "MEX_POINTING_DESC.TXT"
RIGHT_ASCENSION = -1e+32
DECLINATION = -1e+32
OFFSET_ANGLE = -0.6
SPACECRAFT_SOLAR_DISTANCE = 2.33433e+08
TARGET_NAME = MARS
/* CAMERA DATA ELEMENTS */
DETECTOR_TEMPERATURE = 18.3705
FOCAL_PLANE_TEMPERATURE = 8.3794
INST_CMPRS_NAME = "DISCRETE COSINE TRANSFORMATION (DCT)"
INST_CMPRS_RATIO = 17.1361
INST_CMPRS_QUALITY = 0
INST_CMPRS_QUANTZ_TBL_ID = 0
INSTRUMENT_TEMPERATURE = 11.4379
LENS_TEMPERATURE = 8.7872
MACROPIXEL_SIZE = 8
MISSING_FRAMES = 0
PIXEL_SUBSAMPLING_FLAG = N
SIGNAL_CHAIN_ID = 2
/* RADIOMETRIC DATA ELEMENTS */
BANDWIDTH = 88.0
CENTER_FILTER_WAVELENGTH = 538.0
RADIANCE_OFFSET = 1.69911
RADIANCE_SCALING_FACTOR = 0.00494586
REFLECTANCE_SCALING_FACTOR = 0.000232036
MEX:REFLECTANCE_OFFSET = 0.0797141
/* IMAGE OBJECT DEFINITIONS */
OBJECT = IMAGE
  INTERCHANGE_FORMAT = BINARY
  LINES = 8348
  LINE_SAMPLES = 1238
  SAMPLE_TYPE = UNSIGNED_INTEGER
  SAMPLE_BITS = 8
  BANDS = 1
  BAND_STORAGE_TYPE = BAND_SEQUENTIAL
  MAXIMUM = 255
  MEAN = 77.7707
  MINIMUM = 1
  STANDARD_DEVIATION = 27.1787
END_OBJECT = IMAGE
/* MAP OBJECT DEFINITIONS */
OBJECT = IMAGE_MAP_PROJECTION
  ^DATA_SET_MAP_PROJECTION_CATALOG= "DSMAP.CAT"
  A_AXIS_RADIUS = 3396.0
  B_AXIS_RADIUS = 3396.0
  C_AXIS_RADIUS = 3396.0
  CENTER_LATITUDE = 0.0
  CENTER_LONGITUDE = 227.0
  COORDINATE_SYSTEM_NAME = PLANETOGRAPHIC
  COORDINATE_SYSTEM_TYPE = "BODY-FIXED ROTATING"
  EASTERNMOST_LONGITUDE = 228.459
  FIRST_STANDARD_PARALLEL = "N/A"
  LINE_FIRST_PIXEL = 1
  LINE_LAST_PIXEL = 8348
  LINE_PROJECTION_OFFSET = 32365.1875
  MAP_PROJECTION_ROTATION = 0.0
  MAP_PROJECTION_TYPE = SINUSOIDAL
  MAP_RESOLUTION = 592.713803866667
  MAP_SCALE = 0.1
  MAXIMUM_LATITUDE = 54.6121
  MINIMUM_LATITUDE = 40.5221
  POSITIVE_LONGITUDE_DIRECTION = EAST
  REFERENCE_LATITUDE = "N/A"
  REFERENCE_LONGITUDE = "N/A"
  SAMPLE_FIRST_PIXEL = 1
  SAMPLE_LAST_PIXEL = 1238
  SAMPLE_PROJECTION_OFFSET = 577.6875
  SECOND_STANDARD_PARALLEL = "N/A"
  WESTERNMOST_LONGITUDE = 225.348
END_OBJECT = IMAGE_MAP_PROJECTION
END
