PDS_VERSION_ID = PDS3
/* FILE DATA ELEMENTS */
RECORD_TYPE = UNDEFINED
/* POINTERS TO DATA OBJECTS */
^IMAGE = ("H7477_0000_IR4.TIF")
/* IDENTIFICATION DATA ELEMENTS */
DATA_SET_ID = "MEX-M-HRSC-4-REFDR-MAPPROJECT-EXT3-V4.0"
DATA_SET_NAME = "MARS EXPRESS HRSC MAP PROJECTED REFDR EXTENSION3 V4.0"
DETECTOR_ID = MEX_HRSC_IR
EVENT_TYPE = "MARS-REGIONAL-MAPPING-Vo-Pf"
INSTRUMENT_HOST_ID = MEX
INSTRUMENT_HOST_NAME = "MARS EXPRESS"
INSTRUMENT_ID = HRSC
INSTRUMENT_NAME = "HIGH RESOLUTION STEREO CAMERA"
MISSION_NAME = "MARS EXPRESS"
MISSION_PHASE_NAME = ME_Phase_18
PROCESSING_LEVEL_ID = 4
PRODUCT_CREATION_TIME = 2023-02-02T15:10:19.000Z
PRODUCT_ID = "H7477_0000_IR4.TIF"
RELEASE_ID = 0003
REVISION_ID = 0000
/* QUALITY DATA ELEMENTS */
DATA_QUALITY_ID = 1
DATA_QUALITY_DESC = "Data calculated based on original SPICE kernels"
/* TIME DATA ELEMENTS */
SPACECRAFT_CLOCK_START_COUNT = "1/0205115294.09052"
SPACECRAFT_CLOCK_STOP_COUNT = "1/0205115612.14395"
START_TIME = 2009-11-01T00:28:22.239Z
STOP_TIME = 2009-11-01T00:32:16.061Z
/* ORBITAL DATA ELEMENTS */
ASCENDING_NODE_LONGITUDE = 74.71
MAXIMUM_RESOLUTION = 0.1224
FOOTPRINT_POINT_LATITUDE = (48.7704,48.7584,48.7395,48.7038,48.703 ,48.6225,48.0958,47.5687,46.7768, 46.2489,45.9845,45.7202,45.3238,45.0594 ,44.7949,44.3393,43.8656,43.5498, 43.2337,42.9178,42.6018,42.2858,41.9697 ,41.6536,41.1796,40.7054,40.3893, 40.0733,39.5994,39.1255,38.8097,38.3363 ,38.0206,37.705,37.3895,37.0741,36.6012 ,36.2861,35.9712,35.6562,35.3415, 35.0216,34.6985,34.3757,34.053,33.7305, 33.5664,33.459,33.4754,33.4831,33.489, 33.4927,33.4929,33.4952,33.8237,34.3087 ,34.632,34.9556,35.2789,35.5942,35.9098 ,36.2255,36.5411,36.857,37.1731,37.4892 ,37.8054,38.1216,38.4381,38.7545,39.071 ,39.5459,40.0209,40.3376,40.6544, 41.1295,41.6048,41.9216,42.3968,42.7137 ,43.1887,43.5053,43.8222,44.139,44.4555 ,44.7702,45.0354,45.4331,45.8307, 46.0957,46.3605,46.6254,47.0226,47.4196 ,47.6842,47.9487,48.2131,48.4774, 48.6095,48.7704)
FOOTPRINT_POINT_LONGITUDE = (199.342,198.927,198.373,197.521, 197.504,197.45,197.494,197.536,197.596, 197.633,197.651,197.669,197.695,197.712 ,197.728,197.755,197.782,197.799, 197.815,197.832,197.847,197.863,197.877 ,197.891,197.912,197.931,197.943, 197.955,197.972,197.988,197.999,198.013 ,198.022,198.031,198.039,198.047, 198.058,198.066,198.072,198.079,198.085 ,198.09,198.096,198.101,198.105,198.11, 198.112,198.113,198.746,199.146,199.529 ,199.862,199.878,199.889,199.882, 199.872,199.865,199.858,199.85,199.843, 199.836,199.828,199.82,199.812,199.804, 199.796,199.788,199.779,199.771,199.762 ,199.753,199.739,199.725,199.715, 199.705,199.69,199.674,199.663,199.647, 199.636,199.619,199.607,199.595,199.583 ,199.57,199.558,199.547,199.53,199.513, 199.502,199.49,199.478,199.46,199.441, 199.428,199.416,199.402,199.389,199.382 ,199.342)
ORBIT_NUMBER = 7477
ORBITAL_ECCENTRICITY = 0.57
ORBITAL_INCLINATION = 86.83
ORBITAL_SEMIMAJOR_AXIS = 8710.11
PERIAPSIS_ALTITUDE = 362.59
PERIAPSIS_ARGUMENT_ANGLE = 126.76
PERIAPSIS_TIME = 2009-11-01T00:27:40.000Z
SPACECRAFT_ORIENTATION = (0.0,-1.0,0.0)
^MEX_ORIENTATION_DESC = "MEX_ORIENTATION_DESC.TXT"
SPACECRAFT_POINTING_MODE = ACROSSTRACK
^MEX_POINTING_DESC = "MEX_POINTING_DESC.TXT"
RIGHT_ASCENSION = -1e+32
DECLINATION = -1e+32
OFFSET_ANGLE = -0.15
SPACECRAFT_SOLAR_DISTANCE = 2.3401e+08
TARGET_NAME = MARS
/* CAMERA DATA ELEMENTS */
DETECTOR_TEMPERATURE = 17.351
FOCAL_PLANE_TEMPERATURE = 8.1755
INST_CMPRS_NAME = "DISCRETE COSINE TRANSFORMATION (DCT)"
INST_CMPRS_RATIO = 28.0595
INST_CMPRS_QUALITY = 0
INST_CMPRS_QUANTZ_TBL_ID = 0
INSTRUMENT_TEMPERATURE = 11.234
LENS_TEMPERATURE = 8.5833
MACROPIXEL_SIZE = 8
MISSING_FRAMES = 0
PIXEL_SUBSAMPLING_FLAG = N
SIGNAL_CHAIN_ID = 2
/* RADIOMETRIC DATA ELEMENTS */
BANDWIDTH = 81.0
CENTER_FILTER_WAVELENGTH = 955.5
RADIANCE_OFFSET = 0.987933
RADIANCE_SCALING_FACTOR = 0.00496914
REFLECTANCE_SCALING_FACTOR = 0.000587057
MEX:REFLECTANCE_OFFSET = 0.116715
/* IMAGE OBJECT DEFINITIONS */
OBJECT = IMAGE
  INTERCHANGE_FORMAT = BINARY
  LINES = 9005
  LINE_SAMPLES = 1072
  SAMPLE_TYPE = UNSIGNED_INTEGER
  SAMPLE_BITS = 8
  BANDS = 1
  BAND_STORAGE_TYPE = BAND_SEQUENTIAL
  MAXIMUM = 255
  MEAN = 181.834
  MINIMUM = 1
  STANDARD_DEVIATION = 42.3024
END_OBJECT = IMAGE
/* MAP OBJECT DEFINITIONS */
OBJECT = IMAGE_MAP_PROJECTION
  ^DATA_SET_MAP_PROJECTION_CATALOG= "DSMAP.CAT"
  A_AXIS_RADIUS = 3396.0
  B_AXIS_RADIUS = 3396.0
  C_AXIS_RADIUS = 3396.0
  CENTER_LATITUDE = 0.0
  CENTER_LONGITUDE = 199.0
  COORDINATE_SYSTEM_NAME = PLANETOGRAPHIC
  COORDINATE_SYSTEM_TYPE = "BODY-FIXED ROTATING"
  EASTERNMOST_LONGITUDE = 199.889
  FIRST_STANDARD_PARALLEL = "N/A"
  LINE_FIRST_PIXEL = 1
  LINE_LAST_PIXEL = 9005
  LINE_PROJECTION_OFFSET = 28862.4375
  MAP_PROJECTION_ROTATION = 0.0
  MAP_PROJECTION_TYPE = SINUSOIDAL
  MAP_RESOLUTION = 592.713803866667
  MAP_SCALE = 0.1
  MAXIMUM_LATITUDE = 48.7704
  MINIMUM_LATITUDE = 33.459
  POSITIVE_LONGITUDE_DIRECTION = EAST
  REFERENCE_LATITUDE = "N/A"
  REFERENCE_LONGITUDE = "N/A"
  SAMPLE_FIRST_PIXEL = 1
  SAMPLE_LAST_PIXEL = 1072
  SAMPLE_PROJECTION_OFFSET = 617.6875
  SECOND_STANDARD_PARALLEL = "N/A"
  WESTERNMOST_LONGITUDE = 197.45
END_OBJECT = IMAGE_MAP_PROJECTION
END
