PDS_VERSION_ID = PDS3
/* FILE DATA ELEMENTS */
RECORD_TYPE = UNDEFINED
/* POINTERS TO DATA OBJECTS */
^IMAGE = ("H7579_0000_GR4.TIF")
/* IDENTIFICATION DATA ELEMENTS */
DATA_SET_ID = "MEX-M-HRSC-4-REFDR-MAPPROJECT-EXT3-V4.0"
DATA_SET_NAME = "MARS EXPRESS HRSC MAP PROJECTED REFDR EXTENSION3 V4.0"
DETECTOR_ID = MEX_HRSC_GREEN
EVENT_TYPE = "MARS-CLOUD-VARIABLE-At"
INSTRUMENT_HOST_ID = MEX
INSTRUMENT_HOST_NAME = "MARS EXPRESS"
INSTRUMENT_ID = HRSC
INSTRUMENT_NAME = "HIGH RESOLUTION STEREO CAMERA"
MISSION_NAME = "MARS EXPRESS"
MISSION_PHASE_NAME = ME_Phase_19
PROCESSING_LEVEL_ID = 4
PRODUCT_CREATION_TIME = 2023-02-02T15:10:19.000Z
PRODUCT_ID = "H7579_0000_GR4.TIF"
RELEASE_ID = 0003
REVISION_ID = 0000
/* QUALITY DATA ELEMENTS */
DATA_QUALITY_ID = 1
DATA_QUALITY_DESC = "Data calculated based on original SPICE kernels"
/* TIME DATA ELEMENTS */
SPACECRAFT_CLOCK_START_COUNT = "1/0207648149.07285"
SPACECRAFT_CLOCK_STOP_COUNT = "1/0207649518.24250"
START_TIME = 2009-11-30T08:03:28.818Z
STOP_TIME = 2009-11-30T08:22:01.868Z
/* ORBITAL DATA ELEMENTS */
ASCENDING_NODE_LONGITUDE = 72.73
MAXIMUM_RESOLUTION = 0.1345
FOOTPRINT_POINT_LATITUDE = (23.7029,23.7219,23.7373,23.7408, 23.7408,23.733,22.027,20.9051,19.7967, 18.6999,17.6172,16.5461,15.4902,14.4459 ,13.4121,12.3953,11.3891,10.3952, 9.41397,8.44489,7.48804,6.5435,5.61008, 4.68841,3.7802,2.8823,1.99569,1.12084, 0.255382,-0.596439,-1.43862,-2.27027, -3.09092,-3.90198,-4.70174,-5.49198, -6.27208,-7.80322,-9.29648,-10.7527, -12.1732,-13.5593,-14.9122,-16.2323, -17.5209,-18.7805,-19.0904,-19.1099, -19.2395,-19.3247,-19.4427,-19.5395, -19.6619,-19.7515,-19.8352,-19.8405, -19.8417,-18.5536,-17.2338,-15.8845, -14.5032,-13.0906,-11.6442,-10.1626, -8.64658,-7.87452,-7.09176,-6.30124, -5.50047,-4.68998,-3.86985,-3.03981, -2.19923,-1.34842,-0.487012,0.384879, 1.26753,2.16138,3.06617,3.98187,4.90943 ,5.84811,6.79829,7.75979,8.73346, 9.71901,10.7154,11.7272,12.7493,13.7837 ,14.8304,15.8904,16.9621,18.0467, 19.1442,20.2547,21.3772,23.0847,23.6601 ,23.7029)
FOOTPRINT_POINT_LONGITUDE = (353.75,352.804,351.504,350.616,350.587 ,350.565,350.49,350.434,350.376,350.312 ,350.248,350.178,350.11,350.038,349.958 ,349.886,349.806,349.724,349.641, 349.555,349.467,349.378,349.285,349.191 ,349.098,349.001,348.902,348.802, 348.696,348.595,348.49,348.383,348.275, 348.164,348.054,347.941,347.827,347.594 ,347.355,347.111,346.862,346.608, 346.347,346.082,345.812,345.534,345.465 ,345.461,346.788,347.7,349.022,350.179, 351.753,352.999,354.254,354.338,354.366 ,354.326,354.284,354.247,354.212, 354.181,354.151,354.123,354.099,354.087 ,354.073,354.063,354.052,354.041, 354.031,354.022,354.013,354.003,353.995 ,353.986,353.978,353.969,353.961, 353.953,353.945,353.937,353.929,353.922 ,353.914,353.906,353.9,353.888,353.88, 353.871,353.862,353.851,353.841,353.83, 353.817,353.804,353.791,353.77,353.763, 353.75)
ORBIT_NUMBER = 7579
ORBITAL_ECCENTRICITY = 0.568
ORBITAL_INCLINATION = 86.83
ORBITAL_SEMIMAJOR_AXIS = 8688.78
PERIAPSIS_ALTITUDE = 371.5
PERIAPSIS_ARGUMENT_ANGLE = 108.99
PERIAPSIS_TIME = 2009-11-30T07:50:28.000Z
SPACECRAFT_ORIENTATION = (0.0,-1.0,0.0)
^MEX_ORIENTATION_DESC = "MEX_ORIENTATION_DESC.TXT"
SPACECRAFT_POINTING_MODE = NADIR
^MEX_POINTING_DESC = "MEX_POINTING_DESC.TXT"
RIGHT_ASCENSION = -1e+32
DECLINATION = -1e+32
OFFSET_ANGLE = -1e+32
SPACECRAFT_SOLAR_DISTANCE = 2.39018e+08
TARGET_NAME = MARS
/* CAMERA DATA ELEMENTS */
DETECTOR_TEMPERATURE = 17.9627
FOCAL_PLANE_TEMPERATURE = 7.5638
INST_CMPRS_NAME = "DISCRETE COSINE TRANSFORMATION (DCT)"
INST_CMPRS_RATIO = 19.0552
INST_CMPRS_QUALITY = 0
INST_CMPRS_QUANTZ_TBL_ID = 0
INSTRUMENT_TEMPERATURE = 10.6223
LENS_TEMPERATURE = 7.7677
MACROPIXEL_SIZE = 4
MISSING_FRAMES = 0
PIXEL_SUBSAMPLING_FLAG = N
SIGNAL_CHAIN_ID = 2
/* RADIOMETRIC DATA ELEMENTS */
BANDWIDTH = 88.0
CENTER_FILTER_WAVELENGTH = 538.0
RADIANCE_OFFSET = 1.63482
RADIANCE_SCALING_FACTOR = 0.00771944
REFLECTANCE_SCALING_FACTOR = 0.000379701
MEX:REFLECTANCE_OFFSET = 0.0804129
/* IMAGE OBJECT DEFINITIONS */
OBJECT = IMAGE
  INTERCHANGE_FORMAT = BINARY
  LINES = 25844
  LINE_SAMPLES = 5606
  SAMPLE_TYPE = UNSIGNED_INTEGER
  SAMPLE_BITS = 8
  BANDS = 1
  BAND_STORAGE_TYPE = BAND_SEQUENTIAL
  MAXIMUM = 255
  MEAN = 143.056
  MINIMUM = 1
  STANDARD_DEVIATION = 39.4113
END_OBJECT = IMAGE
/* MAP OBJECT DEFINITIONS */
OBJECT = IMAGE_MAP_PROJECTION
  ^DATA_SET_MAP_PROJECTION_CATALOG= "DSMAP.CAT"
  A_AXIS_RADIUS = 3396.0
  B_AXIS_RADIUS = 3396.0
  C_AXIS_RADIUS = 3396.0
  CENTER_LATITUDE = 0.0
  CENTER_LONGITUDE = 351.0
  COORDINATE_SYSTEM_NAME = PLANETOGRAPHIC
  COORDINATE_SYSTEM_TYPE = "BODY-FIXED ROTATING"
  EASTERNMOST_LONGITUDE = 354.366
  FIRST_STANDARD_PARALLEL = "N/A"
  LINE_FIRST_PIXEL = 1
  LINE_LAST_PIXEL = 25844
  LINE_PROJECTION_OFFSET = 14082.0
  MAP_PROJECTION_ROTATION = 0.0
  MAP_PROJECTION_TYPE = SINUSOIDAL
  MAP_RESOLUTION = 592.713803866667
  MAP_SCALE = 0.1
  MAXIMUM_LATITUDE = 23.7408
  MINIMUM_LATITUDE = -19.8417
  POSITIVE_LONGITUDE_DIRECTION = EAST
  REFERENCE_LATITUDE = "N/A"
  REFERENCE_LONGITUDE = "N/A"
  SAMPLE_FIRST_PIXEL = 1
  SAMPLE_LAST_PIXEL = 5606
  SAMPLE_PROJECTION_OFFSET = 3405.0
  SECOND_STANDARD_PARALLEL = "N/A"
  WESTERNMOST_LONGITUDE = 345.461
END_OBJECT = IMAGE_MAP_PROJECTION
END
