PDS_VERSION_ID = PDS3
/* FILE DATA ELEMENTS */
RECORD_TYPE = UNDEFINED
/* POINTERS TO DATA OBJECTS */
^IMAGE = ("H7706_0000_BL4.TIF")
/* IDENTIFICATION DATA ELEMENTS */
DATA_SET_ID = "MEX-M-HRSC-4-REFDR-MAPPROJECT-EXT3-V4.0"
DATA_SET_NAME = "MARS EXPRESS HRSC MAP PROJECTED REFDR EXTENSION3 V4.0"
DETECTOR_ID = MEX_HRSC_BLUE
EVENT_TYPE = "MARS-CLOUD-VARIABLE-At"
INSTRUMENT_HOST_ID = MEX
INSTRUMENT_HOST_NAME = "MARS EXPRESS"
INSTRUMENT_ID = HRSC
INSTRUMENT_NAME = "HIGH RESOLUTION STEREO CAMERA"
MISSION_NAME = "MARS EXPRESS"
MISSION_PHASE_NAME = ME_Phase_19
PROCESSING_LEVEL_ID = 4
PRODUCT_CREATION_TIME = 2023-02-02T15:10:19.000Z
PRODUCT_ID = "H7706_0000_BL4.TIF"
RELEASE_ID = 0003
REVISION_ID = 0000
/* QUALITY DATA ELEMENTS */
DATA_QUALITY_ID = 1
DATA_QUALITY_DESC = "Data calculated based on original SPICE kernels"
/* TIME DATA ELEMENTS */
SPACECRAFT_CLOCK_START_COUNT = "1/0210801818.09045"
SPACECRAFT_CLOCK_STOP_COUNT = "1/0210802900.57353"
START_TIME = 2010-01-05T20:03:40.630Z
STOP_TIME = 2010-01-05T20:19:02.294Z
/* ORBITAL DATA ELEMENTS */
ASCENDING_NODE_LONGITUDE = 70.28
MAXIMUM_RESOLUTION = 0.153
FOOTPRINT_POINT_LATITUDE = (21.5655,21.4412,21.3299,21.2176, 21.1042,20.9897,20.8445,20.8371,20.8384 ,19.5272,18.6557,17.786,16.9177,16.0518 ,15.187,14.3236,13.4623,12.1702,11.3102 ,10.0207,8.30327,6.58739,4.87204, 3.15639,1.43922,0.580461,-0.279625, -1.14039,-2.00212,-3.29859,-4.16361, -5.03107,-6.33192,-7.20332,-8.07742, -8.95578,-9.83012,-11.1443,-12.0296, -12.9176,-13.8108,-14.7091,-16.063, -17.434,-18.3419,-19.2655,-20.19, -21.1233,-22.5413,-23.0162,-23.0218, -22.8769,-22.6731,-22.4745,-22.3585, -22.2435,-22.0339,-21.8536,-21.7247, -21.5585,-21.5456,-21.5404,-20.6246, -19.7142,-18.8095,-17.9104,-17.0169, -16.1259,-15.2401,-14.3554,-13.4765, -12.6048,-11.7299,-10.8616,-9.99625, -9.134,-8.27536,-6.98845,-6.13147, -5.27763,-4.42436,-2.72365,-0.599105, 0.674315,2.79062,4.48381,6.17725, 7.87186,9.56829,11.2681,12.9711,14.6793 ,16.3925,17.2522,18.1127,19.4088, 20.2725,21.141,21.5758,21.5655)
FOOTPRINT_POINT_LONGITUDE = (138.228,139.5,140.618,141.726,142.826, 143.92,145.286,145.354,145.378,145.378, 145.379,145.379,145.38,145.382,145.385, 145.388,145.392,145.399,145.404,145.412 ,145.426,145.443,145.464,145.489, 145.519,145.535,145.553,145.573,145.594 ,145.631,145.656,145.684,145.727, 145.759,145.795,145.833,145.87,145.929, 145.975,146.024,146.077,146.134,146.225 ,146.328,146.396,146.474,146.553,146.64 ,146.782,146.832,146.833,145.661, 143.983,142.33,141.322,140.318,138.444, 136.824,135.575,133.946,133.82,133.775, 133.923,134.068,134.208,134.345,134.477 ,134.608,134.735,134.861,134.982, 135.098,135.216,135.329,135.439,135.547 ,135.65,135.804,135.905,136.003,136.099 ,136.283,136.509,136.643,136.846, 137.005,137.156,137.301,137.44,137.572, 137.698,137.816,137.928,137.98,138.032, 138.104,138.152,138.195,138.216, 138.228)
ORBIT_NUMBER = 7706
ORBITAL_ECCENTRICITY = 0.568
ORBITAL_INCLINATION = 86.83
ORBITAL_SEMIMAJOR_AXIS = 8680.38
PERIAPSIS_ALTITUDE = 376.52
PERIAPSIS_ARGUMENT_ANGLE = 86.94
PERIAPSIS_TIME = 2010-01-05T19:38:02.000Z
SPACECRAFT_ORIENTATION = (0.0,1.0,0.0)
^MEX_ORIENTATION_DESC = "MEX_ORIENTATION_DESC.TXT"
SPACECRAFT_POINTING_MODE = INERT
^MEX_POINTING_DESC = "MEX_POINTING_DESC.TXT"
RIGHT_ASCENSION = 134.017
DECLINATION = -56.614
OFFSET_ANGLE = -1e+32
SPACECRAFT_SOLAR_DISTANCE = 2.44098e+08
TARGET_NAME = MARS
/* CAMERA DATA ELEMENTS */
DETECTOR_TEMPERATURE = 17.7588
FOCAL_PLANE_TEMPERATURE = 7.7677
INST_CMPRS_NAME = "DISCRETE COSINE TRANSFORMATION (DCT)"
INST_CMPRS_RATIO = 10.1517
INST_CMPRS_QUALITY = 0
INST_CMPRS_QUANTZ_TBL_ID = 0
INSTRUMENT_TEMPERATURE = 10.6223
LENS_TEMPERATURE = 8.1755
MACROPIXEL_SIZE = 2
MISSING_FRAMES = 0
PIXEL_SUBSAMPLING_FLAG = N
SIGNAL_CHAIN_ID = 2
/* RADIOMETRIC DATA ELEMENTS */
BANDWIDTH = 76.0
CENTER_FILTER_WAVELENGTH = 444.0
RADIANCE_OFFSET = 0.911697
RADIANCE_SCALING_FACTOR = 0.00261762
REFLECTANCE_SCALING_FACTOR = 0.00016025
MEX:REFLECTANCE_OFFSET = 0.055814
/* IMAGE OBJECT DEFINITIONS */
OBJECT = IMAGE
  INTERCHANGE_FORMAT = BINARY
  LINES = 13220
  LINE_SAMPLES = 3583
  SAMPLE_TYPE = UNSIGNED_INTEGER
  SAMPLE_BITS = 8
  BANDS = 1
  BAND_STORAGE_TYPE = BAND_SEQUENTIAL
  MAXIMUM = 255
  MEAN = 145.81
  MINIMUM = 1
  STANDARD_DEVIATION = 30.4851
END_OBJECT = IMAGE
/* MAP OBJECT DEFINITIONS */
OBJECT = IMAGE_MAP_PROJECTION
  ^DATA_SET_MAP_PROJECTION_CATALOG= "DSMAP.CAT"
  A_AXIS_RADIUS = 3396.0
  B_AXIS_RADIUS = 3396.0
  C_AXIS_RADIUS = 3396.0
  CENTER_LATITUDE = 0.0
  CENTER_LONGITUDE = 141.0
  COORDINATE_SYSTEM_NAME = PLANETOGRAPHIC
  COORDINATE_SYSTEM_TYPE = "BODY-FIXED ROTATING"
  EASTERNMOST_LONGITUDE = 146.833
  FIRST_STANDARD_PARALLEL = "N/A"
  LINE_FIRST_PIXEL = 1
  LINE_LAST_PIXEL = 13220
  LINE_PROJECTION_OFFSET = 6396.0
  MAP_PROJECTION_ROTATION = 0.0
  MAP_PROJECTION_TYPE = SINUSOIDAL
  MAP_RESOLUTION = 296.356901933333
  MAP_SCALE = 0.2
  MAXIMUM_LATITUDE = 21.5758
  MINIMUM_LATITUDE = -23.0218
  POSITIVE_LONGITUDE_DIRECTION = EAST
  REFERENCE_LATITUDE = "N/A"
  REFERENCE_LONGITUDE = "N/A"
  SAMPLE_FIRST_PIXEL = 1
  SAMPLE_LAST_PIXEL = 3583
  SAMPLE_PROJECTION_OFFSET = 1991.0
  SECOND_STANDARD_PARALLEL = "N/A"
  WESTERNMOST_LONGITUDE = 133.775
END_OBJECT = IMAGE_MAP_PROJECTION
END
