PDS_VERSION_ID = PDS3
/* FILE DATA ELEMENTS */
RECORD_TYPE = UNDEFINED
/* POINTERS TO DATA OBJECTS */
^IMAGE = ("H8153_0000_GR4.TIF")
/* IDENTIFICATION DATA ELEMENTS */
DATA_SET_ID = "MEX-M-HRSC-4-REFDR-MAPPROJECT-EXT3-V4.0"
DATA_SET_NAME = "MARS EXPRESS HRSC MAP PROJECTED REFDR EXTENSION3 V4.0"
DETECTOR_ID = MEX_HRSC_GREEN
EVENT_TYPE = "MARS-REGIONAL-VARIABLE-Gl-Eo-At"
INSTRUMENT_HOST_ID = MEX
INSTRUMENT_HOST_NAME = "MARS EXPRESS"
INSTRUMENT_ID = HRSC
INSTRUMENT_NAME = "HIGH RESOLUTION STEREO CAMERA"
MISSION_NAME = "MARS EXPRESS"
MISSION_PHASE_NAME = ME_Phase_20
PROCESSING_LEVEL_ID = 4
PRODUCT_CREATION_TIME = 2023-02-03T04:36:48.000Z
PRODUCT_ID = "H8153_0000_GR4.TIF"
RELEASE_ID = 0004
REVISION_ID = 0000
/* QUALITY DATA ELEMENTS */
DATA_QUALITY_ID = 1
DATA_QUALITY_DESC = "Data calculated based on original SPICE kernels"
/* TIME DATA ELEMENTS */
SPACECRAFT_CLOCK_START_COUNT = "1/0221987198.09063"
SPACECRAFT_CLOCK_STOP_COUNT = "1/0221988060.58296"
START_TIME = 2010-05-15T07:09:52.788Z
STOP_TIME = 2010-05-15T07:16:44.555Z
/* ORBITAL DATA ELEMENTS */
ASCENDING_NODE_LONGITUDE = 61.64
MAXIMUM_RESOLUTION = 0.1385
FOOTPRINT_POINT_LATITUDE = (79.3446,79.446,79.5282,79.5907,79.6328 ,79.6539,79.6535,79.6313,79.5868, 79.5199,79.4305,79.3183,79.0676,79.047, 78.9306,79.5073,79.8892,80.2674,80.642, 81.013,81.3798,81.742,82.099,82.4503, 82.7947,83.1314,83.4594,83.7772,84.0828 ,84.3737,84.65,85.2568,85.6228,85.8881, 85.9212,85.789,85.51,85.2129,84.863, 84.602,84.3207,84.027,83.7168,83.2323, 82.7274,82.3809,82.0284,81.6687,81.3038 ,80.935,80.5623,80.1858,79.806,79.423, 79.037,78.8434,78.8111,79.023,79.2719, 79.4788,79.6425,79.7627,79.8396,79.8723 ,79.8623,79.8098,79.7165,79.5841, 79.4147,79.2103,79.1823,79.1728,80.3483 ,80.929,81.3147,82.0728,82.816,83.3613, 84.0655,84.7355,85.3572,85.9085,86.3577 ,86.6636,86.7742,86.7408,86.5848, 86.1176,85.4635,84.6906,84.1891,83.6668 ,82.9464,82.0174,81.447,80.4838,79.5067 ,79.3098,79.3446)
FOOTPRINT_POINT_LONGITUDE = (264.84,262.418,259.946,257.428,254.87, 252.278,249.667,247.048,244.426,241.813 ,239.219,236.649,232.241,231.932, 231.319,230.065,229.155,228.171,227.108 ,225.958,224.709,223.352,221.872, 220.255,218.482,216.535,214.392,212.027 ,209.412,206.513,203.317,193.831, 184.544,171.083,159.553,148.22,137.997, 131.288,125.402,121.929,118.801,115.954 ,113.399,110.002,107.062,105.322,103.73 ,102.281,100.953,99.727,98.596,97.5516, 96.584,95.6866,94.8523,94.4556,94.3912, 91.9367,88.5306,85.0142,81.4139,77.7458 ,74.0358,70.3181,66.6134,62.9507, 59.3663,55.8796,52.5074,49.2607,48.8645 ,48.7214,46.6162,45.3543,44.4132,42.265 ,39.6596,37.3189,33.5355,28.7522, 22.6216,14.7127,4.60048,352.156,341.544 ,327.112,316.945,302.655,291.954, 284.162,280.527,277.483,274.145,270.845 ,269.214,266.945,265.107,264.78,264.84)
ORBIT_NUMBER = 8153
ORBITAL_ECCENTRICITY = 0.579
ORBITAL_INCLINATION = 86.82
ORBITAL_SEMIMAJOR_AXIS = 8871.29
PERIAPSIS_ALTITUDE = 341.14
PERIAPSIS_ARGUMENT_ANGLE = 9.31
PERIAPSIS_TIME = 2010-05-15T06:46:13.000Z
SPACECRAFT_ORIENTATION = (0.0,1.0,0.0)
^MEX_ORIENTATION_DESC = "MEX_ORIENTATION_DESC.TXT"
SPACECRAFT_POINTING_MODE = INERT
^MEX_POINTING_DESC = "MEX_POINTING_DESC.TXT"
RIGHT_ASCENSION = 280.061
DECLINATION = -40.971
OFFSET_ANGLE = -1e+32
SPACECRAFT_SOLAR_DISTANCE = 2.47705e+08
TARGET_NAME = MARS
/* CAMERA DATA ELEMENTS */
DETECTOR_TEMPERATURE = 17.5549
FOCAL_PLANE_TEMPERATURE = 7.5638
INST_CMPRS_NAME = "DISCRETE COSINE TRANSFORMATION (DCT)"
INST_CMPRS_RATIO = 14.8043
INST_CMPRS_QUALITY = 0
INST_CMPRS_QUANTZ_TBL_ID = 0
INSTRUMENT_TEMPERATURE = 10.8262
LENS_TEMPERATURE = 8.1755
MACROPIXEL_SIZE = 2
MISSING_FRAMES = 1
PIXEL_SUBSAMPLING_FLAG = N
SIGNAL_CHAIN_ID = 2
/* RADIOMETRIC DATA ELEMENTS */
BANDWIDTH = 88.0
CENTER_FILTER_WAVELENGTH = 538.0
RADIANCE_OFFSET = 0.891198
RADIANCE_SCALING_FACTOR = 0.0131853
REFLECTANCE_SCALING_FACTOR = 0.000696539
MEX:REFLECTANCE_OFFSET = 0.0470793
/* IMAGE OBJECT DEFINITIONS */
OBJECT = IMAGE
  INTERCHANGE_FORMAT = BINARY
  LINES = 8185
  LINE_SAMPLES = 12989
  SAMPLE_TYPE = UNSIGNED_INTEGER
  SAMPLE_BITS = 8
  BANDS = 1
  BAND_STORAGE_TYPE = BAND_SEQUENTIAL
  MAXIMUM = 255
  MEAN = 111.429
  MINIMUM = 1
  STANDARD_DEVIATION = 61.7541
END_OBJECT = IMAGE
/* MAP OBJECT DEFINITIONS */
OBJECT = IMAGE_MAP_PROJECTION
  ^DATA_SET_MAP_PROJECTION_CATALOG= "DSMAP.CAT"
  A_AXIS_RADIUS = 3396.0
  B_AXIS_RADIUS = 3396.0
  C_AXIS_RADIUS = 3396.0
  CENTER_LATITUDE = 90.0
  CENTER_LONGITUDE = 0.0
  COORDINATE_SYSTEM_NAME = PLANETOGRAPHIC
  COORDINATE_SYSTEM_TYPE = "BODY-FIXED ROTATING"
  EASTERNMOST_LONGITUDE = 360.0
  FIRST_STANDARD_PARALLEL = "N/A"
  LINE_FIRST_PIXEL = 1
  LINE_LAST_PIXEL = 8185
  LINE_PROJECTION_OFFSET = 4032.25
  MAP_PROJECTION_ROTATION = 0.0
  MAP_PROJECTION_TYPE = STEREOGRAPHIC
  MAP_RESOLUTION = 592.713803866667
  MAP_SCALE = 0.1
  MAXIMUM_LATITUDE = 90.0
  MINIMUM_LATITUDE = 78.8111
  POSITIVE_LONGITUDE_DIRECTION = EAST
  REFERENCE_LATITUDE = "N/A"
  REFERENCE_LONGITUDE = "N/A"
  SAMPLE_FIRST_PIXEL = 1
  SAMPLE_LAST_PIXEL = 12989
  SAMPLE_PROJECTION_OFFSET = 6334.25
  SECOND_STANDARD_PARALLEL = "N/A"
  WESTERNMOST_LONGITUDE = 0.0
END_OBJECT = IMAGE_MAP_PROJECTION
END
