PDS_VERSION_ID = PDS3
/* FILE DATA ELEMENTS */
RECORD_TYPE = UNDEFINED
/* POINTERS TO DATA OBJECTS */
^IMAGE = ("H8248_0000_P14.TIF")
/* IDENTIFICATION DATA ELEMENTS */
DATA_SET_ID = "MEX-M-HRSC-4-REFDR-MAPPROJECT-EXT3-V4.0"
DATA_SET_NAME = "MARS EXPRESS HRSC MAP PROJECTED REFDR EXTENSION3 V4.0"
DETECTOR_ID = MEX_HRSC_P1
EVENT_TYPE = "MARS-REGIONAL-MAPPING-Vo-Te"
INSTRUMENT_HOST_ID = MEX
INSTRUMENT_HOST_NAME = "MARS EXPRESS"
INSTRUMENT_ID = HRSC
INSTRUMENT_NAME = "HIGH RESOLUTION STEREO CAMERA"
MISSION_NAME = "MARS EXPRESS"
MISSION_PHASE_NAME = ME_Phase_20
PROCESSING_LEVEL_ID = 4
PRODUCT_CREATION_TIME = 2023-02-03T04:36:48.000Z
PRODUCT_ID = "H8248_0000_P14.TIF"
RELEASE_ID = 0004
REVISION_ID = 0000
/* QUALITY DATA ELEMENTS */
DATA_QUALITY_ID = 1
DATA_QUALITY_DESC = "Data calculated based on original SPICE kernels"
/* TIME DATA ELEMENTS */
SPACECRAFT_CLOCK_START_COUNT = "1/0224378682.09049"
SPACECRAFT_CLOCK_STOP_COUNT = "1/0224379433.25283"
START_TIME = 2010-06-11T23:27:42.415Z
STOP_TIME = 2010-06-11T23:34:57.241Z
/* ORBITAL DATA ELEMENTS */
ASCENDING_NODE_LONGITUDE = 59.8
MAXIMUM_RESOLUTION = 0.0843
FOOTPRINT_POINT_LATITUDE = (43.6133,43.6452,43.6684,43.6805, 43.6927,43.6974,43.6979,43.693,43.6924, 43.6735,44.1204,44.7199,45.3255,45.9411 ,46.5615,46.8753,47.1903,47.5084, 47.8282,48.1504,48.4833,48.8094,49.1383 ,49.4689,49.8015,50.1364,50.4723, 50.8069,51.1391,51.4688,51.7962,52.1215 ,52.4446,52.7655,53.0842,53.4012, 53.7158,54.0279,54.3384,54.9526,55.5585 ,56.1562,56.7456,57.3274,57.9013, 58.4669,59.025,59.1635,59.1866,59.1964, 59.2007,59.1969,59.1881,59.1659,59.1403 ,59.108,59.0634,58.9891,58.9389,58.8829 ,58.7939,58.7845,58.7803,58.2456,57.703 ,57.1519,56.5921,56.0233,55.4459, 54.8596,54.2644,53.6601,53.0462,52.736, 52.4231,52.1081,51.7909,51.4714,51.1493 ,50.8246,50.4979,50.1682,49.6738, 49.3455,49.0199,48.6961,48.3736,48.0453 ,47.7269,47.41,47.0958,46.783,46.4718, 46.1611,45.548,44.9417,44.3407,43.7474, 43.5998,43.6133)
FOOTPRINT_POINT_LONGITUDE = (259.131,258.319,257.556,257.03,256.267 ,255.695,254.93,254.259,254.211,254.184 ,254.14,254.077,254.012,253.945,253.873 ,253.837,253.799,253.761,253.722, 253.683,253.642,253.601,253.559,253.516 ,253.472,253.427,253.38,253.334,253.286 ,253.238,253.189,253.14,253.09,253.04, 252.988,252.937,252.884,252.831,252.777 ,252.667,252.555,252.439,252.32,252.198 ,252.073,251.943,251.811,251.777, 251.772,252.541,253.535,254.417,255.186 ,256.282,257.158,258.031,259.013, 260.317,261.075,261.832,262.912,263.019 ,263.058,262.828,262.604,262.387, 262.176,261.972,261.774,261.582,261.396 ,261.216,261.042,260.957,260.873, 260.791,260.71,260.63,260.552,260.475, 260.399,260.325,260.216,260.147,260.079 ,260.014,259.95,259.886,259.826,259.767 ,259.71,259.655,259.601,259.549,259.448 ,259.352,259.262,259.176,259.155, 259.131)
ORBIT_NUMBER = 8248
ORBITAL_ECCENTRICITY = 0.58
ORBITAL_INCLINATION = 86.82
ORBITAL_SEMIMAJOR_AXIS = 8871.4
PERIAPSIS_ALTITUDE = 332.92
PERIAPSIS_ARGUMENT_ANGLE = 352.83
PERIAPSIS_TIME = 2010-06-11T23:12:02.000Z
SPACECRAFT_ORIENTATION = (0.0,1.0,0.0)
^MEX_ORIENTATION_DESC = "MEX_ORIENTATION_DESC.TXT"
SPACECRAFT_POINTING_MODE = NADIR
^MEX_POINTING_DESC = "MEX_POINTING_DESC.TXT"
RIGHT_ASCENSION = -1e+32
DECLINATION = -1e+32
OFFSET_ANGLE = -1e+32
SPACECRAFT_SOLAR_DISTANCE = 2.45338e+08
TARGET_NAME = MARS
/* CAMERA DATA ELEMENTS */
DETECTOR_TEMPERATURE = 17.5549
FOCAL_PLANE_TEMPERATURE = 8.1755
INST_CMPRS_NAME = "DISCRETE COSINE TRANSFORMATION (DCT)"
INST_CMPRS_RATIO = 9.58175
INST_CMPRS_QUALITY = 0
INST_CMPRS_QUANTZ_TBL_ID = 0
INSTRUMENT_TEMPERATURE = 11.234
LENS_TEMPERATURE = 8.5833
MACROPIXEL_SIZE = 2
MISSING_FRAMES = 1
PIXEL_SUBSAMPLING_FLAG = N
SIGNAL_CHAIN_ID = 3
/* RADIOMETRIC DATA ELEMENTS */
BANDWIDTH = 174.0
CENTER_FILTER_WAVELENGTH = 675.0
RADIANCE_OFFSET = 0.970122
RADIANCE_SCALING_FACTOR = 0.0175825
REFLECTANCE_SCALING_FACTOR = 0.000569238
MEX:REFLECTANCE_OFFSET = 0.031408
/* IMAGE OBJECT DEFINITIONS */
OBJECT = IMAGE
  INTERCHANGE_FORMAT = BINARY
  LINES = 18497
  LINE_SAMPLES = 5806
  SAMPLE_TYPE = UNSIGNED_INTEGER
  SAMPLE_BITS = 8
  BANDS = 1
  BAND_STORAGE_TYPE = BAND_SEQUENTIAL
  MAXIMUM = 255
  MEAN = 85.0653
  MINIMUM = 1
  STANDARD_DEVIATION = 16.358
END_OBJECT = IMAGE
/* MAP OBJECT DEFINITIONS */
OBJECT = IMAGE_MAP_PROJECTION
  ^DATA_SET_MAP_PROJECTION_CATALOG= "DSMAP.CAT"
  A_AXIS_RADIUS = 3396.0
  B_AXIS_RADIUS = 3396.0
  C_AXIS_RADIUS = 3396.0
  CENTER_LATITUDE = 0.0
  CENTER_LONGITUDE = 257.0
  COORDINATE_SYSTEM_NAME = PLANETOGRAPHIC
  COORDINATE_SYSTEM_TYPE = "BODY-FIXED ROTATING"
  EASTERNMOST_LONGITUDE = 263.058
  FIRST_STANDARD_PARALLEL = "N/A"
  LINE_FIRST_PIXEL = 1
  LINE_LAST_PIXEL = 18497
  LINE_PROJECTION_OFFSET = 70166.25
  MAP_PROJECTION_ROTATION = 0.0
  MAP_PROJECTION_TYPE = SINUSOIDAL
  MAP_RESOLUTION = 1185.42760773333
  MAP_SCALE = 0.05
  MAXIMUM_LATITUDE = 59.2007
  MINIMUM_LATITUDE = 43.5998
  POSITIVE_LONGITUDE_DIRECTION = EAST
  REFERENCE_LATITUDE = "N/A"
  REFERENCE_LONGITUDE = "N/A"
  SAMPLE_FIRST_PIXEL = 1
  SAMPLE_LAST_PIXEL = 5806
  SAMPLE_PROJECTION_OFFSET = 2571.75
  SECOND_STANDARD_PARALLEL = "N/A"
  WESTERNMOST_LONGITUDE = 251.772
END_OBJECT = IMAGE_MAP_PROJECTION
END
