PDS_VERSION_ID = PDS3
/* FILE DATA ELEMENTS */
RECORD_TYPE = UNDEFINED
/* POINTERS TO DATA OBJECTS */
^IMAGE = ("H8248_0000_S24.TIF")
/* IDENTIFICATION DATA ELEMENTS */
DATA_SET_ID = "MEX-M-HRSC-4-REFDR-MAPPROJECT-EXT3-V4.0"
DATA_SET_NAME = "MARS EXPRESS HRSC MAP PROJECTED REFDR EXTENSION3 V4.0"
DETECTOR_ID = MEX_HRSC_S2
EVENT_TYPE = "MARS-REGIONAL-MAPPING-Vo-Te"
INSTRUMENT_HOST_ID = MEX
INSTRUMENT_HOST_NAME = "MARS EXPRESS"
INSTRUMENT_ID = HRSC
INSTRUMENT_NAME = "HIGH RESOLUTION STEREO CAMERA"
MISSION_NAME = "MARS EXPRESS"
MISSION_PHASE_NAME = ME_Phase_20
PROCESSING_LEVEL_ID = 4
PRODUCT_CREATION_TIME = 2023-02-03T04:36:48.000Z
PRODUCT_ID = "H8248_0000_S24.TIF"
RELEASE_ID = 0004
REVISION_ID = 0000
/* QUALITY DATA ELEMENTS */
DATA_QUALITY_ID = 1
DATA_QUALITY_DESC = "Data calculated based on original SPICE kernels"
/* TIME DATA ELEMENTS */
SPACECRAFT_CLOCK_START_COUNT = "1/0224378682.09049"
SPACECRAFT_CLOCK_STOP_COUNT = "1/0224379433.25283"
START_TIME = 2010-06-11T23:24:44.722Z
STOP_TIME = 2010-06-11T23:29:24.452Z
/* ORBITAL DATA ELEMENTS */
ASCENDING_NODE_LONGITUDE = 59.8
MAXIMUM_RESOLUTION = 0.0695
FOOTPRINT_POINT_LATITUDE = (43.5538,43.5662,43.574,43.5791,43.5826 ,43.5843,43.5844,43.5844,43.6173, 44.1477,44.6871,45.2324,45.646,46.0654, 46.6277,47.341,48.0611,48.6452,49.2361, 49.8346,50.1367,50.4404,50.746,51.0537, 51.3635,51.6754,51.9893,52.3059,52.6246 ,52.9448,53.2671,53.5926,53.92,54.2501, 54.5819,54.9155,55.2513,55.5902,55.9307 ,56.2747,56.6208,56.9691,57.3204, 57.6737,58.0296,58.3885,58.9311,59.1136 ,59.2005,59.1978,59.1934,59.1867, 59.1776,59.1548,59.1314,59.1075,59.079, 59.0321,59.029,59.0264,58.4887,58.1334, 57.7812,57.431,57.0834,56.7377,56.3944, 56.0534,55.7145,55.3782,55.0436,54.7115 ,54.3817,54.0538,53.7282,53.405,53.0834 ,52.7643,52.4472,52.1322,51.8193, 51.5085,51.1994,50.8927,50.5877,50.2847 ,49.9837,49.3872,48.7985,48.3612, 47.6416,47.0729,46.5115,46.0959,45.5451 ,45.0019,44.3315,43.8011,43.6701, 43.5538)
FOOTPRINT_POINT_LONGITUDE = (258.616,257.779,257.095,256.487,255.88 ,255.271,254.737,254.699,254.673,254.64 ,254.604,254.568,254.539,254.51,254.47, 254.419,254.367,254.324,254.28,254.235, 254.212,254.188,254.164,254.139,254.115 ,254.089,254.063,254.036,254.009, 253.982,253.954,253.925,253.896,253.865 ,253.835,253.804,253.772,253.739, 253.706,253.672,253.637,253.602,253.565 ,253.528,253.49,253.45,253.39,253.369, 253.359,254.547,255.181,255.813,256.445 ,257.626,258.572,259.358,260.224, 261.404,261.483,261.511,261.345,261.24, 261.138,261.04,260.946,260.854,260.765, 260.679,260.596,260.516,260.438,260.362 ,260.289,260.218,260.149,260.083, 260.018,259.955,259.894,259.835,259.778 ,259.722,259.668,259.615,259.564, 259.514,259.465,259.372,259.284,259.221 ,259.121,259.045,258.973,258.922, 258.855,258.792,258.718,258.661,258.647 ,258.616)
ORBIT_NUMBER = 8248
ORBITAL_ECCENTRICITY = 0.58
ORBITAL_INCLINATION = 86.82
ORBITAL_SEMIMAJOR_AXIS = 8871.4
PERIAPSIS_ALTITUDE = 332.92
PERIAPSIS_ARGUMENT_ANGLE = 352.83
PERIAPSIS_TIME = 2010-06-11T23:12:02.000Z
SPACECRAFT_ORIENTATION = (0.0,1.0,0.0)
^MEX_ORIENTATION_DESC = "MEX_ORIENTATION_DESC.TXT"
SPACECRAFT_POINTING_MODE = NADIR
^MEX_POINTING_DESC = "MEX_POINTING_DESC.TXT"
RIGHT_ASCENSION = -1e+32
DECLINATION = -1e+32
OFFSET_ANGLE = -1e+32
SPACECRAFT_SOLAR_DISTANCE = 2.45338e+08
TARGET_NAME = MARS
/* CAMERA DATA ELEMENTS */
DETECTOR_TEMPERATURE = 18.7783
FOCAL_PLANE_TEMPERATURE = 8.1755
INST_CMPRS_NAME = "DISCRETE COSINE TRANSFORMATION (DCT)"
INST_CMPRS_RATIO = 9.29758
INST_CMPRS_QUALITY = 0
INST_CMPRS_QUANTZ_TBL_ID = 0
INSTRUMENT_TEMPERATURE = 11.234
LENS_TEMPERATURE = 8.5833
MACROPIXEL_SIZE = 2
MISSING_FRAMES = 0
PIXEL_SUBSAMPLING_FLAG = N
SIGNAL_CHAIN_ID = 1
/* RADIOMETRIC DATA ELEMENTS */
BANDWIDTH = 178.0
CENTER_FILTER_WAVELENGTH = 679.0
RADIANCE_OFFSET = 0.99625
RADIANCE_SCALING_FACTOR = 0.0184355
REFLECTANCE_SCALING_FACTOR = 0.000587641
MEX:REFLECTANCE_OFFSET = 0.031756
/* IMAGE OBJECT DEFINITIONS */
OBJECT = IMAGE
  INTERCHANGE_FORMAT = BINARY
  LINES = 18497
  LINE_SAMPLES = 5806
  SAMPLE_TYPE = UNSIGNED_INTEGER
  SAMPLE_BITS = 8
  BANDS = 1
  BAND_STORAGE_TYPE = BAND_SEQUENTIAL
  MAXIMUM = 255
  MEAN = 90.8367
  MINIMUM = 1
  STANDARD_DEVIATION = 17.0028
END_OBJECT = IMAGE
/* MAP OBJECT DEFINITIONS */
OBJECT = IMAGE_MAP_PROJECTION
  ^DATA_SET_MAP_PROJECTION_CATALOG= "DSMAP.CAT"
  A_AXIS_RADIUS = 3396.0
  B_AXIS_RADIUS = 3396.0
  C_AXIS_RADIUS = 3396.0
  CENTER_LATITUDE = 0.0
  CENTER_LONGITUDE = 257.0
  COORDINATE_SYSTEM_NAME = PLANETOGRAPHIC
  COORDINATE_SYSTEM_TYPE = "BODY-FIXED ROTATING"
  EASTERNMOST_LONGITUDE = 261.511
  FIRST_STANDARD_PARALLEL = "N/A"
  LINE_FIRST_PIXEL = 1
  LINE_LAST_PIXEL = 18497
  LINE_PROJECTION_OFFSET = 70166.25
  MAP_PROJECTION_ROTATION = 0.0
  MAP_PROJECTION_TYPE = SINUSOIDAL
  MAP_RESOLUTION = 1185.42760773333
  MAP_SCALE = 0.05
  MAXIMUM_LATITUDE = 59.2005
  MINIMUM_LATITUDE = 43.5538
  POSITIVE_LONGITUDE_DIRECTION = EAST
  REFERENCE_LATITUDE = "N/A"
  REFERENCE_LONGITUDE = "N/A"
  SAMPLE_FIRST_PIXEL = 1
  SAMPLE_LAST_PIXEL = 5806
  SAMPLE_PROJECTION_OFFSET = 2571.75
  SECOND_STANDARD_PARALLEL = "N/A"
  WESTERNMOST_LONGITUDE = 253.359
END_OBJECT = IMAGE_MAP_PROJECTION
END
