PDS_VERSION_ID = PDS3
/* FILE DATA ELEMENTS */
RECORD_TYPE = UNDEFINED
/* POINTERS TO DATA OBJECTS */
^IMAGE = ("H8249_0000_BL4.TIF")
/* IDENTIFICATION DATA ELEMENTS */
DATA_SET_ID = "MEX-M-HRSC-4-REFDR-MAPPROJECT-EXT3-V4.0"
DATA_SET_NAME = "MARS EXPRESS HRSC MAP PROJECTED REFDR EXTENSION3 V4.0"
DETECTOR_ID = MEX_HRSC_BLUE
EVENT_TYPE = "MARS-REGIONAL-MAPPING-Gl-Pf"
INSTRUMENT_HOST_ID = MEX
INSTRUMENT_HOST_NAME = "MARS EXPRESS"
INSTRUMENT_ID = HRSC
INSTRUMENT_NAME = "HIGH RESOLUTION STEREO CAMERA"
MISSION_NAME = "MARS EXPRESS"
MISSION_PHASE_NAME = ME_Phase_20
PROCESSING_LEVEL_ID = 4
PRODUCT_CREATION_TIME = 2023-02-03T04:36:48.000Z
PRODUCT_ID = "H8249_0000_BL4.TIF"
RELEASE_ID = 0004
REVISION_ID = 0000
/* QUALITY DATA ELEMENTS */
DATA_QUALITY_ID = 1
DATA_QUALITY_DESC = "Data calculated based on original SPICE kernels"
/* TIME DATA ELEMENTS */
SPACECRAFT_CLOCK_START_COUNT = "1/0224403841.07283"
SPACECRAFT_CLOCK_STOP_COUNT = "1/0224404383.56965"
START_TIME = 2010-06-12T06:25:17.960Z
STOP_TIME = 2010-06-12T06:28:58.917Z
/* ORBITAL DATA ELEMENTS */
ASCENDING_NODE_LONGITUDE = 59.78
MAXIMUM_RESOLUTION = 0.1401
FOOTPRINT_POINT_LATITUDE = (42.1605,42.1732,42.1842,42.1917, 42.1961,42.1989,42.2009,42.2022,42.2028 ,42.2025,42.2005,42.2003,42.2183, 42.5989,43.0797,43.4679,43.761,44.155, 44.4524,44.8523,45.2552,45.7638,46.0717 ,46.3817,46.6939,47.113,47.5358,47.9629 ,48.393,48.8279,49.0466,49.2661,49.4868 ,49.7087,49.9313,50.155,50.3796,50.6053 ,50.8323,51.0604,51.2891,51.5189, 51.7501,51.9823,52.2155,52.4498,52.8037 ,52.9219,52.9244,52.9268,52.9249, 52.9211,52.9152,52.9076,52.8979,52.8878 ,52.8631,52.8392,52.8238,52.7924, 52.7895,52.7861,52.5528,52.3205,52.0892 ,51.859,51.6297,51.4014,51.1743,50.9482 ,50.7227,50.4983,50.2751,50.053,49.8316 ,49.6114,49.3918,49.1733,48.9559, 48.7393,48.3086,47.8823,47.459,47.0398, 46.6239,46.3143,46.0067,45.701,45.3976, 45.0958,44.7959,44.3988,44.1033,43.7117 ,43.4204,43.0345,42.7472,42.2719, 42.1777,42.1605)
FOOTPRINT_POINT_LONGITUDE = (156.371,155.842,155.277,154.787,154.41 ,154.108,153.807,153.506,153.204, 152.864,152.373,152.335,152.29,152.264, 152.23,152.203,152.182,152.154,152.132, 152.102,152.072,152.033,152.009,151.984 ,151.959,151.926,151.891,151.855, 151.818,151.78,151.761,151.742,151.722, 151.702,151.682,151.661,151.64,151.619, 151.598,151.576,151.554,151.531,151.509 ,151.485,151.462,151.438,151.402,151.39 ,151.389,152.073,152.887,153.386, 153.885,154.383,154.882,155.318,156.19, 156.874,157.314,157.995,158.057,158.077 ,158.026,157.976,157.926,157.877,157.83 ,157.783,157.737,157.693,157.649, 157.606,157.564,157.523,157.482,157.443 ,157.404,157.366,157.329,157.292, 157.221,157.153,157.087,157.024,156.963 ,156.918,156.875,156.833,156.793, 156.753,156.714,156.664,156.628,156.581 ,156.546,156.502,156.47,156.418,156.407 ,156.371)
ORBIT_NUMBER = 8249
ORBITAL_ECCENTRICITY = 0.579
ORBITAL_INCLINATION = 86.82
ORBITAL_SEMIMAJOR_AXIS = 8855.01
PERIAPSIS_ALTITUDE = 333.68
PERIAPSIS_ARGUMENT_ANGLE = 352.69
PERIAPSIS_TIME = 2010-06-12T06:11:43.000Z
SPACECRAFT_ORIENTATION = (0.0,1.0,0.0)
^MEX_ORIENTATION_DESC = "MEX_ORIENTATION_DESC.TXT"
SPACECRAFT_POINTING_MODE = NADIR
^MEX_POINTING_DESC = "MEX_POINTING_DESC.TXT"
RIGHT_ASCENSION = -1e+32
DECLINATION = -1e+32
OFFSET_ANGLE = -1e+32
SPACECRAFT_SOLAR_DISTANCE = 2.45308e+08
TARGET_NAME = MARS
/* CAMERA DATA ELEMENTS */
DETECTOR_TEMPERATURE = 18.1666
FOCAL_PLANE_TEMPERATURE = 7.7677
INST_CMPRS_NAME = "DISCRETE COSINE TRANSFORMATION (DCT)"
INST_CMPRS_RATIO = 17.606
INST_CMPRS_QUALITY = 0
INST_CMPRS_QUANTZ_TBL_ID = 0
INSTRUMENT_TEMPERATURE = 10.8262
LENS_TEMPERATURE = 8.1755
MACROPIXEL_SIZE = 4
MISSING_FRAMES = 0
PIXEL_SUBSAMPLING_FLAG = N
SIGNAL_CHAIN_ID = 2
/* RADIOMETRIC DATA ELEMENTS */
BANDWIDTH = 76.0
CENTER_FILTER_WAVELENGTH = 444.0
RADIANCE_OFFSET = 0.203165
RADIANCE_SCALING_FACTOR = 0.00105652
REFLECTANCE_SCALING_FACTOR = 6.53214e-05
MEX:REFLECTANCE_OFFSET = 0.012561
/* IMAGE OBJECT DEFINITIONS */
OBJECT = IMAGE
  INTERCHANGE_FORMAT = BINARY
  LINES = 6384
  LINE_SAMPLES = 2482
  SAMPLE_TYPE = UNSIGNED_INTEGER
  SAMPLE_BITS = 8
  BANDS = 1
  BAND_STORAGE_TYPE = BAND_SEQUENTIAL
  MAXIMUM = 255
  MEAN = 121.798
  MINIMUM = 1
  STANDARD_DEVIATION = 27.3297
END_OBJECT = IMAGE
/* MAP OBJECT DEFINITIONS */
OBJECT = IMAGE_MAP_PROJECTION
  ^DATA_SET_MAP_PROJECTION_CATALOG= "DSMAP.CAT"
  A_AXIS_RADIUS = 3396.0
  B_AXIS_RADIUS = 3396.0
  C_AXIS_RADIUS = 3396.0
  CENTER_LATITUDE = 0.0
  CENTER_LONGITUDE = 154.0
  COORDINATE_SYSTEM_NAME = PLANETOGRAPHIC
  COORDINATE_SYSTEM_TYPE = "BODY-FIXED ROTATING"
  EASTERNMOST_LONGITUDE = 158.077
  FIRST_STANDARD_PARALLEL = "N/A"
  LINE_FIRST_PIXEL = 1
  LINE_LAST_PIXEL = 6384
  LINE_PROJECTION_OFFSET = 31370.375
  MAP_PROJECTION_ROTATION = 0.0
  MAP_PROJECTION_TYPE = SINUSOIDAL
  MAP_RESOLUTION = 592.713803866667
  MAP_SCALE = 0.1
  MAXIMUM_LATITUDE = 52.9268
  MINIMUM_LATITUDE = 42.1605
  POSITIVE_LONGITUDE_DIRECTION = EAST
  REFERENCE_LATITUDE = "N/A"
  REFERENCE_LONGITUDE = "N/A"
  SAMPLE_FIRST_PIXEL = 1
  SAMPLE_LAST_PIXEL = 2482
  SAMPLE_PROJECTION_OFFSET = 982.625
  SECOND_STANDARD_PARALLEL = "N/A"
  WESTERNMOST_LONGITUDE = 151.389
END_OBJECT = IMAGE_MAP_PROJECTION
END
