PDS_VERSION_ID = PDS3
/* FILE DATA ELEMENTS */
RECORD_TYPE = UNDEFINED
/* POINTERS TO DATA OBJECTS */
^IMAGE = ("H8249_0000_RE4.TIF")
/* IDENTIFICATION DATA ELEMENTS */
DATA_SET_ID = "MEX-M-HRSC-4-REFDR-MAPPROJECT-EXT3-V4.0"
DATA_SET_NAME = "MARS EXPRESS HRSC MAP PROJECTED REFDR EXTENSION3 V4.0"
DETECTOR_ID = MEX_HRSC_RED
EVENT_TYPE = "MARS-REGIONAL-MAPPING-Gl-Pf"
INSTRUMENT_HOST_ID = MEX
INSTRUMENT_HOST_NAME = "MARS EXPRESS"
INSTRUMENT_ID = HRSC
INSTRUMENT_NAME = "HIGH RESOLUTION STEREO CAMERA"
MISSION_NAME = "MARS EXPRESS"
MISSION_PHASE_NAME = ME_Phase_20
PROCESSING_LEVEL_ID = 4
PRODUCT_CREATION_TIME = 2023-02-03T04:36:48.000Z
PRODUCT_ID = "H8249_0000_RE4.TIF"
RELEASE_ID = 0004
REVISION_ID = 0000
/* QUALITY DATA ELEMENTS */
DATA_QUALITY_ID = 1
DATA_QUALITY_DESC = "Data calculated based on original SPICE kernels"
/* TIME DATA ELEMENTS */
SPACECRAFT_CLOCK_START_COUNT = "1/0224403841.07283"
SPACECRAFT_CLOCK_STOP_COUNT = "1/0224404383.56965"
START_TIME = 2010-06-12T06:24:18.031Z
STOP_TIME = 2010-06-12T06:27:31.850Z
/* ORBITAL DATA ELEMENTS */
ASCENDING_NODE_LONGITUDE = 59.78
MAXIMUM_RESOLUTION = 0.1357
FOOTPRINT_POINT_LATITUDE = (42.1304,42.1371,42.1444,42.1507, 42.1543,42.156,42.1574,42.1575,42.1568, 42.1567,42.2332,42.6112,42.8961,43.2797 ,43.6666,44.057,44.4507,44.8479,45.2488 ,45.653,46.0607,46.5766,46.9924,47.2016 ,47.4124,47.73,47.9428,48.1568,48.4794, 48.6954,48.9131,49.1313,49.3505,49.5707 ,49.7921,50.0147,50.2386,50.4631, 50.6888,50.9159,51.1435,51.3724,51.6026 ,51.8337,52.0659,52.2994,52.534,52.7695 ,52.8879,52.9422,52.9429,52.9417, 52.9392,52.9321,52.9214,52.9068,52.8937 ,52.8734,52.8673,52.8527,52.8474, 52.8444,52.4911,52.259,52.0272,51.7974, 51.568,51.3396,51.1124,50.7734,50.549, 50.3252,50.1027,49.8814,49.6607,49.4414 ,49.1142,48.8972,48.681,48.4663,48.2521 ,48.0393,47.7215,47.5104,47.3007, 46.9878,46.5737,46.1628,45.8573,45.4533 ,45.0526,44.655,44.2609,43.8703,43.4833 ,43.004,42.6244,42.341,42.2473,42.1304)
FOOTPRINT_POINT_LONGITUDE = (156.209,155.787,155.225,154.592, 154.065,153.714,153.152,152.87,152.482, 152.447,152.401,152.378,152.36,152.336, 152.312,152.287,152.262,152.236,152.209 ,152.182,152.154,152.118,152.089, 152.074,152.058,152.035,152.02,152.004, 151.98,151.963,151.947,151.93,151.913, 151.896,151.879,151.861,151.843,151.825 ,151.807,151.788,151.769,151.75,151.731 ,151.711,151.691,151.671,151.651,151.63 ,151.619,151.615,152.242,152.701, 153.159,153.902,154.702,155.502,156.073 ,156.814,157.218,157.676,157.731,157.75 ,157.679,157.635,157.59,157.548,157.505 ,157.464,157.424,157.364,157.326, 157.288,157.251,157.215,157.18,157.145, 157.094,157.061,157.029,156.997,156.966 ,156.936,156.891,156.862,156.833, 156.791,156.737,156.684,156.647,156.598 ,156.55,156.505,156.461,156.418,156.377 ,156.327,156.29,156.262,156.253, 156.209)
ORBIT_NUMBER = 8249
ORBITAL_ECCENTRICITY = 0.579
ORBITAL_INCLINATION = 86.82
ORBITAL_SEMIMAJOR_AXIS = 8855.01
PERIAPSIS_ALTITUDE = 333.68
PERIAPSIS_ARGUMENT_ANGLE = 352.69
PERIAPSIS_TIME = 2010-06-12T06:11:43.000Z
SPACECRAFT_ORIENTATION = (0.0,1.0,0.0)
^MEX_ORIENTATION_DESC = "MEX_ORIENTATION_DESC.TXT"
SPACECRAFT_POINTING_MODE = NADIR
^MEX_POINTING_DESC = "MEX_POINTING_DESC.TXT"
RIGHT_ASCENSION = -1e+32
DECLINATION = -1e+32
OFFSET_ANGLE = -1e+32
SPACECRAFT_SOLAR_DISTANCE = 2.45308e+08
TARGET_NAME = MARS
/* CAMERA DATA ELEMENTS */
DETECTOR_TEMPERATURE = 18.3705
FOCAL_PLANE_TEMPERATURE = 7.7677
INST_CMPRS_NAME = "DISCRETE COSINE TRANSFORMATION (DCT)"
INST_CMPRS_RATIO = 14.4954
INST_CMPRS_QUALITY = 0
INST_CMPRS_QUANTZ_TBL_ID = 0
INSTRUMENT_TEMPERATURE = 10.8262
LENS_TEMPERATURE = 8.1755
MACROPIXEL_SIZE = 4
MISSING_FRAMES = 0
PIXEL_SUBSAMPLING_FLAG = N
SIGNAL_CHAIN_ID = 2
/* RADIOMETRIC DATA ELEMENTS */
BANDWIDTH = 48.0
CENTER_FILTER_WAVELENGTH = 748.0
RADIANCE_OFFSET = 0.390204
RADIANCE_SCALING_FACTOR = 0.00298925
REFLECTANCE_SCALING_FACTOR = 0.000410497
MEX:REFLECTANCE_OFFSET = 0.0535844
/* IMAGE OBJECT DEFINITIONS */
OBJECT = IMAGE
  INTERCHANGE_FORMAT = BINARY
  LINES = 6384
  LINE_SAMPLES = 2482
  SAMPLE_TYPE = UNSIGNED_INTEGER
  SAMPLE_BITS = 8
  BANDS = 1
  BAND_STORAGE_TYPE = BAND_SEQUENTIAL
  MAXIMUM = 255
  MEAN = 94.6316
  MINIMUM = 1
  STANDARD_DEVIATION = 26.7744
END_OBJECT = IMAGE
/* MAP OBJECT DEFINITIONS */
OBJECT = IMAGE_MAP_PROJECTION
  ^DATA_SET_MAP_PROJECTION_CATALOG= "DSMAP.CAT"
  A_AXIS_RADIUS = 3396.0
  B_AXIS_RADIUS = 3396.0
  C_AXIS_RADIUS = 3396.0
  CENTER_LATITUDE = 0.0
  CENTER_LONGITUDE = 154.0
  COORDINATE_SYSTEM_NAME = PLANETOGRAPHIC
  COORDINATE_SYSTEM_TYPE = "BODY-FIXED ROTATING"
  EASTERNMOST_LONGITUDE = 157.75
  FIRST_STANDARD_PARALLEL = "N/A"
  LINE_FIRST_PIXEL = 1
  LINE_LAST_PIXEL = 6384
  LINE_PROJECTION_OFFSET = 31370.375
  MAP_PROJECTION_ROTATION = 0.0
  MAP_PROJECTION_TYPE = SINUSOIDAL
  MAP_RESOLUTION = 592.713803866667
  MAP_SCALE = 0.1
  MAXIMUM_LATITUDE = 52.9429
  MINIMUM_LATITUDE = 42.1304
  POSITIVE_LONGITUDE_DIRECTION = EAST
  REFERENCE_LATITUDE = "N/A"
  REFERENCE_LONGITUDE = "N/A"
  SAMPLE_FIRST_PIXEL = 1
  SAMPLE_LAST_PIXEL = 2482
  SAMPLE_PROJECTION_OFFSET = 982.625
  SECOND_STANDARD_PARALLEL = "N/A"
  WESTERNMOST_LONGITUDE = 151.615
END_OBJECT = IMAGE_MAP_PROJECTION
END
