PDS_VERSION_ID = PDS3
/* FILE DATA ELEMENTS */
RECORD_TYPE = UNDEFINED
/* POINTERS TO DATA OBJECTS */
^IMAGE = ("H8345_0000_P24.TIF")
/* IDENTIFICATION DATA ELEMENTS */
DATA_SET_ID = "MEX-M-HRSC-4-REFDR-MAPPROJECT-EXT3-V4.0"
DATA_SET_NAME = "MARS EXPRESS HRSC MAP PROJECTED REFDR EXTENSION3 V4.0"
DETECTOR_ID = MEX_HRSC_P2
EVENT_TYPE = "MARS-REGIONAL-MAPPING-Vo-Im-Fl"
INSTRUMENT_HOST_ID = MEX
INSTRUMENT_HOST_NAME = "MARS EXPRESS"
INSTRUMENT_ID = HRSC
INSTRUMENT_NAME = "HIGH RESOLUTION STEREO CAMERA"
MISSION_NAME = "MARS EXPRESS"
MISSION_PHASE_NAME = ME_Phase_21
PROCESSING_LEVEL_ID = 4
PRODUCT_CREATION_TIME = 2023-02-03T04:36:48.000Z
PRODUCT_ID = "H8345_0000_P24.TIF"
RELEASE_ID = 0004
REVISION_ID = 0000
/* QUALITY DATA ELEMENTS */
DATA_QUALITY_ID = 1
DATA_QUALITY_DESC = "Data calculated based on original SPICE kernels"
/* TIME DATA ELEMENTS */
SPACECRAFT_CLOCK_START_COUNT = "1/0226820458.09073"
SPACECRAFT_CLOCK_STOP_COUNT = "1/0226820698.65041"
START_TIME = 2010-07-10T05:41:12.471Z
STOP_TIME = 2010-07-10T05:43:39.063Z
/* ORBITAL DATA ELEMENTS */
ASCENDING_NODE_LONGITUDE = 57.93
MAXIMUM_RESOLUTION = 0.0623
FOOTPRINT_POINT_LATITUDE = (-5.97426,-5.98499,-5.9912,-5.99711, -6.00268,-6.00799,-6.01305,-6.01336, -6.02241,-5.8411,-5.56918,-5.38779, -5.02576,-4.75469,-4.39517,-4.21237, -3.93799,-3.75606,-3.39553,-3.02808, -2.67279,-2.31249,-2.12891,-1.94377, -1.75912,-1.48213,-1.29769,-1.11318, -0.829981,-0.641363,-0.45364,-0.264966, 0.0164158,0.209218,0.405017,0.69362, 0.886992,1.07985,1.37548,1.57287, 1.77301,1.9677,2.1657,2.36776,2.56926, 2.77048,2.97053,3.27772,3.38068,3.4437, 3.45035,3.46123,3.46873,3.47653,3.4833, 3.48862,3.48925,3.48825,3.17965,2.87539 ,2.67359,2.47478,2.27371,1.97492, 1.67702,1.47954,1.28156,1.08483,0.89096 ,0.697325,0.505814,0.31255,0.0248151, -0.163368,-0.352243,-0.541633,-0.730169 ,-0.919558,-1.10731,-1.29191,-1.4768, -1.66133,-1.84638,-2.03141,-2.2162, -2.57691,-2.75787,-3.12017,-3.47998, -3.66117,-4.0225,-4.29594,-4.48048, -4.66172,-4.93323,-5.11464,-5.56568, -5.83764,-5.92847,-5.97426)
FOOTPRINT_POINT_LONGITUDE = (56.2073,55.8763,55.6744,55.4735, 55.2738,55.0752,54.8774,54.865,54.8631, 54.8595,54.8541,54.8504,54.8429,54.8372 ,54.8298,54.8256,54.8192,54.815,54.8069 ,54.7977,54.79,54.7814,54.7769,54.7724, 54.7678,54.7609,54.7562,54.7515,54.7443 ,54.7394,54.7346,54.7297,54.7224, 54.7172,54.7116,54.7038,54.6984,54.693, 54.6847,54.6791,54.6729,54.6676,54.662, 54.656,54.65,54.644,54.6381,54.6287, 54.6256,54.6236,54.8611,55.2658,55.5373 ,55.8103,56.039,56.2228,56.2383,56.2434 ,56.2408,56.2382,56.2364,56.2368, 56.2357,56.2336,56.2301,56.2287,56.2271 ,56.2258,56.2239,56.2223,56.2224, 56.2213,56.2206,56.2201,56.2191,56.2178 ,56.2173,56.2162,56.2153,56.2144, 56.2134,56.2128,56.2118,56.211,56.2105, 56.2091,56.2081,56.2059,56.206,56.2052, 56.2046,56.2025,56.1995,56.1991,56.1989 ,56.1985,56.1998,56.1998,56.1997, 56.2073)
ORBIT_NUMBER = 8345
ORBITAL_ECCENTRICITY = 0.579
ORBITAL_INCLINATION = 86.84
ORBITAL_SEMIMAJOR_AXIS = 8845.73
PERIAPSIS_ALTITUDE = 326.92
PERIAPSIS_ARGUMENT_ANGLE = 336.08
PERIAPSIS_TIME = 2010-07-10T05:37:00.000Z
SPACECRAFT_ORIENTATION = (0.0,1.0,0.0)
^MEX_ORIENTATION_DESC = "MEX_ORIENTATION_DESC.TXT"
SPACECRAFT_POINTING_MODE = ACROSSTRACK
^MEX_POINTING_DESC = "MEX_POINTING_DESC.TXT"
RIGHT_ASCENSION = -1e+32
DECLINATION = -1e+32
OFFSET_ANGLE = -0.5
SPACECRAFT_SOLAR_DISTANCE = 2.41899e+08
TARGET_NAME = MARS
/* CAMERA DATA ELEMENTS */
DETECTOR_TEMPERATURE = 18.1666
FOCAL_PLANE_TEMPERATURE = 7.5638
INST_CMPRS_NAME = "DISCRETE COSINE TRANSFORMATION (DCT)"
INST_CMPRS_RATIO = 16.7629
INST_CMPRS_QUALITY = 0
INST_CMPRS_QUANTZ_TBL_ID = 0
INSTRUMENT_TEMPERATURE = 10.8262
LENS_TEMPERATURE = 7.9716
MACROPIXEL_SIZE = 4
MISSING_FRAMES = 0
PIXEL_SUBSAMPLING_FLAG = N
SIGNAL_CHAIN_ID = 3
/* RADIOMETRIC DATA ELEMENTS */
BANDWIDTH = 177.0
CENTER_FILTER_WAVELENGTH = 676.5
RADIANCE_OFFSET = 0.669847
RADIANCE_SCALING_FACTOR = 0.0117637
REFLECTANCE_SCALING_FACTOR = 0.000364981
MEX:REFLECTANCE_OFFSET = 0.0207827
/* IMAGE OBJECT DEFINITIONS */
OBJECT = IMAGE
  INTERCHANGE_FORMAT = BINARY
  LINES = 11255
  LINE_SAMPLES = 2000
  SAMPLE_TYPE = UNSIGNED_INTEGER
  SAMPLE_BITS = 8
  BANDS = 1
  BAND_STORAGE_TYPE = BAND_SEQUENTIAL
  MAXIMUM = 255
  MEAN = 74.4521
  MINIMUM = 1
  STANDARD_DEVIATION = 29.0269
END_OBJECT = IMAGE
/* MAP OBJECT DEFINITIONS */
OBJECT = IMAGE_MAP_PROJECTION
  ^DATA_SET_MAP_PROJECTION_CATALOG= "DSMAP.CAT"
  A_AXIS_RADIUS = 3396.0
  B_AXIS_RADIUS = 3396.0
  C_AXIS_RADIUS = 3396.0
  CENTER_LATITUDE = 0.0
  CENTER_LONGITUDE = 55.0
  COORDINATE_SYSTEM_NAME = PLANETOGRAPHIC
  COORDINATE_SYSTEM_TYPE = "BODY-FIXED ROTATING"
  EASTERNMOST_LONGITUDE = 56.2434
  FIRST_STANDARD_PARALLEL = "N/A"
  LINE_FIRST_PIXEL = 1
  LINE_LAST_PIXEL = 11255
  LINE_PROJECTION_OFFSET = 4135.375
  MAP_PROJECTION_ROTATION = 0.0
  MAP_PROJECTION_TYPE = SINUSOIDAL
  MAP_RESOLUTION = 1185.42760773333
  MAP_SCALE = 0.05
  MAXIMUM_LATITUDE = 3.48925
  MINIMUM_LATITUDE = -6.02241
  POSITIVE_LONGITUDE_DIRECTION = EAST
  REFERENCE_LATITUDE = "N/A"
  REFERENCE_LONGITUDE = "N/A"
  SAMPLE_FIRST_PIXEL = 1
  SAMPLE_LAST_PIXEL = 2000
  SAMPLE_PROJECTION_OFFSET = 490.625
  SECOND_STANDARD_PARALLEL = "N/A"
  WESTERNMOST_LONGITUDE = 54.6236
END_OBJECT = IMAGE_MAP_PROJECTION
END
