PDS_VERSION_ID = PDS3
/* FILE DATA ELEMENTS */
RECORD_TYPE = UNDEFINED
/* POINTERS TO DATA OBJECTS */
^IMAGE = ("H8377_0000_GR4.TIF")
/* IDENTIFICATION DATA ELEMENTS */
DATA_SET_ID = "MEX-M-HRSC-4-REFDR-MAPPROJECT-EXT3-V4.0"
DATA_SET_NAME = "MARS EXPRESS HRSC MAP PROJECTED REFDR EXTENSION3 V4.0"
DETECTOR_ID = MEX_HRSC_GREEN
EVENT_TYPE = "MARS-REGIONAL-MAPPING-Im-Fl"
INSTRUMENT_HOST_ID = MEX
INSTRUMENT_HOST_NAME = "MARS EXPRESS"
INSTRUMENT_ID = HRSC
INSTRUMENT_NAME = "HIGH RESOLUTION STEREO CAMERA"
MISSION_NAME = "MARS EXPRESS"
MISSION_PHASE_NAME = ME_Phase_21
PROCESSING_LEVEL_ID = 4
PRODUCT_CREATION_TIME = 2023-02-03T04:36:48.000Z
PRODUCT_ID = "H8377_0000_GR4.TIF"
RELEASE_ID = 0004
REVISION_ID = 0000
/* QUALITY DATA ELEMENTS */
DATA_QUALITY_ID = 1
DATA_QUALITY_DESC = "Data calculated based on original SPICE kernels"
/* TIME DATA ELEMENTS */
SPACECRAFT_CLOCK_START_COUNT = "1/0227626174.09063"
SPACECRAFT_CLOCK_STOP_COUNT = "1/0227626528.54163"
START_TIME = 2010-07-19T13:30:22.290Z
STOP_TIME = 2010-07-19T13:34:28.325Z
/* ORBITAL DATA ELEMENTS */
ASCENDING_NODE_LONGITUDE = 57.31
MAXIMUM_RESOLUTION = 0.0686
FOOTPRINT_POINT_LATITUDE = (-7.31907,-7.32673,-7.33429,-7.3441, -7.34434,-7.34221,-6.97222,-6.59283, -6.08886,-5.57644,-5.06327,-4.67184, -4.14913,-3.88262,-3.35047,-3.08038, -2.80943,-2.53894,-2.26458,-1.9891, -1.71405,-1.4348,-1.15489,-0.732821, -0.448223,-0.163582,0.124858,0.413064, 0.850784,1.14364,1.58779,1.88466, 2.18582,2.48723,2.79153,3.09745,3.40582 ,3.71576,4.02838,4.34249,4.65934, 4.97736,5.29869,5.78498,6.11124,6.44125 ,6.7721,6.93953,7.05003,7.05913,7.06839 ,7.07573,7.08703,7.09552,7.10591, 7.10636,7.10509,6.77027,6.43929,6.10926 ,5.78201,5.29498,4.97297,4.6552,4.18066 ,3.86571,3.55522,3.24439,2.9382,2.63122 ,2.32941,1.8772,1.57946,1.28163, 0.987893,0.548301,0.259486,-0.173415, -0.457903,-0.884438,-1.16485,-1.44563, -1.72413,-1.99957,-2.27562,-2.55018, -2.82133,-3.09281,-3.36229,-3.62871, -3.89557,-4.16182,-4.6854,-5.07769, -5.59198,-5.97769,-6.60866,-7.11163, -7.23555,-7.31907)
FOOTPRINT_POINT_LONGITUDE = (21.4782,21.0264,20.5619,19.9314, 19.9161,19.9184,19.9069,19.9003,19.8878 ,19.8782,19.8644,19.8482,19.8344, 19.8271,19.812,19.8042,19.7963,19.7883, 19.7801,19.7716,19.7633,19.7543,19.7454 ,19.7321,19.7233,19.7173,19.707,19.6952 ,19.6798,19.669,19.6515,19.6394,19.6275 ,19.6153,19.6019,19.59,19.576,19.5627, 19.5493,19.5356,19.5215,19.5068,19.4901 ,19.4698,19.4542,19.438,19.422,19.4137, 19.4081,19.7266,20.0642,20.336,20.7702, 21.137,21.6006,21.6207,21.6273,21.6233, 21.619,21.6148,21.6107,21.6042,21.6001, 21.5971,21.5913,21.5877,21.5841,21.5808 ,21.5774,21.574,21.5708,21.5659,21.5629 ,21.5598,21.5564,21.5525,21.5497, 21.5454,21.5427,21.5391,21.5359,21.533, 21.5308,21.5284,21.5259,21.5226,21.5201 ,21.5177,21.5155,21.5131,21.5108, 21.5081,21.5038,21.5005,21.4962,21.493, 21.488,21.4829,21.4816,21.4782)
ORBIT_NUMBER = 8377
ORBITAL_ECCENTRICITY = 0.579
ORBITAL_INCLINATION = 86.82
ORBITAL_SEMIMAJOR_AXIS = 8836.57
PERIAPSIS_ALTITUDE = 325.77
PERIAPSIS_ARGUMENT_ANGLE = 330.53
PERIAPSIS_TIME = 2010-07-19T13:24:33.000Z
SPACECRAFT_ORIENTATION = (0.0,1.0,0.0)
^MEX_ORIENTATION_DESC = "MEX_ORIENTATION_DESC.TXT"
SPACECRAFT_POINTING_MODE = ACROSSTRACK
^MEX_POINTING_DESC = "MEX_POINTING_DESC.TXT"
RIGHT_ASCENSION = -1e+32
DECLINATION = -1e+32
OFFSET_ANGLE = 1.374
SPACECRAFT_SOLAR_DISTANCE = 2.40562e+08
TARGET_NAME = MARS
/* CAMERA DATA ELEMENTS */
DETECTOR_TEMPERATURE = 18.1666
FOCAL_PLANE_TEMPERATURE = 7.5638
INST_CMPRS_NAME = "DISCRETE COSINE TRANSFORMATION (DCT)"
INST_CMPRS_RATIO = 8.70939
INST_CMPRS_QUALITY = 0
INST_CMPRS_QUANTZ_TBL_ID = 0
INSTRUMENT_TEMPERATURE = 11.0301
LENS_TEMPERATURE = 8.1755
MACROPIXEL_SIZE = 4
MISSING_FRAMES = 0
PIXEL_SUBSAMPLING_FLAG = N
SIGNAL_CHAIN_ID = 2
/* RADIOMETRIC DATA ELEMENTS */
BANDWIDTH = 88.0
CENTER_FILTER_WAVELENGTH = 538.0
RADIANCE_OFFSET = 0.482702
RADIANCE_SCALING_FACTOR = 0.00603378
REFLECTANCE_SCALING_FACTOR = 0.000300629
MEX:REFLECTANCE_OFFSET = 0.0240503
/* IMAGE OBJECT DEFINITIONS */
OBJECT = IMAGE
  INTERCHANGE_FORMAT = BINARY
  LINES = 17109
  LINE_SAMPLES = 2584
  SAMPLE_TYPE = UNSIGNED_INTEGER
  SAMPLE_BITS = 8
  BANDS = 1
  BAND_STORAGE_TYPE = BAND_SEQUENTIAL
  MAXIMUM = 255
  MEAN = 101.992
  MINIMUM = 1
  STANDARD_DEVIATION = 28.3696
END_OBJECT = IMAGE
/* MAP OBJECT DEFINITIONS */
OBJECT = IMAGE_MAP_PROJECTION
  ^DATA_SET_MAP_PROJECTION_CATALOG= "DSMAP.CAT"
  A_AXIS_RADIUS = 3396.0
  B_AXIS_RADIUS = 3396.0
  C_AXIS_RADIUS = 3396.0
  CENTER_LATITUDE = 0.0
  CENTER_LONGITUDE = 21.0
  COORDINATE_SYSTEM_NAME = PLANETOGRAPHIC
  COORDINATE_SYSTEM_TYPE = "BODY-FIXED ROTATING"
  EASTERNMOST_LONGITUDE = 21.6273
  FIRST_STANDARD_PARALLEL = "N/A"
  LINE_FIRST_PIXEL = 1
  LINE_LAST_PIXEL = 17109
  LINE_PROJECTION_OFFSET = 8408.625
  MAP_PROJECTION_ROTATION = 0.0
  MAP_PROJECTION_TYPE = SINUSOIDAL
  MAP_RESOLUTION = 1185.42760773333
  MAP_SCALE = 0.05
  MAXIMUM_LATITUDE = 7.10636
  MINIMUM_LATITUDE = -7.34434
  POSITIVE_LONGITUDE_DIRECTION = EAST
  REFERENCE_LATITUDE = "N/A"
  REFERENCE_LONGITUDE = "N/A"
  SAMPLE_FIRST_PIXEL = 1
  SAMPLE_LAST_PIXEL = 2584
  SAMPLE_PROJECTION_OFFSET = 1865.375
  SECOND_STANDARD_PARALLEL = "N/A"
  WESTERNMOST_LONGITUDE = 19.4081
END_OBJECT = IMAGE_MAP_PROJECTION
END
