PDS_VERSION_ID = PDS3
/* FILE DATA ELEMENTS */
RECORD_TYPE = UNDEFINED
/* POINTERS TO DATA OBJECTS */
^IMAGE = ("H8409_0000_BL4.TIF")
/* IDENTIFICATION DATA ELEMENTS */
DATA_SET_ID = "MEX-M-HRSC-4-REFDR-MAPPROJECT-EXT3-V4.0"
DATA_SET_NAME = "MARS EXPRESS HRSC MAP PROJECTED REFDR EXTENSION3 V4.0"
DETECTOR_ID = MEX_HRSC_BLUE
EVENT_TYPE = "MARS-REGIONAL-MAPPING-Im-Fl-La"
INSTRUMENT_HOST_ID = MEX
INSTRUMENT_HOST_NAME = "MARS EXPRESS"
INSTRUMENT_ID = HRSC
INSTRUMENT_NAME = "HIGH RESOLUTION STEREO CAMERA"
MISSION_NAME = "MARS EXPRESS"
MISSION_PHASE_NAME = ME_Phase_21
PROCESSING_LEVEL_ID = 4
PRODUCT_CREATION_TIME = 2023-02-03T04:36:48.000Z
PRODUCT_ID = "H8409_0000_BL4.TIF"
RELEASE_ID = 0004
REVISION_ID = 0000
/* QUALITY DATA ELEMENTS */
DATA_QUALITY_ID = 1
DATA_QUALITY_DESC = "Data calculated based on original SPICE kernels"
/* TIME DATA ELEMENTS */
SPACECRAFT_CLOCK_START_COUNT = "1/0228431874.09055"
SPACECRAFT_CLOCK_STOP_COUNT = "1/0228432160.31229"
START_TIME = 2010-07-28T21:18:26.427Z
STOP_TIME = 2010-07-28T21:21:32.930Z
/* ORBITAL DATA ELEMENTS */
ASCENDING_NODE_LONGITUDE = 56.7
MAXIMUM_RESOLUTION = 0.0649
FOOTPRINT_POINT_LATITUDE = (-14.4803,-14.4834,-14.4858,-14.4871, -14.4871,-14.4829,-14.1769,-13.7694, -13.4568,-13.0397,-12.6232,-12.3037, -12.0903,-11.8774,-11.5581,-11.2316, -11.014,-10.7966,-10.5795,-10.2468, -10.0249,-9.80308,-9.58163,-9.35499, -9.12865,-8.90261,-8.56139,-8.33069, -8.10032,-7.87017,-7.51924,-7.2844, -7.04994,-6.69288,-6.45386,-6.21502, -5.85136,-5.60818,-5.36544,-5.11801, -4.87059,-4.62375,-4.37248,-4.12107, -3.74211,-3.48633,-3.23081,-3.10245, -2.98259,-2.97954,-2.97542,-2.97116, -2.96464,-2.95897,-2.95872,-2.95991, -3.21846,-3.6024,-3.85845,-4.11003, -4.36195,-4.61338,-4.86071,-5.10848, -5.35616,-5.59956,-5.84323,-6.20727, -6.44643,-6.68573,-7.04294,-7.39547, -7.63068,-7.86419,-8.09477,-8.32568, -8.67206,-8.89827,-9.12457,-9.35127, -9.57794,-9.79966,-10.1322,-10.3553, -10.5771,-10.7944,-11.1211,-11.3388, -11.5556,-11.7685,-11.9817,-12.1951, -12.4096,-12.6231,-12.9359,-13.3534, -13.9747,-14.2809,-14.383,-14.4803)
FOOTPRINT_POINT_LONGITUDE = (349.665,349.234,348.75,348.239,348.225 ,348.217,348.211,348.204,348.198,348.19 ,348.182,348.176,348.171,348.167, 348.159,348.152,348.146,348.141,348.136 ,348.128,348.123,348.117,348.111, 348.105,348.099,348.093,348.084,348.078 ,348.072,348.065,348.055,348.048, 348.041,348.031,348.024,348.016,348.004 ,347.997,347.989,347.981,347.973, 347.965,347.956,347.947,347.934,347.925 ,347.916,347.911,347.906,348.182, 348.527,348.871,349.337,349.734,349.751 ,349.757,349.754,349.75,349.748,349.746 ,349.743,349.741,349.739,349.737, 349.735,349.733,349.73,349.727,349.725, 349.724,349.721,349.718,349.717,349.715 ,349.713,349.711,349.709,349.707, 349.706,349.704,349.702,349.701,349.7, 349.697,349.695,349.694,349.692,349.691 ,349.69,349.689,349.687,349.686,349.683 ,349.681,349.679,349.677,349.673, 349.671,349.671,349.665)
ORBIT_NUMBER = 8409
ORBITAL_ECCENTRICITY = 0.579
ORBITAL_INCLINATION = 86.82
ORBITAL_SEMIMAJOR_AXIS = 8824.84
PERIAPSIS_ALTITUDE = 324.38
PERIAPSIS_ARGUMENT_ANGLE = 325.03
PERIAPSIS_TIME = 2010-07-28T21:13:18.000Z
SPACECRAFT_ORIENTATION = (0.0,1.0,0.0)
^MEX_ORIENTATION_DESC = "MEX_ORIENTATION_DESC.TXT"
SPACECRAFT_POINTING_MODE = NADIR
^MEX_POINTING_DESC = "MEX_POINTING_DESC.TXT"
RIGHT_ASCENSION = -1e+32
DECLINATION = -1e+32
OFFSET_ANGLE = -1e+32
SPACECRAFT_SOLAR_DISTANCE = 2.39134e+08
TARGET_NAME = MARS
/* CAMERA DATA ELEMENTS */
DETECTOR_TEMPERATURE = 17.9627
FOCAL_PLANE_TEMPERATURE = 7.5638
INST_CMPRS_NAME = "DISCRETE COSINE TRANSFORMATION (DCT)"
INST_CMPRS_RATIO = 11.6025
INST_CMPRS_QUALITY = 0
INST_CMPRS_QUANTZ_TBL_ID = 0
INSTRUMENT_TEMPERATURE = 9.8067
LENS_TEMPERATURE = 8.7872
MACROPIXEL_SIZE = 4
MISSING_FRAMES = 0
PIXEL_SUBSAMPLING_FLAG = N
SIGNAL_CHAIN_ID = 2
/* RADIOMETRIC DATA ELEMENTS */
BANDWIDTH = 76.0
CENTER_FILTER_WAVELENGTH = 444.0
RADIANCE_OFFSET = 0.218928
RADIANCE_SCALING_FACTOR = 0.00197725
REFLECTANCE_SCALING_FACTOR = 0.000116171
MEX:REFLECTANCE_OFFSET = 0.0128628
/* IMAGE OBJECT DEFINITIONS */
OBJECT = IMAGE
  INTERCHANGE_FORMAT = BINARY
  LINES = 13661
  LINE_SAMPLES = 2235
  SAMPLE_TYPE = UNSIGNED_INTEGER
  SAMPLE_BITS = 8
  BANDS = 1
  BAND_STORAGE_TYPE = BAND_SEQUENTIAL
  MAXIMUM = 255
  MEAN = 117.386
  MINIMUM = 1
  STANDARD_DEVIATION = 34.9518
END_OBJECT = IMAGE
/* MAP OBJECT DEFINITIONS */
OBJECT = IMAGE_MAP_PROJECTION
  ^DATA_SET_MAP_PROJECTION_CATALOG= "DSMAP.CAT"
  A_AXIS_RADIUS = 3396.0
  B_AXIS_RADIUS = 3396.0
  C_AXIS_RADIUS = 3396.0
  CENTER_LATITUDE = 0.0
  CENTER_LONGITUDE = 349.0
  COORDINATE_SYSTEM_NAME = PLANETOGRAPHIC
  COORDINATE_SYSTEM_TYPE = "BODY-FIXED ROTATING"
  EASTERNMOST_LONGITUDE = 349.757
  FIRST_STANDARD_PARALLEL = "N/A"
  LINE_FIRST_PIXEL = 1
  LINE_LAST_PIXEL = 13661
  LINE_PROJECTION_OFFSET = -3508.125
  MAP_PROJECTION_ROTATION = 0.0
  MAP_PROJECTION_TYPE = SINUSOIDAL
  MAP_RESOLUTION = 1185.42760773333
  MAP_SCALE = 0.05
  MAXIMUM_LATITUDE = -2.95872
  MINIMUM_LATITUDE = -14.4871
  POSITIVE_LONGITUDE_DIRECTION = EAST
  REFERENCE_LATITUDE = "N/A"
  REFERENCE_LONGITUDE = "N/A"
  SAMPLE_FIRST_PIXEL = 1
  SAMPLE_LAST_PIXEL = 2235
  SAMPLE_PROJECTION_OFFSET = 1323.375
  SECOND_STANDARD_PARALLEL = "N/A"
  WESTERNMOST_LONGITUDE = 347.906
END_OBJECT = IMAGE_MAP_PROJECTION
END
