PDS_VERSION_ID = PDS3
/* FILE DATA ELEMENTS */
RECORD_TYPE = UNDEFINED
/* POINTERS TO DATA OBJECTS */
^IMAGE = ("H8409_0000_GR4.TIF")
/* IDENTIFICATION DATA ELEMENTS */
DATA_SET_ID = "MEX-M-HRSC-4-REFDR-MAPPROJECT-EXT3-V4.0"
DATA_SET_NAME = "MARS EXPRESS HRSC MAP PROJECTED REFDR EXTENSION3 V4.0"
DETECTOR_ID = MEX_HRSC_GREEN
EVENT_TYPE = "MARS-REGIONAL-MAPPING-Im-Fl-La"
INSTRUMENT_HOST_ID = MEX
INSTRUMENT_HOST_NAME = "MARS EXPRESS"
INSTRUMENT_ID = HRSC
INSTRUMENT_NAME = "HIGH RESOLUTION STEREO CAMERA"
MISSION_NAME = "MARS EXPRESS"
MISSION_PHASE_NAME = ME_Phase_21
PROCESSING_LEVEL_ID = 4
PRODUCT_CREATION_TIME = 2023-02-03T04:36:48.000Z
PRODUCT_ID = "H8409_0000_GR4.TIF"
RELEASE_ID = 0004
REVISION_ID = 0000
/* QUALITY DATA ELEMENTS */
DATA_QUALITY_ID = 1
DATA_QUALITY_DESC = "Data calculated based on original SPICE kernels"
/* TIME DATA ELEMENTS */
SPACECRAFT_CLOCK_START_COUNT = "1/0228431874.09055"
SPACECRAFT_CLOCK_STOP_COUNT = "1/0228432160.31229"
START_TIME = 2010-07-28T21:18:39.340Z
STOP_TIME = 2010-07-28T21:21:51.031Z
/* ORBITAL DATA ELEMENTS */
ASCENDING_NODE_LONGITUDE = 56.7
MAXIMUM_RESOLUTION = 0.066
FOOTPRINT_POINT_LATITUDE = (-14.4694,-14.4718,-14.4733,-14.4752, -14.4762,-14.4762,-14.4778,-13.8565, -13.2317,-12.8092,-12.3874,-12.0641, -11.8485,-11.4187,-11.1989,-10.9793, -10.76,-10.5408,-10.3185,-10.0947, -9.87129,-9.6481,-9.42157,-9.19376, -8.96624,-8.739,-8.39147,-8.15975, -7.92843,-7.69282,-7.33942,-7.10421, -6.86424,-6.62452,-6.38532,-6.14251, -5.89896,-5.65581,-5.40904,-5.16157, -4.91467,-4.66336,-4.28669,-4.03293, -3.77789,-3.39409,-3.13526,-3.00609, -2.9835,-2.97805,-2.97216,-2.96852, -2.9632,-2.95898,-2.95874,-2.95992, -3.21897,-3.47848,-3.73367,-3.98918, -4.24352,-4.49493,-4.74677,-5.12023, -5.36801,-5.61541,-5.85886,-6.10277, -6.34658,-6.58616,-6.82637,-7.18474, -7.42045,-7.65659,-7.89302,-8.1246, -8.35646,-8.58877,-8.93248,-9.1604, -9.38856,-9.61588,-9.83936,-10.0643, -10.2873,-10.5103,-10.7297,-10.9494, -11.1692,-11.4982,-11.9291,-12.1449, -12.3606,-12.7826,-13.2057,-13.5213, -13.9351,-14.3499,-14.4538,-14.4694)
FOOTPRINT_POINT_LONGITUDE = (349.677,349.307,349.033,348.568, 348.225,348.211,348.203,348.191,348.179 ,348.17,348.162,348.154,348.15,348.139, 348.134,348.128,348.123,348.118,348.112 ,348.106,348.1,348.094,348.088,348.082, 348.076,348.069,348.059,348.053,348.046 ,348.039,348.029,348.021,348.014, 348.007,347.999,347.991,347.983,347.974 ,347.966,347.958,347.949,347.941, 347.927,347.919,347.909,347.895,347.885 ,347.88,347.879,348.286,348.73,349.013, 349.439,349.759,349.776,349.782,349.779 ,349.776,349.773,349.771,349.768, 349.766,349.763,349.759,349.757,349.754 ,349.752,349.749,349.747,349.745, 349.743,349.74,349.738,349.736,349.734, 349.732,349.729,349.728,349.725,349.723 ,349.721,349.719,349.717,349.718, 349.714,349.712,349.71,349.708,349.706, 349.705,349.702,349.701,349.698,349.694 ,349.691,349.689,349.686,349.683, 349.682,349.677)
ORBIT_NUMBER = 8409
ORBITAL_ECCENTRICITY = 0.579
ORBITAL_INCLINATION = 86.82
ORBITAL_SEMIMAJOR_AXIS = 8824.84
PERIAPSIS_ALTITUDE = 324.38
PERIAPSIS_ARGUMENT_ANGLE = 325.03
PERIAPSIS_TIME = 2010-07-28T21:13:18.000Z
SPACECRAFT_ORIENTATION = (0.0,1.0,0.0)
^MEX_ORIENTATION_DESC = "MEX_ORIENTATION_DESC.TXT"
SPACECRAFT_POINTING_MODE = NADIR
^MEX_POINTING_DESC = "MEX_POINTING_DESC.TXT"
RIGHT_ASCENSION = -1e+32
DECLINATION = -1e+32
OFFSET_ANGLE = -1e+32
SPACECRAFT_SOLAR_DISTANCE = 2.39134e+08
TARGET_NAME = MARS
/* CAMERA DATA ELEMENTS */
DETECTOR_TEMPERATURE = 17.9627
FOCAL_PLANE_TEMPERATURE = 7.5638
INST_CMPRS_NAME = "DISCRETE COSINE TRANSFORMATION (DCT)"
INST_CMPRS_RATIO = 12.7499
INST_CMPRS_QUALITY = 0
INST_CMPRS_QUANTZ_TBL_ID = 0
INSTRUMENT_TEMPERATURE = 9.8067
LENS_TEMPERATURE = 8.7872
MACROPIXEL_SIZE = 4
MISSING_FRAMES = 0
PIXEL_SUBSAMPLING_FLAG = N
SIGNAL_CHAIN_ID = 2
/* RADIOMETRIC DATA ELEMENTS */
BANDWIDTH = 88.0
CENTER_FILTER_WAVELENGTH = 538.0
RADIANCE_OFFSET = 0.454528
RADIANCE_SCALING_FACTOR = 0.0048299
REFLECTANCE_SCALING_FACTOR = 0.000237797
MEX:REFLECTANCE_OFFSET = 0.0223784
/* IMAGE OBJECT DEFINITIONS */
OBJECT = IMAGE
  INTERCHANGE_FORMAT = BINARY
  LINES = 13661
  LINE_SAMPLES = 2235
  SAMPLE_TYPE = UNSIGNED_INTEGER
  SAMPLE_BITS = 8
  BANDS = 1
  BAND_STORAGE_TYPE = BAND_SEQUENTIAL
  MAXIMUM = 255
  MEAN = 117.695
  MINIMUM = 1
  STANDARD_DEVIATION = 32.0413
END_OBJECT = IMAGE
/* MAP OBJECT DEFINITIONS */
OBJECT = IMAGE_MAP_PROJECTION
  ^DATA_SET_MAP_PROJECTION_CATALOG= "DSMAP.CAT"
  A_AXIS_RADIUS = 3396.0
  B_AXIS_RADIUS = 3396.0
  C_AXIS_RADIUS = 3396.0
  CENTER_LATITUDE = 0.0
  CENTER_LONGITUDE = 349.0
  COORDINATE_SYSTEM_NAME = PLANETOGRAPHIC
  COORDINATE_SYSTEM_TYPE = "BODY-FIXED ROTATING"
  EASTERNMOST_LONGITUDE = 349.782
  FIRST_STANDARD_PARALLEL = "N/A"
  LINE_FIRST_PIXEL = 1
  LINE_LAST_PIXEL = 13661
  LINE_PROJECTION_OFFSET = -3508.125
  MAP_PROJECTION_ROTATION = 0.0
  MAP_PROJECTION_TYPE = SINUSOIDAL
  MAP_RESOLUTION = 1185.42760773333
  MAP_SCALE = 0.05
  MAXIMUM_LATITUDE = -2.95874
  MINIMUM_LATITUDE = -14.4778
  POSITIVE_LONGITUDE_DIRECTION = EAST
  REFERENCE_LATITUDE = "N/A"
  REFERENCE_LONGITUDE = "N/A"
  SAMPLE_FIRST_PIXEL = 1
  SAMPLE_LAST_PIXEL = 2235
  SAMPLE_PROJECTION_OFFSET = 1323.375
  SECOND_STANDARD_PARALLEL = "N/A"
  WESTERNMOST_LONGITUDE = 347.879
END_OBJECT = IMAGE_MAP_PROJECTION
END
