PDS_VERSION_ID = PDS3
/* FILE DATA ELEMENTS */
RECORD_TYPE = UNDEFINED
/* POINTERS TO DATA OBJECTS */
^IMAGE = ("H8409_0000_IR4.TIF")
/* IDENTIFICATION DATA ELEMENTS */
DATA_SET_ID = "MEX-M-HRSC-4-REFDR-MAPPROJECT-EXT3-V4.0"
DATA_SET_NAME = "MARS EXPRESS HRSC MAP PROJECTED REFDR EXTENSION3 V4.0"
DETECTOR_ID = MEX_HRSC_IR
EVENT_TYPE = "MARS-REGIONAL-MAPPING-Im-Fl-La"
INSTRUMENT_HOST_ID = MEX
INSTRUMENT_HOST_NAME = "MARS EXPRESS"
INSTRUMENT_ID = HRSC
INSTRUMENT_NAME = "HIGH RESOLUTION STEREO CAMERA"
MISSION_NAME = "MARS EXPRESS"
MISSION_PHASE_NAME = ME_Phase_21
PROCESSING_LEVEL_ID = 4
PRODUCT_CREATION_TIME = 2023-02-03T04:36:48.000Z
PRODUCT_ID = "H8409_0000_IR4.TIF"
RELEASE_ID = 0004
REVISION_ID = 0000
/* QUALITY DATA ELEMENTS */
DATA_QUALITY_ID = 1
DATA_QUALITY_DESC = "Data calculated based on original SPICE kernels"
/* TIME DATA ELEMENTS */
SPACECRAFT_CLOCK_START_COUNT = "1/0228431874.09055"
SPACECRAFT_CLOCK_STOP_COUNT = "1/0228432160.31229"
START_TIME = 2010-07-28T21:19:05.924Z
STOP_TIME = 2010-07-28T21:22:29.999Z
/* ORBITAL DATA ELEMENTS */
ASCENDING_NODE_LONGITUDE = 56.7
MAXIMUM_RESOLUTION = 0.0715
FOOTPRINT_POINT_LATITUDE = (-14.456,-14.4595,-14.4614,-14.4629, -14.4658,-14.4659,-14.4789,-14.0692, -13.6507,-13.2328,-12.8088,-12.5955, -12.2808,-12.0636,-11.8459,-11.6309, -11.4153,-11.1971,-10.9775,-10.7579, -10.5389,-10.2042,-9.98105,-9.75848, -9.53152,-9.30522,-9.07936,-8.85031, -8.61977,-8.39019,-8.04047,-7.80717, -7.57464,-7.33757,-6.9825,-6.74332, -6.50291,-6.26364,-5.89977,-5.65666, -5.28704,-5.04062,-4.6662,-4.41672, -4.16274,-3.78353,-3.52838,-3.14378, -3.01448,-2.99702,-2.98949,-2.98454, -2.97703,-2.9725,-2.96622,-2.96602, -2.9672,-3.22682,-3.48275,-3.86648, -4.1196,-4.37344,-4.74867,-4.99932, -5.24584,-5.61482,-5.97981,-6.22331, -6.46357,-6.70422,-7.06319,-7.30039, -7.53815,-7.77188,-8.00581,-8.2398, -8.46966,-8.70016,-9.04552,-9.27217, -9.49933,-9.83785,-10.0679,-10.2847, -10.5087,-10.7283,-10.9481,-11.1685, -11.388,-11.6063,-11.9324,-12.2561, -12.676,-12.8891,-13.2076,-13.6254, -14.0448,-14.3529,-14.4558,-14.456)
FOOTPRINT_POINT_LONGITUDE = (349.709,349.152,348.852,348.624, 348.194,348.18,348.171,348.163,348.154, 348.145,348.135,348.131,348.122,348.117 ,348.112,348.107,348.101,348.095, 348.089,348.083,348.077,348.067,348.061 ,348.055,348.048,348.041,348.034, 348.027,348.02,348.013,348.002,347.995, 347.987,347.979,347.967,347.958,347.95, 347.941,347.928,347.919,347.905,347.896 ,347.882,347.872,347.862,347.847, 347.836,347.82,347.814,347.814,348.192, 348.458,348.913,349.312,349.824,349.843 ,349.849,349.845,349.842,349.836, 349.832,349.829,349.823,349.82,349.817, 349.811,349.806,349.803,349.8,349.797, 349.793,349.79,349.787,349.785,349.782, 349.779,349.776,349.774,349.77,349.767, 349.765,349.761,349.761,349.756,349.754 ,349.751,349.749,349.747,349.745, 349.743,349.741,349.737,349.731,349.729 ,349.726,349.722,349.718,349.716, 349.715,349.709)
ORBIT_NUMBER = 8409
ORBITAL_ECCENTRICITY = 0.579
ORBITAL_INCLINATION = 86.82
ORBITAL_SEMIMAJOR_AXIS = 8824.84
PERIAPSIS_ALTITUDE = 324.38
PERIAPSIS_ARGUMENT_ANGLE = 325.03
PERIAPSIS_TIME = 2010-07-28T21:13:18.000Z
SPACECRAFT_ORIENTATION = (0.0,1.0,0.0)
^MEX_ORIENTATION_DESC = "MEX_ORIENTATION_DESC.TXT"
SPACECRAFT_POINTING_MODE = NADIR
^MEX_POINTING_DESC = "MEX_POINTING_DESC.TXT"
RIGHT_ASCENSION = -1e+32
DECLINATION = -1e+32
OFFSET_ANGLE = -1e+32
SPACECRAFT_SOLAR_DISTANCE = 2.39134e+08
TARGET_NAME = MARS
/* CAMERA DATA ELEMENTS */
DETECTOR_TEMPERATURE = 16.9432
FOCAL_PLANE_TEMPERATURE = 7.5638
INST_CMPRS_NAME = "DISCRETE COSINE TRANSFORMATION (DCT)"
INST_CMPRS_RATIO = 11.6025
INST_CMPRS_QUALITY = 0
INST_CMPRS_QUANTZ_TBL_ID = 0
INSTRUMENT_TEMPERATURE = 9.8067
LENS_TEMPERATURE = 8.7872
MACROPIXEL_SIZE = 4
MISSING_FRAMES = 0
PIXEL_SUBSAMPLING_FLAG = N
SIGNAL_CHAIN_ID = 2
/* RADIOMETRIC DATA ELEMENTS */
BANDWIDTH = 81.0
CENTER_FILTER_WAVELENGTH = 955.5
RADIANCE_OFFSET = 0.224932
RADIANCE_SCALING_FACTOR = 0.00475346
REFLECTANCE_SCALING_FACTOR = 0.000586432
MEX:REFLECTANCE_OFFSET = 0.0277497
/* IMAGE OBJECT DEFINITIONS */
OBJECT = IMAGE
  INTERCHANGE_FORMAT = BINARY
  LINES = 13661
  LINE_SAMPLES = 2235
  SAMPLE_TYPE = UNSIGNED_INTEGER
  SAMPLE_BITS = 8
  BANDS = 1
  BAND_STORAGE_TYPE = BAND_SEQUENTIAL
  MAXIMUM = 255
  MEAN = 102.292
  MINIMUM = 1
  STANDARD_DEVIATION = 38.6574
END_OBJECT = IMAGE
/* MAP OBJECT DEFINITIONS */
OBJECT = IMAGE_MAP_PROJECTION
  ^DATA_SET_MAP_PROJECTION_CATALOG= "DSMAP.CAT"
  A_AXIS_RADIUS = 3396.0
  B_AXIS_RADIUS = 3396.0
  C_AXIS_RADIUS = 3396.0
  CENTER_LATITUDE = 0.0
  CENTER_LONGITUDE = 349.0
  COORDINATE_SYSTEM_NAME = PLANETOGRAPHIC
  COORDINATE_SYSTEM_TYPE = "BODY-FIXED ROTATING"
  EASTERNMOST_LONGITUDE = 349.849
  FIRST_STANDARD_PARALLEL = "N/A"
  LINE_FIRST_PIXEL = 1
  LINE_LAST_PIXEL = 13661
  LINE_PROJECTION_OFFSET = -3508.125
  MAP_PROJECTION_ROTATION = 0.0
  MAP_PROJECTION_TYPE = SINUSOIDAL
  MAP_RESOLUTION = 1185.42760773333
  MAP_SCALE = 0.05
  MAXIMUM_LATITUDE = -2.96602
  MINIMUM_LATITUDE = -14.4789
  POSITIVE_LONGITUDE_DIRECTION = EAST
  REFERENCE_LATITUDE = "N/A"
  REFERENCE_LONGITUDE = "N/A"
  SAMPLE_FIRST_PIXEL = 1
  SAMPLE_LAST_PIXEL = 2235
  SAMPLE_PROJECTION_OFFSET = 1323.375
  SECOND_STANDARD_PARALLEL = "N/A"
  WESTERNMOST_LONGITUDE = 347.814
END_OBJECT = IMAGE_MAP_PROJECTION
END
