PDS_VERSION_ID = PDS3
/* FILE DATA ELEMENTS */
RECORD_TYPE = UNDEFINED
/* POINTERS TO DATA OBJECTS */
^IMAGE = ("H8423_0000_S24.TIF")
/* IDENTIFICATION DATA ELEMENTS */
DATA_SET_ID = "MEX-M-HRSC-4-REFDR-MAPPROJECT-EXT3-V4.0"
DATA_SET_NAME = "MARS EXPRESS HRSC MAP PROJECTED REFDR EXTENSION3 V4.0"
DETECTOR_ID = MEX_HRSC_S2
EVENT_TYPE = "MARS-REGIONAL-MAPPING-Im-Fl-La"
INSTRUMENT_HOST_ID = MEX
INSTRUMENT_HOST_NAME = "MARS EXPRESS"
INSTRUMENT_ID = HRSC
INSTRUMENT_NAME = "HIGH RESOLUTION STEREO CAMERA"
MISSION_NAME = "MARS EXPRESS"
MISSION_PHASE_NAME = ME_Phase_21
PROCESSING_LEVEL_ID = 4
PRODUCT_CREATION_TIME = 2023-02-03T04:36:48.000Z
PRODUCT_ID = "H8423_0000_S24.TIF"
RELEASE_ID = 0004
REVISION_ID = 0000
/* QUALITY DATA ELEMENTS */
DATA_QUALITY_ID = 1
DATA_QUALITY_DESC = "Data calculated based on original SPICE kernels"
/* TIME DATA ELEMENTS */
SPACECRAFT_CLOCK_START_COUNT = "1/0228784365.07309"
SPACECRAFT_CLOCK_STOP_COUNT = "1/0228784832.07985"
START_TIME = 2010-08-01T23:12:47.694Z
STOP_TIME = 2010-08-01T23:18:11.066Z
/* ORBITAL DATA ELEMENTS */
ASCENDING_NODE_LONGITUDE = 56.43
MAXIMUM_RESOLUTION = 0.0319
FOOTPRINT_POINT_LATITUDE = (-18.9194,-18.9077,-18.8936,-18.8738, -18.8733,-18.8592,-18.4927,-18.1225, -17.5734,-17.2056,-16.4746,-15.5628, -14.834,-14.1051,-13.7305,-13.3573, -12.9854,-12.5998,-12.2168,-11.8358, -11.4436,-10.8591,-10.4624,-10.0633, -9.66199,-9.25439,-8.84612,-8.43231, -8.01558,-7.38044,-6.95441,-6.51915, -6.0861,-5.64286,-5.19887,-4.74837, -4.295,-3.83631,-3.37171,-2.90508, -2.4301,-1.95138,-1.46821,-0.976874, -0.481573,0.0182242,0.52503,1.03966, 1.55896,1.82017,2.08221,2.07523,2.07211 ,2.07018,2.06959,2.06962,2.06885, 1.54259,1.02177,0.507247,-0.00147863, -0.501126,-1.00004,-1.4913,-1.97488, -2.45353,-2.9288,-3.39694,-4.09158, -4.77408,-5.22852,-5.67174,-6.11609, -6.55088,-6.98234,-7.62622,-8.04836, -8.46461,-8.88023,-9.2865,-9.69826, -10.0998,-10.4994,-10.8968,-11.4833, -11.8746,-12.2574,-12.6426,-13.2134, -13.5873,-13.9602,-14.5125,-15.2411, -15.9727,-16.5217,-17.4306,-17.9869, -18.5374,-18.7218,-18.9194)
FOOTPRINT_POINT_LONGITUDE = (357.011,356.585,356.154,355.635, 355.621,355.61,355.607,355.602,355.598, 355.593,355.585,355.575,355.565,355.554 ,355.547,355.541,355.535,355.525, 355.518,355.511,355.502,355.49,355.482, 355.473,355.463,355.453,355.443,355.433 ,355.422,355.404,355.391,355.378, 355.365,355.351,355.337,355.322,355.307 ,355.291,355.274,355.258,355.24,355.222 ,355.204,355.184,355.164,355.144, 355.123,355.1,355.078,355.066,355.054, 355.634,356.127,356.516,357.146,357.166 ,357.173,357.169,357.164,357.16,357.156 ,357.152,357.148,357.144,357.141, 357.137,357.134,357.13,357.125,357.121, 357.117,357.114,357.111,357.108,357.105 ,357.1,357.097,357.094,357.091,357.089, 357.085,357.082,357.08,357.077,357.073, 357.07,357.067,357.064,357.059,357.057, 357.054,357.049,357.044,357.038,357.033 ,357.026,357.021,357.016,357.014, 357.011)
ORBIT_NUMBER = 8423
ORBITAL_ECCENTRICITY = 0.579
ORBITAL_INCLINATION = 86.82
ORBITAL_SEMIMAJOR_AXIS = 8821.62
PERIAPSIS_ALTITUDE = 323.96
PERIAPSIS_ARGUMENT_ANGLE = 322.63
PERIAPSIS_TIME = 2010-08-01T23:08:39.000Z
SPACECRAFT_ORIENTATION = (0.0,1.0,0.0)
^MEX_ORIENTATION_DESC = "MEX_ORIENTATION_DESC.TXT"
SPACECRAFT_POINTING_MODE = ACROSSTRACK
^MEX_POINTING_DESC = "MEX_POINTING_DESC.TXT"
RIGHT_ASCENSION = -1e+32
DECLINATION = -1e+32
OFFSET_ANGLE = 0.5
SPACECRAFT_SOLAR_DISTANCE = 2.38482e+08
TARGET_NAME = MARS
/* CAMERA DATA ELEMENTS */
DETECTOR_TEMPERATURE = 18.3705
FOCAL_PLANE_TEMPERATURE = 7.9716
INST_CMPRS_NAME = "DISCRETE COSINE TRANSFORMATION (DCT)"
INST_CMPRS_RATIO = 12.0493
INST_CMPRS_QUALITY = 0
INST_CMPRS_QUANTZ_TBL_ID = 0
INSTRUMENT_TEMPERATURE = 11.0301
LENS_TEMPERATURE = 8.3794
MACROPIXEL_SIZE = 2
MISSING_FRAMES = 0
PIXEL_SUBSAMPLING_FLAG = N
SIGNAL_CHAIN_ID = 1
/* RADIOMETRIC DATA ELEMENTS */
BANDWIDTH = 178.0
CENTER_FILTER_WAVELENGTH = 679.0
RADIANCE_OFFSET = 1.1139
RADIANCE_SCALING_FACTOR = 0.0188023
REFLECTANCE_SCALING_FACTOR = 0.000566307
MEX:REFLECTANCE_OFFSET = 0.0335494
/* IMAGE OBJECT DEFINITIONS */
OBJECT = IMAGE
  INTERCHANGE_FORMAT = BINARY
  LINES = 49697
  LINE_SAMPLES = 5453
  SAMPLE_TYPE = UNSIGNED_INTEGER
  SAMPLE_BITS = 8
  BANDS = 1
  BAND_STORAGE_TYPE = BAND_SEQUENTIAL
  MAXIMUM = 255
  MEAN = 89.1767
  MINIMUM = 1
  STANDARD_DEVIATION = 24.6542
END_OBJECT = IMAGE
/* MAP OBJECT DEFINITIONS */
OBJECT = IMAGE_MAP_PROJECTION
  ^DATA_SET_MAP_PROJECTION_CATALOG= "DSMAP.CAT"
  A_AXIS_RADIUS = 3396.0
  B_AXIS_RADIUS = 3396.0
  C_AXIS_RADIUS = 3396.0
  CENTER_LATITUDE = 0.0
  CENTER_LONGITUDE = 356.0
  COORDINATE_SYSTEM_NAME = PLANETOGRAPHIC
  COORDINATE_SYSTEM_TYPE = "BODY-FIXED ROTATING"
  EASTERNMOST_LONGITUDE = 357.173
  FIRST_STANDARD_PARALLEL = "N/A"
  LINE_FIRST_PIXEL = 1
  LINE_LAST_PIXEL = 49697
  LINE_PROJECTION_OFFSET = 4941.25
  MAP_PROJECTION_ROTATION = 0.0
  MAP_PROJECTION_TYPE = SINUSOIDAL
  MAP_RESOLUTION = 2370.85521546667
  MAP_SCALE = 0.025
  MAXIMUM_LATITUDE = 2.08221
  MINIMUM_LATITUDE = -18.9194
  POSITIVE_LONGITUDE_DIRECTION = EAST
  REFERENCE_LATITUDE = "N/A"
  REFERENCE_LONGITUDE = "N/A"
  SAMPLE_FIRST_PIXEL = 1
  SAMPLE_LAST_PIXEL = 5453
  SAMPLE_PROJECTION_OFFSET = 2447.75
  SECOND_STANDARD_PARALLEL = "N/A"
  WESTERNMOST_LONGITUDE = 355.054
END_OBJECT = IMAGE_MAP_PROJECTION
END
