PDS_VERSION_ID = PDS3
/* FILE DATA ELEMENTS */
RECORD_TYPE = UNDEFINED
/* POINTERS TO DATA OBJECTS */
^IMAGE = ("H8451_0000_RE4.TIF")
/* IDENTIFICATION DATA ELEMENTS */
DATA_SET_ID = "MEX-M-HRSC-4-REFDR-MAPPROJECT-EXT3-V4.0"
DATA_SET_NAME = "MARS EXPRESS HRSC MAP PROJECTED REFDR EXTENSION3 V4.0"
DETECTOR_ID = MEX_HRSC_RED
EVENT_TYPE = "MARS-REGIONAL-MAPPING-Im-Fl-La"
INSTRUMENT_HOST_ID = MEX
INSTRUMENT_HOST_NAME = "MARS EXPRESS"
INSTRUMENT_ID = HRSC
INSTRUMENT_NAME = "HIGH RESOLUTION STEREO CAMERA"
MISSION_NAME = "MARS EXPRESS"
MISSION_PHASE_NAME = ME_Phase_21
PROCESSING_LEVEL_ID = 4
PRODUCT_CREATION_TIME = 2023-02-03T04:36:48.000Z
PRODUCT_ID = "H8451_0000_RE4.TIF"
RELEASE_ID = 0004
REVISION_ID = 0000
/* QUALITY DATA ELEMENTS */
DATA_QUALITY_ID = 1
DATA_QUALITY_DESC = "Data calculated based on original SPICE kernels"
/* TIME DATA ELEMENTS */
SPACECRAFT_CLOCK_START_COUNT = "1/0229489400.08271"
SPACECRAFT_CLOCK_STOP_COUNT = "1/0229489901.38519"
START_TIME = 2010-08-10T03:03:28.836Z
STOP_TIME = 2010-08-10T03:09:09.290Z
/* ORBITAL DATA ELEMENTS */
ASCENDING_NODE_LONGITUDE = 55.89
MAXIMUM_RESOLUTION = 0.0666
FOOTPRINT_POINT_LATITUDE = (-20.3712,-20.3879,-20.3942,-20.3943, -20.3886,-19.3497,-18.8159,-18.4573, -17.9212,-17.3793,-17.0149,-16.6393, -16.2688,-15.705,-15.3249,-14.9452, -14.5564,-13.9736,-13.5774,-13.1808, -12.5767,-12.1724,-11.7564,-11.3485, -10.9299,-10.2937,-9.86744,-9.43422, -8.99874,-8.55587,-7.88313,-7.4324, -6.97466,-6.51179,-6.04584,-5.57318, -5.09576,-4.614,-4.12427,-3.38601, -2.88469,-2.37612,-1.86264,-1.34088, -0.813469,-0.278992,0.259761,0.808452, 1.0823,1.10523,1.11605,1.13181,1.15294, 1.16909,1.16984,1.16846,0.341136, -0.195452,-0.997887,-1.52286,-2.04112, -2.55331,-3.06005,-3.56094,-4.05693, -4.54608,-5.0304,-5.50917,-5.98018, -6.44639,-7.14007,-7.82209,-8.49543, -8.93901,-9.37521,-9.81023,-10.2429, -10.6688,-11.0809,-11.6992,-12.3249, -12.7296,-13.3322,-13.7295,-14.1227, -14.511,-14.9006,-15.2792,-15.6625, -16.0404,-16.5984,-16.971,-17.3347, -17.6997,-18.064,-18.7758,-19.3093, -20.1786,-20.3505,-20.3712)
FOOTPRINT_POINT_LONGITUDE = (13.9597,13.0693,12.4909,12.4772, 12.4727,12.4576,12.4481,12.4413,12.4316 ,12.4221,12.4147,12.4061,12.3986, 12.3859,12.3773,12.3684,12.359,12.3443, 12.3341,12.3235,12.3071,12.2956,12.2829 ,12.2717,12.2594,12.2391,12.2258, 12.2116,12.197,12.1818,12.1576,12.1414, 12.1248,12.1072,12.0893,12.071,12.052, 12.0326,12.0119,11.9816,11.96,11.9376, 11.9148,11.8905,11.8658,11.84,11.814, 11.7864,11.773,11.7718,12.2255,12.833, 13.5739,14.0776,14.0996,14.1069,14.0979 ,14.095,14.0873,14.0828,14.0786,14.0745 ,14.0705,14.0666,14.0627,14.0589,14.055 ,14.0515,14.0496,14.0467,14.0415, 14.0369,14.0317,14.0288,14.026,14.0229, 14.0183,14.0154,14.017,14.0158,14.0075, 14.0053,14.0014,13.9991,13.9969,13.995, 13.9927,13.9916,13.9883,13.9862,13.9837 ,13.9815,13.9798,13.9775,13.9755, 13.9716,13.9679,13.963,13.9631,13.9597)
ORBIT_NUMBER = 8451
ORBITAL_ECCENTRICITY = 0.579
ORBITAL_INCLINATION = 86.83
ORBITAL_SEMIMAJOR_AXIS = 8814.67
PERIAPSIS_ALTITUDE = 323.3
PERIAPSIS_ARGUMENT_ANGLE = 317.83
PERIAPSIS_TIME = 2010-08-10T02:58:24.000Z
SPACECRAFT_ORIENTATION = (0.0,1.0,0.0)
^MEX_ORIENTATION_DESC = "MEX_ORIENTATION_DESC.TXT"
SPACECRAFT_POINTING_MODE = ACROSSTRACK
^MEX_POINTING_DESC = "MEX_POINTING_DESC.TXT"
RIGHT_ASCENSION = -1e+32
DECLINATION = -1e+32
OFFSET_ANGLE = -0.3
SPACECRAFT_SOLAR_DISTANCE = 2.37135e+08
TARGET_NAME = MARS
/* CAMERA DATA ELEMENTS */
DETECTOR_TEMPERATURE = 18.5744
FOCAL_PLANE_TEMPERATURE = 8.9911
INST_CMPRS_NAME = "DISCRETE COSINE TRANSFORMATION (DCT)"
INST_CMPRS_RATIO = 12.5732
INST_CMPRS_QUALITY = 0
INST_CMPRS_QUANTZ_TBL_ID = 0
INSTRUMENT_TEMPERATURE = 11.0301
LENS_TEMPERATURE = 8.5833
MACROPIXEL_SIZE = 4
MISSING_FRAMES = 0
PIXEL_SUBSAMPLING_FLAG = N
SIGNAL_CHAIN_ID = 2
/* RADIOMETRIC DATA ELEMENTS */
BANDWIDTH = 48.0
CENTER_FILTER_WAVELENGTH = 748.0
RADIANCE_OFFSET = 0.311408
RADIANCE_SCALING_FACTOR = 0.00865466
REFLECTANCE_SCALING_FACTOR = 0.00111062
MEX:REFLECTANCE_OFFSET = 0.0399618
/* IMAGE OBJECT DEFINITIONS */
OBJECT = IMAGE
  INTERCHANGE_FORMAT = BINARY
  LINES = 25530
  LINE_SAMPLES = 3009
  SAMPLE_TYPE = UNSIGNED_INTEGER
  SAMPLE_BITS = 8
  BANDS = 1
  BAND_STORAGE_TYPE = BAND_SEQUENTIAL
  MAXIMUM = 255
  MEAN = 83.7817
  MINIMUM = 1
  STANDARD_DEVIATION = 39.226
END_OBJECT = IMAGE
/* MAP OBJECT DEFINITIONS */
OBJECT = IMAGE_MAP_PROJECTION
  ^DATA_SET_MAP_PROJECTION_CATALOG= "DSMAP.CAT"
  A_AXIS_RADIUS = 3396.0
  B_AXIS_RADIUS = 3396.0
  C_AXIS_RADIUS = 3396.0
  CENTER_LATITUDE = 0.0
  CENTER_LONGITUDE = 13.0
  COORDINATE_SYSTEM_NAME = PLANETOGRAPHIC
  COORDINATE_SYSTEM_TYPE = "BODY-FIXED ROTATING"
  EASTERNMOST_LONGITUDE = 14.1069
  FIRST_STANDARD_PARALLEL = "N/A"
  LINE_FIRST_PIXEL = 1
  LINE_LAST_PIXEL = 25530
  LINE_PROJECTION_OFFSET = 1382.625
  MAP_PROJECTION_ROTATION = 0.0
  MAP_PROJECTION_TYPE = SINUSOIDAL
  MAP_RESOLUTION = 1185.42760773333
  MAP_SCALE = 0.05
  MAXIMUM_LATITUDE = 1.16984
  MINIMUM_LATITUDE = -20.3943
  POSITIVE_LONGITUDE_DIRECTION = EAST
  REFERENCE_LATITUDE = "N/A"
  REFERENCE_LONGITUDE = "N/A"
  SAMPLE_FIRST_PIXEL = 1
  SAMPLE_LAST_PIXEL = 3009
  SAMPLE_PROJECTION_OFFSET = 1583.375
  SECOND_STANDARD_PARALLEL = "N/A"
  WESTERNMOST_LONGITUDE = 11.7718
END_OBJECT = IMAGE_MAP_PROJECTION
END
