PDS_VERSION_ID = PDS3
/* FILE DATA ELEMENTS */
RECORD_TYPE = UNDEFINED
/* POINTERS TO DATA OBJECTS */
^IMAGE = ("H8513_0000_P24.TIF")
/* IDENTIFICATION DATA ELEMENTS */
DATA_SET_ID = "MEX-M-HRSC-4-REFDR-MAPPROJECT-EXT3-V4.0"
DATA_SET_NAME = "MARS EXPRESS HRSC MAP PROJECTED REFDR EXTENSION3 V4.0"
DETECTOR_ID = MEX_HRSC_P2
EVENT_TYPE = "MARS-REGIONAL-MAPPING-Te-Im-Fl"
INSTRUMENT_HOST_ID = MEX
INSTRUMENT_HOST_NAME = "MARS EXPRESS"
INSTRUMENT_ID = HRSC
INSTRUMENT_NAME = "HIGH RESOLUTION STEREO CAMERA"
MISSION_NAME = "MARS EXPRESS"
MISSION_PHASE_NAME = ME_Phase_21
PROCESSING_LEVEL_ID = 4
PRODUCT_CREATION_TIME = 2023-02-03T21:13:30.000Z
PRODUCT_ID = "H8513_0000_P24.TIF"
RELEASE_ID = 0005
REVISION_ID = 0000
/* QUALITY DATA ELEMENTS */
DATA_QUALITY_ID = 1
DATA_QUALITY_DESC = "Data calculated based on original SPICE kernels"
/* TIME DATA ELEMENTS */
SPACECRAFT_CLOCK_START_COUNT = "1/0231050416.08240"
SPACECRAFT_CLOCK_STOP_COUNT = "1/0231050716.56547"
START_TIME = 2010-08-28T04:40:29.477Z
STOP_TIME = 2010-08-28T04:43:56.212Z
/* ORBITAL DATA ELEMENTS */
ASCENDING_NODE_LONGITUDE = 54.69
MAXIMUM_RESOLUTION = 0.0293
FOOTPRINT_POINT_LATITUDE = (-37.4257,-37.427,-37.4252,-37.4208, -37.4207,-37.399,-37.0588,-36.6056, -36.1537,-35.815,-35.3615,-35.1069, -34.7028,-34.4333,-34.1645,-33.8966, -33.6282,-33.3591,-33.0911,-32.8221, -32.5537,-32.2849,-32.017,-31.7453, -31.4804,-31.2126,-30.9454,-30.5449, -30.2782,-30.0118,-29.7467,-29.4741, -29.0697,-28.7978,-28.3776,-28.097, -27.8171,-27.397,-27.1121,-26.8264, -26.5462,-26.2566,-25.9649,-25.6739, -25.2306,-24.9336,-24.637,-24.1827, -24.0321,-23.9817,-23.98,-23.9768, -23.9706,-23.9598,-23.9595,-23.96, -24.264,-24.5677,-24.865,-25.3111, -25.6061,-25.8976,-26.1894,-26.4813, -26.7668,-27.0529,-27.4819,-27.7569, -28.0425,-28.3212,-28.6005,-28.8734, -29.2835,-29.5568,-29.8282,-30.2295, -30.63,-30.8974,-31.1667,-31.4344, -31.836,-32.104,-32.3725,-32.6412, -32.9094,-33.1781,-33.4469,-33.9844, -34.3887,-34.6584,-35.0627,-35.4372, -36.0013,-36.341,-36.5675,-36.7941, -37.0209,-37.2484,-37.3616,-37.4257)
FOOTPRINT_POINT_LONGITUDE = (151.948,151.373,150.893,150.417, 150.402,150.392,150.398,150.405,150.411 ,150.416,150.421,150.423,150.427, 150.429,150.432,150.434,150.436,150.437 ,150.438,150.439,150.44,150.44,150.441, 150.44,150.441,150.441,150.44,150.439, 150.439,150.438,150.437,150.436,150.435 ,150.433,150.429,150.426,150.423, 150.419,150.416,150.413,150.411,150.407 ,150.403,150.399,150.393,150.388, 150.383,150.376,150.373,150.372,150.698 ,151.043,151.564,152.14,152.158,152.164 ,152.161,152.158,152.155,152.151, 152.148,152.144,152.141,152.138,152.135 ,152.131,152.126,152.126,152.118, 152.115,152.112,152.108,152.103,152.099 ,152.096,152.09,152.084,152.08,152.075, 152.071,152.066,152.062,152.057,152.053 ,152.049,152.045,152.041,152.033, 152.026,152.021,152.014,152.007,151.998 ,151.992,151.988,151.983,151.979, 151.974,151.972,151.948)
ORBIT_NUMBER = 8513
ORBITAL_ECCENTRICITY = 0.579
ORBITAL_INCLINATION = 86.82
ORBITAL_SEMIMAJOR_AXIS = 8797.06
PERIAPSIS_ALTITUDE = 322.33
PERIAPSIS_ARGUMENT_ANGLE = 307.27
PERIAPSIS_TIME = 2010-08-28T04:36:58.000Z
SPACECRAFT_ORIENTATION = (0.0,1.0,0.0)
^MEX_ORIENTATION_DESC = "MEX_ORIENTATION_DESC.TXT"
SPACECRAFT_POINTING_MODE = ACROSSTRACK
^MEX_POINTING_DESC = "MEX_POINTING_DESC.TXT"
RIGHT_ASCENSION = -1e+32
DECLINATION = -1e+32
OFFSET_ANGLE = -0.3
SPACECRAFT_SOLAR_DISTANCE = 2.33963e+08
TARGET_NAME = MARS
/* CAMERA DATA ELEMENTS */
DETECTOR_TEMPERATURE = 18.5744
FOCAL_PLANE_TEMPERATURE = 8.1755
INST_CMPRS_NAME = "DISCRETE COSINE TRANSFORMATION (DCT)"
INST_CMPRS_RATIO = 5.63098
INST_CMPRS_QUALITY = 0
INST_CMPRS_QUANTZ_TBL_ID = 0
INSTRUMENT_TEMPERATURE = 11.234
LENS_TEMPERATURE = 8.5833
MACROPIXEL_SIZE = 2
MISSING_FRAMES = 0
PIXEL_SUBSAMPLING_FLAG = N
SIGNAL_CHAIN_ID = 3
/* RADIOMETRIC DATA ELEMENTS */
BANDWIDTH = 177.0
CENTER_FILTER_WAVELENGTH = 676.5
RADIANCE_OFFSET = 0.301899
RADIANCE_SCALING_FACTOR = 0.0184165
REFLECTANCE_SCALING_FACTOR = 0.000534509
MEX:REFLECTANCE_OFFSET = 0.00876214
/* IMAGE OBJECT DEFINITIONS */
OBJECT = IMAGE
  INTERCHANGE_FORMAT = BINARY
  LINES = 31867
  LINE_SAMPLES = 4042
  SAMPLE_TYPE = UNSIGNED_INTEGER
  SAMPLE_BITS = 8
  BANDS = 1
  BAND_STORAGE_TYPE = BAND_SEQUENTIAL
  MAXIMUM = 255
  MEAN = 104.591
  MINIMUM = 1
  STANDARD_DEVIATION = 22.834
END_OBJECT = IMAGE
/* MAP OBJECT DEFINITIONS */
OBJECT = IMAGE_MAP_PROJECTION
  ^DATA_SET_MAP_PROJECTION_CATALOG= "DSMAP.CAT"
  A_AXIS_RADIUS = 3396.0
  B_AXIS_RADIUS = 3396.0
  C_AXIS_RADIUS = 3396.0
  CENTER_LATITUDE = 0.0
  CENTER_LONGITUDE = 151.0
  COORDINATE_SYSTEM_NAME = PLANETOGRAPHIC
  COORDINATE_SYSTEM_TYPE = "BODY-FIXED ROTATING"
  EASTERNMOST_LONGITUDE = 152.164
  FIRST_STANDARD_PARALLEL = "N/A"
  LINE_FIRST_PIXEL = 1
  LINE_LAST_PIXEL = 31867
  LINE_PROJECTION_OFFSET = -56806.75
  MAP_PROJECTION_ROTATION = 0.0
  MAP_PROJECTION_TYPE = SINUSOIDAL
  MAP_RESOLUTION = 2370.85521546667
  MAP_SCALE = 0.025
  MAXIMUM_LATITUDE = -23.9595
  MINIMUM_LATITUDE = -37.427
  POSITIVE_LONGITUDE_DIRECTION = EAST
  REFERENCE_LATITUDE = "N/A"
  REFERENCE_LONGITUDE = "N/A"
  SAMPLE_FIRST_PIXEL = 1
  SAMPLE_LAST_PIXEL = 4042
  SAMPLE_PROJECTION_OFFSET = 1445.25
  SECOND_STANDARD_PARALLEL = "N/A"
  WESTERNMOST_LONGITUDE = 150.372
END_OBJECT = IMAGE_MAP_PROJECTION
END
