PDS_VERSION_ID = PDS3
/* FILE DATA ELEMENTS */
RECORD_TYPE = UNDEFINED
/* POINTERS TO DATA OBJECTS */
^IMAGE = ("H8637_0000_P14.TIF")
/* IDENTIFICATION DATA ELEMENTS */
DATA_SET_ID = "MEX-M-HRSC-4-REFDR-MAPPROJECT-EXT3-V4.0"
DATA_SET_NAME = "MARS EXPRESS HRSC MAP PROJECTED REFDR EXTENSION3 V4.0"
DETECTOR_ID = MEX_HRSC_P1
EVENT_TYPE = "MARS-REGIONAL-MAPPING-Vo-Fl-Gl"
INSTRUMENT_HOST_ID = MEX
INSTRUMENT_HOST_NAME = "MARS EXPRESS"
INSTRUMENT_ID = HRSC
INSTRUMENT_NAME = "HIGH RESOLUTION STEREO CAMERA"
MISSION_NAME = "MARS EXPRESS"
MISSION_PHASE_NAME = ME_Phase_21
PROCESSING_LEVEL_ID = 4
PRODUCT_CREATION_TIME = 2023-02-03T21:13:30.000Z
PRODUCT_ID = "H8637_0000_P14.TIF"
RELEASE_ID = 0005
REVISION_ID = 0000
/* QUALITY DATA ELEMENTS */
DATA_QUALITY_ID = 1
DATA_QUALITY_DESC = "Data calculated based on original SPICE kernels"
/* TIME DATA ELEMENTS */
SPACECRAFT_CLOCK_START_COUNT = "1/0234172608.08260"
SPACECRAFT_CLOCK_STOP_COUNT = "1/0234172955.57602"
START_TIME = 2010-10-03T07:57:44.708Z
STOP_TIME = 2010-10-03T08:02:16.001Z
/* ORBITAL DATA ELEMENTS */
ASCENDING_NODE_LONGITUDE = 52.33
MAXIMUM_RESOLUTION = 0.0606
FOOTPRINT_POINT_LATITUDE = (-58.9719,-58.9335,-58.8869,-58.8859, -58.9303,-58.4808,-58.1816,-57.8828, -57.5849,-57.2874,-56.9907,-56.6948, -56.3993,-55.8105,-55.2254,-54.6397, -54.0571,-53.759,-53.312,-53.0147, -52.5592,-52.2557,-51.9517,-51.6408, -51.3304,-51.0212,-50.7046,-50.3884, -50.0726,-49.751,-49.43,-49.1074, -48.7783,-48.4523,-48.1207,-47.7879, -47.2844,-46.9472,-46.604,-46.263, -45.7433,-45.2175,-44.8625,-44.5054, -43.9669,-43.6049,-43.2383,-43.0547, -42.9562,-42.9678,-42.9791,-42.9888, -42.9911,-42.9911,-42.9923,-43.5475, -43.9127,-44.4525,-44.8129,-45.1683, -45.5229,-45.8713,-46.2194,-46.5621, -46.9072,-47.2458,-47.5837,-47.9157, -48.2505,-48.5836,-48.9126,-49.404, -49.7262,-50.2093,-50.5256,-50.842, -51.1567,-51.4672,-51.7792,-52.0904, -52.3954,-52.8526,-53.1555,-53.4541, -53.7531,-54.1992,-54.638,-55.225, -55.8137,-56.1085,-56.4044,-56.7008, -56.9982,-57.295,-57.7434,-58.0421, -58.3419,-58.7926,-58.9433,-58.9719)
FOOTPRINT_POINT_LONGITUDE = (66.4126,65.2067,64.039,64.0164,63.9444 ,64.0184,64.0661,64.1125,64.1569,64.2, 64.2416,64.2815,64.3203,64.3938,64.4609 ,64.5273,64.5886,64.6197,64.6637, 64.6919,64.7342,64.7608,64.7878,64.8143 ,64.8402,64.8646,64.8894,64.9134, 64.9363,64.9583,64.9798,64.9997,65.0221 ,65.0414,65.0602,65.0792,65.1056, 65.1223,65.14,65.1539,65.1757,65.1973, 65.2119,65.2248,65.2419,65.2512,65.2619 ,65.2661,65.2685,65.8332,66.471,67.3279 ,67.8646,67.889,67.897,67.8669,67.8463, 67.8135,67.7925,67.7715,67.7499,67.7275 ,67.7047,67.6816,67.6588,67.636,67.6117 ,67.587,67.5636,67.5399,67.516,67.4787, 67.4535,67.4144,67.3882,67.3613,67.3338 ,67.3065,67.2791,67.2514,67.2232, 67.1791,67.1497,67.1198,67.0891,67.0421 ,66.9946,66.929,66.8604,66.8248,66.7887 ,66.7518,66.7144,66.6756,66.6169, 66.5763,66.535,66.4713,66.4497,66.4126)
ORBIT_NUMBER = 8637
ORBITAL_ECCENTRICITY = 0.578
ORBITAL_INCLINATION = 86.84
ORBITAL_SEMIMAJOR_AXIS = 8768.08
PERIAPSIS_ALTITUDE = 319.86
PERIAPSIS_ARGUMENT_ANGLE = 286.17
PERIAPSIS_TIME = 2010-10-03T07:53:40.000Z
SPACECRAFT_ORIENTATION = (0.0,1.0,0.0)
^MEX_ORIENTATION_DESC = "MEX_ORIENTATION_DESC.TXT"
SPACECRAFT_POINTING_MODE = ACROSSTRACK
^MEX_POINTING_DESC = "MEX_POINTING_DESC.TXT"
RIGHT_ASCENSION = -1e+32
DECLINATION = -1e+32
OFFSET_ANGLE = 0.2
SPACECRAFT_SOLAR_DISTANCE = 2.27095e+08
TARGET_NAME = MARS
/* CAMERA DATA ELEMENTS */
DETECTOR_TEMPERATURE = 17.1471
FOCAL_PLANE_TEMPERATURE = 7.7677
INST_CMPRS_NAME = "DISCRETE COSINE TRANSFORMATION (DCT)"
INST_CMPRS_RATIO = 22.286
INST_CMPRS_QUALITY = 0
INST_CMPRS_QUANTZ_TBL_ID = 0
INSTRUMENT_TEMPERATURE = 10.8262
LENS_TEMPERATURE = 8.1755
MACROPIXEL_SIZE = 4
MISSING_FRAMES = 0
PIXEL_SUBSAMPLING_FLAG = N
SIGNAL_CHAIN_ID = 3
/* RADIOMETRIC DATA ELEMENTS */
BANDWIDTH = 174.0
CENTER_FILTER_WAVELENGTH = 675.0
RADIANCE_OFFSET = 3.82946
RADIANCE_SCALING_FACTOR = 0.0146116
REFLECTANCE_SCALING_FACTOR = 0.000405319
MEX:REFLECTANCE_OFFSET = 0.106227
/* IMAGE OBJECT DEFINITIONS */
OBJECT = IMAGE
  INTERCHANGE_FORMAT = BINARY
  LINES = 19099
  LINE_SAMPLES = 2822
  SAMPLE_TYPE = UNSIGNED_INTEGER
  SAMPLE_BITS = 8
  BANDS = 1
  BAND_STORAGE_TYPE = BAND_SEQUENTIAL
  MAXIMUM = 255
  MEAN = 133.128
  MINIMUM = 1
  STANDARD_DEVIATION = 44.7828
END_OBJECT = IMAGE
/* MAP OBJECT DEFINITIONS */
OBJECT = IMAGE_MAP_PROJECTION
  ^DATA_SET_MAP_PROJECTION_CATALOG= "DSMAP.CAT"
  A_AXIS_RADIUS = 3396.0
  B_AXIS_RADIUS = 3396.0
  C_AXIS_RADIUS = 3396.0
  CENTER_LATITUDE = 0.0
  CENTER_LONGITUDE = 66.0
  COORDINATE_SYSTEM_NAME = PLANETOGRAPHIC
  COORDINATE_SYSTEM_TYPE = "BODY-FIXED ROTATING"
  EASTERNMOST_LONGITUDE = 67.89700000000001
  FIRST_STANDARD_PARALLEL = "N/A"
  LINE_FIRST_PIXEL = 1
  LINE_LAST_PIXEL = 19099
  LINE_PROJECTION_OFFSET = -50894.875
  MAP_PROJECTION_ROTATION = 0.0
  MAP_PROJECTION_TYPE = SINUSOIDAL
  MAP_RESOLUTION = 1185.42760773333
  MAP_SCALE = 0.05
  MAXIMUM_LATITUDE = -42.9562
  MINIMUM_LATITUDE = -58.9719
  POSITIVE_LONGITUDE_DIRECTION = EAST
  REFERENCE_LATITUDE = "N/A"
  REFERENCE_LONGITUDE = "N/A"
  SAMPLE_FIRST_PIXEL = 1
  SAMPLE_LAST_PIXEL = 2822
  SAMPLE_PROJECTION_OFFSET = 1246.125
  SECOND_STANDARD_PARALLEL = "N/A"
  WESTERNMOST_LONGITUDE = 63.9444
END_OBJECT = IMAGE_MAP_PROJECTION
END
