PDS_VERSION_ID = PDS3
/* FILE DATA ELEMENTS */
RECORD_TYPE = UNDEFINED
/* POINTERS TO DATA OBJECTS */
^IMAGE = ("H8650_0000_P14.TIF")
/* IDENTIFICATION DATA ELEMENTS */
DATA_SET_ID = "MEX-M-HRSC-4-REFDR-MAPPROJECT-EXT3-V4.0"
DATA_SET_NAME = "MARS EXPRESS HRSC MAP PROJECTED REFDR EXTENSION3 V4.0"
DETECTOR_ID = MEX_HRSC_P1
EVENT_TYPE = "MARS-REGIONAL-MAPPING-Te-Im-Fl"
INSTRUMENT_HOST_ID = MEX
INSTRUMENT_HOST_NAME = "MARS EXPRESS"
INSTRUMENT_ID = HRSC
INSTRUMENT_NAME = "HIGH RESOLUTION STEREO CAMERA"
MISSION_NAME = "MARS EXPRESS"
MISSION_PHASE_NAME = ME_Phase_21
PROCESSING_LEVEL_ID = 4
PRODUCT_CREATION_TIME = 2023-02-03T21:13:30.000Z
PRODUCT_ID = "H8650_0000_P14.TIF"
RELEASE_ID = 0005
REVISION_ID = 0000
/* QUALITY DATA ELEMENTS */
DATA_QUALITY_ID = 1
DATA_QUALITY_DESC = "Data calculated based on original SPICE kernels"
/* TIME DATA ELEMENTS */
SPACECRAFT_CLOCK_START_COUNT = "1/0234500090.09036"
SPACECRAFT_CLOCK_STOP_COUNT = "1/0234500406.53058"
START_TIME = 2010-10-07T02:56:03.001Z
STOP_TIME = 2010-10-07T02:59:40.555Z
/* ORBITAL DATA ELEMENTS */
ASCENDING_NODE_LONGITUDE = 52.08
MAXIMUM_RESOLUTION = 0.0386
FOOTPRINT_POINT_LATITUDE = (-50.4609,-50.451,-50.4418,-50.4249, -50.4134,-50.3975,-50.3967,-50.4346, -50.1177,-49.6917,-49.1552,-48.72, -48.1726,-47.7313,-47.1729,-46.9489, -46.7204,-46.4936,-46.2663,-46.0354, -45.8057,-45.573,-45.3386,-45.1051, -44.8689,-44.5146,-44.1554,-43.9156, -43.6735,-43.431,-43.1872,-42.9412, -42.6957,-42.4465,-42.1982,-41.9469, -41.6955,-41.4425,-41.1881,-40.8028, -40.4147,-40.154,-39.8917,-39.6287, -39.3625,-38.9619,-38.6932,-38.5578, -38.5256,-38.5331,-38.539,-38.5405, -38.5446,-38.5458,-38.5459,-38.5466, -38.9529,-39.2222,-39.4895,-39.8875, -40.1516,-40.4127,-40.6737,-40.9323, -41.19,-41.4456,-41.6992,-41.9568, -42.2099,-42.4596,-42.7096,-43.076, -43.3231,-43.5673,-43.812,-44.0538, -44.2942,-44.5325,-44.7701,-45.0085, -45.244,-45.4776,-45.7125,-45.9436, -46.1754,-46.4065,-46.6344,-46.8628, -47.0903,-47.3148,-47.5398,-47.7641, -48.2064,-48.8663,-49.1945,-49.5169, -49.948,-50.3709,-50.4768,-50.4609)
FOOTPRINT_POINT_LONGITUDE = (177.854,177.317,176.901,176.241,175.85 ,175.36,175.335,175.291,175.312,175.341 ,175.374,175.399,175.428,175.45,175.475 ,175.484,175.495,175.503,175.512, 175.521,175.528,175.537,175.546,175.553 ,175.56,175.57,175.58,175.586,175.591, 175.596,175.602,175.606,175.611,175.615 ,175.619,175.622,175.625,175.628,175.63 ,175.634,175.636,175.638,175.639,175.64 ,175.64,175.64,175.64,175.639,175.639, 176.182,176.867,177.295,177.808,178.55, 178.578,178.588,178.57,178.558,178.546, 178.527,178.515,178.502,178.49,178.477, 178.465,178.452,178.438,178.428,178.415 ,178.402,178.389,178.367,178.353,178.34 ,178.327,178.313,178.299,178.284, 178.271,178.257,178.243,178.228,178.213 ,178.199,178.185,178.17,178.156,178.141 ,178.126,178.111,178.095,178.08,178.049 ,178.002,177.978,177.955,177.922, 177.889,177.88,177.854)
ORBIT_NUMBER = 8650
ORBITAL_ECCENTRICITY = 0.578
ORBITAL_INCLINATION = 86.84
ORBITAL_SEMIMAJOR_AXIS = 8765.84
PERIAPSIS_ALTITUDE = 320.81
PERIAPSIS_ARGUMENT_ANGLE = 283.96
PERIAPSIS_TIME = 2010-10-07T02:49:00.000Z
SPACECRAFT_ORIENTATION = (0.0,1.0,0.0)
^MEX_ORIENTATION_DESC = "MEX_ORIENTATION_DESC.TXT"
SPACECRAFT_POINTING_MODE = ACROSSTRACK
^MEX_POINTING_DESC = "MEX_POINTING_DESC.TXT"
RIGHT_ASCENSION = -1e+32
DECLINATION = -1e+32
OFFSET_ANGLE = 0.1
SPACECRAFT_SOLAR_DISTANCE = 2.26355e+08
TARGET_NAME = MARS
/* CAMERA DATA ELEMENTS */
DETECTOR_TEMPERATURE = 17.351
FOCAL_PLANE_TEMPERATURE = 8.1755
INST_CMPRS_NAME = "DISCRETE COSINE TRANSFORMATION (DCT)"
INST_CMPRS_RATIO = 15.5957
INST_CMPRS_QUALITY = 0
INST_CMPRS_QUANTZ_TBL_ID = 0
INSTRUMENT_TEMPERATURE = 11.234
LENS_TEMPERATURE = 8.3794
MACROPIXEL_SIZE = 2
MISSING_FRAMES = 0
PIXEL_SUBSAMPLING_FLAG = N
SIGNAL_CHAIN_ID = 3
/* RADIOMETRIC DATA ELEMENTS */
BANDWIDTH = 174.0
CENTER_FILTER_WAVELENGTH = 675.0
RADIANCE_OFFSET = 3.58917
RADIANCE_SCALING_FACTOR = 0.00763654
REFLECTANCE_SCALING_FACTOR = 0.000210456
MEX:REFLECTANCE_OFFSET = 0.0989143
/* IMAGE OBJECT DEFINITIONS */
OBJECT = IMAGE
  INTERCHANGE_FORMAT = BINARY
  LINES = 28437
  LINE_SAMPLES = 5234
  SAMPLE_TYPE = UNSIGNED_INTEGER
  SAMPLE_BITS = 8
  BANDS = 1
  BAND_STORAGE_TYPE = BAND_SEQUENTIAL
  MAXIMUM = 255
  MEAN = 124.493
  MINIMUM = 1
  STANDARD_DEVIATION = 34.5383
END_OBJECT = IMAGE
/* MAP OBJECT DEFINITIONS */
OBJECT = IMAGE_MAP_PROJECTION
  ^DATA_SET_MAP_PROJECTION_CATALOG= "DSMAP.CAT"
  A_AXIS_RADIUS = 3396.0
  B_AXIS_RADIUS = 3396.0
  C_AXIS_RADIUS = 3396.0
  CENTER_LATITUDE = 0.0
  CENTER_LONGITUDE = 177.0
  COORDINATE_SYSTEM_NAME = PLANETOGRAPHIC
  COORDINATE_SYSTEM_TYPE = "BODY-FIXED ROTATING"
  EASTERNMOST_LONGITUDE = 178.588
  FIRST_STANDARD_PARALLEL = "N/A"
  LINE_FIRST_PIXEL = 1
  LINE_LAST_PIXEL = 28437
  LINE_PROJECTION_OFFSET = -91365.75
  MAP_PROJECTION_ROTATION = 0.0
  MAP_PROJECTION_TYPE = SINUSOIDAL
  MAP_RESOLUTION = 2370.85521546667
  MAP_SCALE = 0.025
  MAXIMUM_LATITUDE = -38.5256
  MINIMUM_LATITUDE = -50.4768
  POSITIVE_LONGITUDE_DIRECTION = EAST
  REFERENCE_LATITUDE = "N/A"
  REFERENCE_LONGITUDE = "N/A"
  SAMPLE_FIRST_PIXEL = 1
  SAMPLE_LAST_PIXEL = 5234
  SAMPLE_PROJECTION_OFFSET = 2502.25
  SECOND_STANDARD_PARALLEL = "N/A"
  WESTERNMOST_LONGITUDE = 175.291
END_OBJECT = IMAGE_MAP_PROJECTION
END
