PDS_VERSION_ID = PDS3
/* FILE DATA ELEMENTS */
RECORD_TYPE = UNDEFINED
/* POINTERS TO DATA OBJECTS */
^IMAGE = ("H8659_0000_RE4.TIF")
/* IDENTIFICATION DATA ELEMENTS */
DATA_SET_ID = "MEX-M-HRSC-4-REFDR-MAPPROJECT-EXT3-V4.0"
DATA_SET_NAME = "MARS EXPRESS HRSC MAP PROJECTED REFDR EXTENSION3 V4.0"
DETECTOR_ID = MEX_HRSC_RED
EVENT_TYPE = "MARS-REGIONAL-MAPPING-Im-Fl"
INSTRUMENT_HOST_ID = MEX
INSTRUMENT_HOST_NAME = "MARS EXPRESS"
INSTRUMENT_ID = HRSC
INSTRUMENT_NAME = "HIGH RESOLUTION STEREO CAMERA"
MISSION_NAME = "MARS EXPRESS"
MISSION_PHASE_NAME = ME_Phase_21
PROCESSING_LEVEL_ID = 4
PRODUCT_CREATION_TIME = 2023-02-03T21:13:30.000Z
PRODUCT_ID = "H8659_0000_RE4.TIF"
RELEASE_ID = 0005
REVISION_ID = 0000
/* QUALITY DATA ELEMENTS */
DATA_QUALITY_ID = 1
DATA_QUALITY_DESC = "Data calculated based on original SPICE kernels"
/* TIME DATA ELEMENTS */
SPACECRAFT_CLOCK_START_COUNT = "1/0234726626.09037"
SPACECRAFT_CLOCK_STOP_COUNT = "1/0234726957.38031"
START_TIME = 2010-10-09T17:50:34.603Z
STOP_TIME = 2010-10-09T17:54:09.591Z
/* ORBITAL DATA ELEMENTS */
ASCENDING_NODE_LONGITUDE = 51.92
MAXIMUM_RESOLUTION = 0.0649
FOOTPRINT_POINT_LATITUDE = (-56.9093,-56.8947,-56.8643,-56.8319, -56.831,-56.759,-56.5097,-56.2607, -56.0118,-55.5172,-55.2668,-54.7754, -54.2788,-54.0226,-53.6368,-53.3829, -53.0025,-52.7424,-52.4825,-52.2241, -51.9614,-51.6955,-51.2962,-51.0317, -50.6249,-50.3521,-50.081,-49.8052, -49.53,-49.2526,-48.8278,-48.5396, -48.2574,-47.9718,-47.5447,-47.2573, -46.816,-46.5226,-46.0752,-45.7762, -45.473,-45.1673,-44.8578,-44.5543, -44.2421,-43.9281,-43.6091,-43.1322, -42.9711,-42.8987,-42.9121,-42.9255, -42.9339,-42.9415,-42.9415,-42.9428, -43.2666,-43.5856,-44.0626,-44.5313, -44.8439,-45.1412,-45.5985,-45.9027, -46.3625,-46.656,-46.9518,-47.2505, -47.5384,-47.8273,-48.117,-48.4025, -48.6861,-49.1118,-49.3898,-49.807, -50.0851,-50.3577,-50.6298,-50.9027, -51.1719,-51.4382,-51.8383,-52.1052, -52.3656,-52.6265,-52.887,-53.2768, -53.5322,-53.7874,-54.167,-54.544, -55.0406,-55.4145,-55.6639,-55.9148, -56.2892,-56.6663,-56.7911,-56.9093)
FOOTPRINT_POINT_LONGITUDE = (337.013,336.405,335.443,334.641, 334.618,334.587,334.617,334.646,334.675 ,334.731,334.757,334.81,334.858,334.882 ,334.915,334.938,334.972,334.993, 335.014,335.035,335.055,335.074,335.103 ,335.122,335.149,335.166,335.183, 335.199,335.216,335.232,335.253,335.266 ,335.28,335.294,335.316,335.329,335.347 ,335.359,335.376,335.387,335.396, 335.406,335.414,335.425,335.433,335.44, 335.447,335.457,335.46,335.461,335.932, 336.546,337.018,337.967,337.99,337.998, 337.985,337.971,337.95,337.929,337.914, 337.905,337.885,337.869,337.841,337.828 ,337.812,337.794,337.78,337.765,337.748 ,337.732,337.715,337.69,337.673,337.647 ,337.629,337.61,337.593,337.574,337.556 ,337.537,337.508,337.488,337.469, 337.448,337.428,337.397,337.376,337.354 ,337.324,337.291,337.248,337.213, 337.189,337.163,337.126,337.086,337.073 ,337.013)
ORBIT_NUMBER = 8659
ORBITAL_ECCENTRICITY = 0.578
ORBITAL_INCLINATION = 86.84
ORBITAL_SEMIMAJOR_AXIS = 8763.13
PERIAPSIS_ALTITUDE = 320.33
PERIAPSIS_ARGUMENT_ANGLE = 282.43
PERIAPSIS_TIME = 2010-10-09T17:45:48.000Z
SPACECRAFT_ORIENTATION = (0.0,1.0,0.0)
^MEX_ORIENTATION_DESC = "MEX_ORIENTATION_DESC.TXT"
SPACECRAFT_POINTING_MODE = ACROSSTRACK
^MEX_POINTING_DESC = "MEX_POINTING_DESC.TXT"
RIGHT_ASCENSION = -1e+32
DECLINATION = -1e+32
OFFSET_ANGLE = -0.12
SPACECRAFT_SOLAR_DISTANCE = 2.25843e+08
TARGET_NAME = MARS
/* CAMERA DATA ELEMENTS */
DETECTOR_TEMPERATURE = 18.7783
FOCAL_PLANE_TEMPERATURE = 8.7872
INST_CMPRS_NAME = "DISCRETE COSINE TRANSFORMATION (DCT)"
INST_CMPRS_RATIO = 16.2228
INST_CMPRS_QUALITY = 0
INST_CMPRS_QUANTZ_TBL_ID = 0
INSTRUMENT_TEMPERATURE = 11.4379
LENS_TEMPERATURE = 10.4184
MACROPIXEL_SIZE = 4
MISSING_FRAMES = 0
PIXEL_SUBSAMPLING_FLAG = N
SIGNAL_CHAIN_ID = 2
/* RADIOMETRIC DATA ELEMENTS */
BANDWIDTH = 48.0
CENTER_FILTER_WAVELENGTH = 748.0
RADIANCE_OFFSET = 0.956293
RADIANCE_SCALING_FACTOR = 0.00390018
REFLECTANCE_SCALING_FACTOR = 0.000453962
MEX:REFLECTANCE_OFFSET = 0.111308
/* IMAGE OBJECT DEFINITIONS */
OBJECT = IMAGE
  INTERCHANGE_FORMAT = BINARY
  LINES = 16520
  LINE_SAMPLES = 2754
  SAMPLE_TYPE = UNSIGNED_INTEGER
  SAMPLE_BITS = 8
  BANDS = 1
  BAND_STORAGE_TYPE = BAND_SEQUENTIAL
  MAXIMUM = 255
  MEAN = 131.467
  MINIMUM = 1
  STANDARD_DEVIATION = 34.7914
END_OBJECT = IMAGE
/* MAP OBJECT DEFINITIONS */
OBJECT = IMAGE_MAP_PROJECTION
  ^DATA_SET_MAP_PROJECTION_CATALOG= "DSMAP.CAT"
  A_AXIS_RADIUS = 3396.0
  B_AXIS_RADIUS = 3396.0
  C_AXIS_RADIUS = 3396.0
  CENTER_LATITUDE = 0.0
  CENTER_LONGITUDE = 336.0
  COORDINATE_SYSTEM_NAME = PLANETOGRAPHIC
  COORDINATE_SYSTEM_TYPE = "BODY-FIXED ROTATING"
  EASTERNMOST_LONGITUDE = 337.998
  FIRST_STANDARD_PARALLEL = "N/A"
  LINE_FIRST_PIXEL = 1
  LINE_LAST_PIXEL = 16520
  LINE_PROJECTION_OFFSET = -50852.125
  MAP_PROJECTION_ROTATION = 0.0
  MAP_PROJECTION_TYPE = SINUSOIDAL
  MAP_RESOLUTION = 1185.42760773333
  MAP_SCALE = 0.05
  MAXIMUM_LATITUDE = -42.8987
  MINIMUM_LATITUDE = -56.9093
  POSITIVE_LONGITUDE_DIRECTION = EAST
  REFERENCE_LATITUDE = "N/A"
  REFERENCE_LONGITUDE = "N/A"
  SAMPLE_FIRST_PIXEL = 1
  SAMPLE_LAST_PIXEL = 2754
  SAMPLE_PROJECTION_OFFSET = 953.625
  SECOND_STANDARD_PARALLEL = "N/A"
  WESTERNMOST_LONGITUDE = 334.587
END_OBJECT = IMAGE_MAP_PROJECTION
END
