PDS_VERSION_ID = PDS3
/* FILE DATA ELEMENTS */
RECORD_TYPE = UNDEFINED
/* POINTERS TO DATA OBJECTS */
^IMAGE = ("H8870_0000_S24.TIF")
/* IDENTIFICATION DATA ELEMENTS */
DATA_SET_ID = "MEX-M-HRSC-4-REFDR-MAPPROJECT-EXT3-V4.0"
DATA_SET_NAME = "MARS EXPRESS HRSC MAP PROJECTED REFDR EXTENSION3 V4.0"
DETECTOR_ID = MEX_HRSC_S2
EVENT_TYPE = "MARS-LOCAL-STEREO-Gl-Pf-La"
INSTRUMENT_HOST_ID = MEX
INSTRUMENT_HOST_NAME = "MARS EXPRESS"
INSTRUMENT_ID = HRSC
INSTRUMENT_NAME = "HIGH RESOLUTION STEREO CAMERA"
MISSION_NAME = "MARS EXPRESS"
MISSION_PHASE_NAME = ME_Phase_22
PROCESSING_LEVEL_ID = 4
PRODUCT_CREATION_TIME = 2023-02-03T21:13:30.000Z
PRODUCT_ID = "H8870_0000_S24.TIF"
RELEASE_ID = 0005
REVISION_ID = 0000
/* QUALITY DATA ELEMENTS */
DATA_QUALITY_ID = 1
DATA_QUALITY_DESC = "Data calculated based on original SPICE kernels"
/* TIME DATA ELEMENTS */
SPACECRAFT_CLOCK_START_COUNT = "1/0240039580.08257"
SPACECRAFT_CLOCK_STOP_COUNT = "1/0240039815.32352"
START_TIME = 2010-12-10T05:42:05.954Z
STOP_TIME = 2010-12-10T05:43:36.201Z
/* ORBITAL DATA ELEMENTS */
ASCENDING_NODE_LONGITUDE = 47.93
MAXIMUM_RESOLUTION = 0.0317
FOOTPRINT_POINT_LATITUDE = (-73.6266,-73.6666,-73.6997,-73.721, -73.7572,-73.7917,-73.8108,-73.8293, -73.8473,-73.8648,-73.8817,-73.8982, -73.9295,-73.9444,-73.9588,-73.9726, -73.9859,-73.9986,-74.0109,-74.0254, -74.0365,-74.0469,-74.0495,-74.1639, -73.9983,-73.8301,-73.6638,-73.4983, -73.3744,-73.211,-73.089,-72.8451, -72.6811,-72.5178,-72.3552,-72.2334, -72.0712,-71.9473,-71.7851,-71.6242, -71.4637,-71.3036,-71.144,-70.9846, -70.8258,-70.6694,-70.4709,-70.3504, -70.1533,-70.1142,-70.1044,-70.0931, -70.0854,-70.0737,-70.063,-70.0468, -70.0365,-70.0246,-70.0123,-69.9898, -69.9767,-69.9626,-69.9481,-69.933, -69.9133,-69.8923,-69.8713,-69.8523, -69.8319,-69.8009,-69.7856,-69.765, -69.7598,-69.7575,-69.9859,-70.1396, -70.2945,-70.4098,-70.564,-70.7582, -70.9131,-71.0709,-71.2676,-71.4652, -71.584,-71.703,-71.8618,-72.021, -72.1408,-72.3007,-72.5012,-72.7423, -72.9032,-73.0238,-73.1921,-73.3543, -73.5118,-73.6747,-73.7154,-73.6266)
FOOTPRINT_POINT_LONGITUDE = (343.697,344.311,344.839,345.192, 345.812,346.434,346.79,347.147,347.505, 347.863,348.222,348.582,349.302,349.664 ,350.026,350.389,350.752,351.117, 351.482,351.94,352.306,352.674,352.766, 352.893,352.981,353.065,353.148,353.229 ,353.289,353.368,353.427,353.541, 353.613,353.684,353.754,353.805,353.872 ,353.92,353.984,354.047,354.11,354.171, 354.23,354.289,354.346,354.404,354.473, 354.512,354.578,354.591,354.594,354.073 ,353.726,353.292,352.86,352.341,351.996 ,351.652,351.308,350.708,350.365, 350.023,349.68,349.339,348.912,348.486, 348.06,347.722,347.295,346.699,346.354, 346.016,345.932,345.89,345.786,345.713, 345.637,345.581,345.505,345.405,345.325 ,345.239,345.129,345.017,344.948, 344.878,344.782,344.684,344.609,344.508 ,344.376,344.214,344.103,344.019, 343.889,343.77,343.657,343.532,343.5, 343.697)
ORBIT_NUMBER = 8870
ORBITAL_ECCENTRICITY = 0.578
ORBITAL_INCLINATION = 86.84
ORBITAL_SEMIMAJOR_AXIS = 8774.09
PERIAPSIS_ALTITUDE = 322.35
PERIAPSIS_ARGUMENT_ANGLE = 246.68
PERIAPSIS_TIME = 2010-12-10T05:30:18.000Z
SPACECRAFT_ORIENTATION = (0.0,-1.0,0.0)
^MEX_ORIENTATION_DESC = "MEX_ORIENTATION_DESC.TXT"
SPACECRAFT_POINTING_MODE = NADIR
^MEX_POINTING_DESC = "MEX_POINTING_DESC.TXT"
RIGHT_ASCENSION = -1e+32
DECLINATION = -1e+32
OFFSET_ANGLE = -1e+32
SPACECRAFT_SOLAR_DISTANCE = 2.14535e+08
TARGET_NAME = MARS
/* CAMERA DATA ELEMENTS */
DETECTOR_TEMPERATURE = 18.3705
FOCAL_PLANE_TEMPERATURE = 7.9716
INST_CMPRS_NAME = "DISCRETE COSINE TRANSFORMATION (DCT)"
INST_CMPRS_RATIO = 8.12194
INST_CMPRS_QUALITY = 0
INST_CMPRS_QUANTZ_TBL_ID = 0
INSTRUMENT_TEMPERATURE = 10.8262
LENS_TEMPERATURE = 8.3794
MACROPIXEL_SIZE = 1
MISSING_FRAMES = 0
PIXEL_SUBSAMPLING_FLAG = N
SIGNAL_CHAIN_ID = 1
/* RADIOMETRIC DATA ELEMENTS */
BANDWIDTH = 178.0
CENTER_FILTER_WAVELENGTH = 679.0
RADIANCE_OFFSET = 5.3273
RADIANCE_SCALING_FACTOR = 0.0422006
REFLECTANCE_SCALING_FACTOR = 0.00102858
MEX:REFLECTANCE_OFFSET = 0.129845
/* IMAGE OBJECT DEFINITIONS */
OBJECT = IMAGE
  INTERCHANGE_FORMAT = BINARY
  LINES = 10440
  LINE_SAMPLES = 7230
  SAMPLE_TYPE = UNSIGNED_INTEGER
  SAMPLE_BITS = 8
  BANDS = 1
  BAND_STORAGE_TYPE = BAND_SEQUENTIAL
  MAXIMUM = 255
  MEAN = 88.9478
  MINIMUM = 1
  STANDARD_DEVIATION = 21.7562
END_OBJECT = IMAGE
/* MAP OBJECT DEFINITIONS */
OBJECT = IMAGE_MAP_PROJECTION
  ^DATA_SET_MAP_PROJECTION_CATALOG= "DSMAP.CAT"
  A_AXIS_RADIUS = 3396.0
  B_AXIS_RADIUS = 3396.0
  C_AXIS_RADIUS = 3396.0
  CENTER_LATITUDE = 0.0
  CENTER_LONGITUDE = 349.0
  COORDINATE_SYSTEM_NAME = PLANETOGRAPHIC
  COORDINATE_SYSTEM_TYPE = "BODY-FIXED ROTATING"
  EASTERNMOST_LONGITUDE = 354.594
  FIRST_STANDARD_PARALLEL = "N/A"
  LINE_FIRST_PIXEL = 1
  LINE_LAST_PIXEL = 10440
  LINE_PROJECTION_OFFSET = -165405.0
  MAP_PROJECTION_ROTATION = 0.0
  MAP_PROJECTION_TYPE = SINUSOIDAL
  MAP_RESOLUTION = 2370.85521546667
  MAP_SCALE = 0.025
  MAXIMUM_LATITUDE = -69.75749999999999
  MINIMUM_LATITUDE = -74.1639
  POSITIVE_LONGITUDE_DIRECTION = EAST
  REFERENCE_LATITUDE = "N/A"
  REFERENCE_LONGITUDE = "N/A"
  SAMPLE_FIRST_PIXEL = 1
  SAMPLE_LAST_PIXEL = 7230
  SAMPLE_PROJECTION_OFFSET = 3334.0
  SECOND_STANDARD_PARALLEL = "N/A"
  WESTERNMOST_LONGITUDE = 343.5
END_OBJECT = IMAGE_MAP_PROJECTION
END
