PDS_VERSION_ID = PDS3
/* FILE DATA ELEMENTS */
RECORD_TYPE = UNDEFINED
/* POINTERS TO DATA OBJECTS */
^IMAGE = ("H9331_0000_S24.TIF")
/* IDENTIFICATION DATA ELEMENTS */
DATA_SET_ID = "MEX-M-HRSC-4-REFDR-MAPPROJECT-EXT3-V4.0"
DATA_SET_NAME = "MARS EXPRESS HRSC MAP PROJECTED REFDR EXTENSION3 V4.0"
DETECTOR_ID = MEX_HRSC_S2
EVENT_TYPE = "MARS-REGIONAL-MAPPING-Vo-Fl-Eo"
INSTRUMENT_HOST_ID = MEX
INSTRUMENT_HOST_NAME = "MARS EXPRESS"
INSTRUMENT_ID = HRSC
INSTRUMENT_NAME = "HIGH RESOLUTION STEREO CAMERA"
MISSION_NAME = "MARS EXPRESS"
MISSION_PHASE_NAME = ME_Phase_23
PROCESSING_LEVEL_ID = 4
PRODUCT_CREATION_TIME = 2023-02-04T05:05:37.000Z
PRODUCT_ID = "H9331_0000_S24.TIF"
RELEASE_ID = 0006
REVISION_ID = 0000
/* QUALITY DATA ELEMENTS */
DATA_QUALITY_ID = 1
DATA_QUALITY_DESC = "Data calculated based on original SPICE kernels"
/* TIME DATA ELEMENTS */
SPACECRAFT_CLOCK_START_COUNT = "1/0251647146.09059"
SPACECRAFT_CLOCK_STOP_COUNT = "1/0251647483.29055"
START_TIME = 2011-04-23T14:00:37.797Z
STOP_TIME = 2011-04-23T14:04:44.427Z
/* ORBITAL DATA ELEMENTS */
ASCENDING_NODE_LONGITUDE = 39.1
MAXIMUM_RESOLUTION = 0.0419
FOOTPRINT_POINT_LATITUDE = (-10.3626,-10.3782,-10.3885,-10.398, -10.4065,-10.4143,-10.4213,-10.4217, -10.4135,-10.759,-11.2098,-11.6725, -12.2704,-12.7383,-13.2143,-13.4561, -13.9388,-14.3053,-14.5496,-14.7962, -15.0471,-15.295,-15.5456,-15.7972, -16.0518,-16.4321,-16.6887,-16.9444, -17.2032,-17.4626,-17.7249,-17.9858, -18.3815,-18.646,-18.9151,-19.1845, -19.4483,-19.8624,-20.1338,-20.4097, -20.8259,-21.1045,-21.3846,-21.6666, -21.9505,-22.2368,-22.6641,-23.1041, -23.2488,-23.3031,-23.2962,-23.2846, -23.2756,-23.2594,-23.2392,-23.2208, -23.2195,-23.2184,-22.9213,-22.643, -22.3542,-22.07,-21.7872,-21.4979, -21.2188,-20.8006,-20.5186,-20.2467, -19.9717,-19.6994,-19.4267,-19.1589, -18.7574,-18.489,-18.225,-17.9639, -17.7016,-17.3101,-17.0512,-16.7933, -16.5381,-16.1575,-15.9032,-15.6509, -15.4012,-15.1485,-14.9015,-14.6547, -14.4073,-14.0405,-13.797,-13.3157, -12.7204,-12.2454,-11.894,-11.3123, -10.8521,-10.5081,-10.3941,-10.3626)
FOOTPRINT_POINT_LONGITUDE = (191.42,191.035,190.757,190.482,190.209 ,189.938,189.668,189.651,189.646, 189.635,189.62,189.605,189.586,189.57, 189.553,189.545,189.528,189.514,189.506 ,189.496,189.487,189.478,189.468, 189.459,189.449,189.434,189.424,189.414 ,189.404,189.393,189.382,189.371, 189.355,189.343,189.332,189.32,189.308, 189.29,189.278,189.265,189.246,189.233, 189.22,189.206,189.192,189.178,189.157, 189.135,189.128,189.125,189.538,190.085 ,190.451,190.951,191.429,191.804, 191.831,191.841,191.83,191.81,191.796, 191.782,191.769,191.759,191.746,191.728 ,191.718,191.705,191.694,191.683, 191.674,191.662,191.647,191.638,191.629 ,191.618,191.61,191.597,191.589,191.581 ,191.573,191.561,191.554,191.547, 191.539,191.533,191.527,191.52,191.514, 191.505,191.499,191.487,191.473,191.464 ,191.456,191.445,191.435,191.43,191.427 ,191.42)
ORBIT_NUMBER = 9331
ORBITAL_ECCENTRICITY = 0.577
ORBITAL_INCLINATION = 86.85
ORBITAL_SEMIMAJOR_AXIS = 8848.77
PERIAPSIS_ALTITUDE = 346.3
PERIAPSIS_ARGUMENT_ANGLE = 167.39
PERIAPSIS_TIME = 2011-04-23T13:53:49.000Z
SPACECRAFT_ORIENTATION = (0.0,-1.0,0.0)
^MEX_ORIENTATION_DESC = "MEX_ORIENTATION_DESC.TXT"
SPACECRAFT_POINTING_MODE = ACROSSTRACK
^MEX_POINTING_DESC = "MEX_POINTING_DESC.TXT"
RIGHT_ASCENSION = -1e+32
DECLINATION = -1e+32
OFFSET_ANGLE = 0.8
SPACECRAFT_SOLAR_DISTANCE = 2.08793e+08
TARGET_NAME = MARS
/* CAMERA DATA ELEMENTS */
DETECTOR_TEMPERATURE = 18.7783
FOCAL_PLANE_TEMPERATURE = 8.7872
INST_CMPRS_NAME = "DISCRETE COSINE TRANSFORMATION (DCT)"
INST_CMPRS_RATIO = 8.03306
INST_CMPRS_QUALITY = 0
INST_CMPRS_QUANTZ_TBL_ID = 0
INSTRUMENT_TEMPERATURE = 11.4379
LENS_TEMPERATURE = 9.6028
MACROPIXEL_SIZE = 2
MISSING_FRAMES = 0
PIXEL_SUBSAMPLING_FLAG = N
SIGNAL_CHAIN_ID = 1
/* RADIOMETRIC DATA ELEMENTS */
BANDWIDTH = 178.0
CENTER_FILTER_WAVELENGTH = 679.0
RADIANCE_OFFSET = 2.66375
RADIANCE_SCALING_FACTOR = 0.0167137
REFLECTANCE_SCALING_FACTOR = 0.000385866
MEX:REFLECTANCE_OFFSET = 0.0614973
/* IMAGE OBJECT DEFINITIONS */
OBJECT = IMAGE
  INTERCHANGE_FORMAT = BINARY
  LINES = 30518
  LINE_SAMPLES = 5241
  SAMPLE_TYPE = UNSIGNED_INTEGER
  SAMPLE_BITS = 8
  BANDS = 1
  BAND_STORAGE_TYPE = BAND_SEQUENTIAL
  MAXIMUM = 255
  MEAN = 108.876
  MINIMUM = 1
  STANDARD_DEVIATION = 24.6862
END_OBJECT = IMAGE
/* MAP OBJECT DEFINITIONS */
OBJECT = IMAGE_MAP_PROJECTION
  ^DATA_SET_MAP_PROJECTION_CATALOG= "DSMAP.CAT"
  A_AXIS_RADIUS = 3396.0
  B_AXIS_RADIUS = 3396.0
  C_AXIS_RADIUS = 3396.0
  CENTER_LATITUDE = 0.0
  CENTER_LONGITUDE = 190.0
  COORDINATE_SYSTEM_NAME = PLANETOGRAPHIC
  COORDINATE_SYSTEM_TYPE = "BODY-FIXED ROTATING"
  EASTERNMOST_LONGITUDE = 191.841
  FIRST_STANDARD_PARALLEL = "N/A"
  LINE_FIRST_PIXEL = 1
  LINE_LAST_PIXEL = 30518
  LINE_PROJECTION_OFFSET = -24634.25
  MAP_PROJECTION_ROTATION = 0.0
  MAP_PROJECTION_TYPE = SINUSOIDAL
  MAP_RESOLUTION = 2370.85521546667
  MAP_SCALE = 0.025
  MAXIMUM_LATITUDE = -10.3626
  MINIMUM_LATITUDE = -23.3031
  POSITIVE_LONGITUDE_DIRECTION = EAST
  REFERENCE_LATITUDE = "N/A"
  REFERENCE_LONGITUDE = "N/A"
  SAMPLE_FIRST_PIXEL = 1
  SAMPLE_LAST_PIXEL = 5241
  SAMPLE_PROJECTION_OFFSET = 1577.25
  SECOND_STANDARD_PARALLEL = "N/A"
  WESTERNMOST_LONGITUDE = 189.125
END_OBJECT = IMAGE_MAP_PROJECTION
END
