PDS_VERSION_ID = PDS3
/* FILE DATA ELEMENTS */
RECORD_TYPE = UNDEFINED
/* POINTERS TO DATA OBJECTS */
^IMAGE = ("H9453_0000_IR4.TIF")
/* IDENTIFICATION DATA ELEMENTS */
DATA_SET_ID = "MEX-M-HRSC-4-REFDR-MAPPROJECT-EXT3-V4.0"
DATA_SET_NAME = "MARS EXPRESS HRSC MAP PROJECTED REFDR EXTENSION3 V4.0"
DETECTOR_ID = MEX_HRSC_IR
EVENT_TYPE = "MARS-REGIONAL-MAPPING-Im-Fl"
INSTRUMENT_HOST_ID = MEX
INSTRUMENT_HOST_NAME = "MARS EXPRESS"
INSTRUMENT_ID = HRSC
INSTRUMENT_NAME = "HIGH RESOLUTION STEREO CAMERA"
MISSION_NAME = "MARS EXPRESS"
MISSION_PHASE_NAME = ME_Phase_23
PROCESSING_LEVEL_ID = 4
PRODUCT_CREATION_TIME = 2023-02-04T05:05:37.000Z
PRODUCT_ID = "H9453_0000_IR4.TIF"
RELEASE_ID = 0006
REVISION_ID = 0000
/* QUALITY DATA ELEMENTS */
DATA_QUALITY_ID = 1
DATA_QUALITY_DESC = "Data calculated based on original SPICE kernels"
/* TIME DATA ELEMENTS */
SPACECRAFT_CLOCK_START_COUNT = "1/0254718844.08257"
SPACECRAFT_CLOCK_STOP_COUNT = "1/0254718984.29769"
START_TIME = 2011-05-29T03:14:13.494Z
STOP_TIME = 2011-05-29T03:15:05.268Z
/* ORBITAL DATA ELEMENTS */
ASCENDING_NODE_LONGITUDE = 36.76
MAXIMUM_RESOLUTION = 0.1388
FOOTPRINT_POINT_LATITUDE = (15.4355,15.437,15.4381,15.4389,15.4398 ,15.4408,15.4414,15.4419,15.4422, 15.4425,15.4427,15.4427,15.4426,15.4425 ,15.4425,15.417,15.2911,15.1337,15.0392 ,14.9131,14.8187,14.6613,14.5668, 14.4725,14.3781,14.2209,14.1268,14.0014 ,13.8732,13.7128,13.552,13.4555,13.3586 ,13.2608,13.1637,13.0668,13.0023, 12.9378,12.8093,12.7134,12.5875,12.5214 ,12.4551,12.3552,12.2903,12.1926, 12.1271,12.0941,12.0813,12.081,12.0804, 12.08,12.0797,12.0788,12.078,12.0774, 12.0764,12.0751,12.0744,12.0734,12.0733 ,12.0723,12.0697,12.0685,12.0683, 12.0704,12.1364,12.2008,12.3592,12.4565 ,12.5222,12.5883,12.6861,12.7515, 12.8186,12.9187,13.0153,13.1116,13.2077 ,13.3682,13.4649,13.5615,13.626,13.6904 ,13.8515,13.9802,14.106,14.2006,14.3581 ,14.4525,14.547,14.7045,14.799,14.8935, 14.9881,15.0827,15.2088,15.3667,15.3982 ,15.4355)
FOOTPRINT_POINT_LONGITUDE = (311.743,311.604,311.493,311.396, 311.285,311.132,311.021,310.911,310.813 ,310.703,310.592,310.481,310.356, 310.286,310.272,310.257,310.255,310.252 ,310.251,310.249,310.248,310.245, 310.244,310.242,310.241,310.238,310.237 ,310.235,310.232,310.23,310.227,310.226 ,310.224,310.222,310.22,310.218,310.217 ,310.215,310.213,310.212,310.21,310.209 ,310.208,310.206,310.205,310.203, 310.202,310.201,310.201,310.272,310.345 ,310.432,310.505,310.637,310.724, 310.812,310.929,311.031,311.133,311.265 ,311.396,311.513,311.645,311.732, 311.747,311.757,311.756,311.757,311.759 ,311.759,311.759,311.759,311.759, 311.758,311.757,311.756,311.756,311.756 ,311.756,311.756,311.755,311.755, 311.755,311.755,311.755,311.755,311.755 ,311.754,311.754,311.754,311.754, 311.753,311.753,311.753,311.753,311.753 ,311.752,311.752,311.752,311.743)
ORBIT_NUMBER = 9453
ORBITAL_ECCENTRICITY = 0.575
ORBITAL_INCLINATION = 86.87
ORBITAL_SEMIMAJOR_AXIS = 8825.32
PERIAPSIS_ALTITUDE = 360.36
PERIAPSIS_ARGUMENT_ANGLE = 146.27
PERIAPSIS_TIME = 2011-05-29T03:09:59.000Z
SPACECRAFT_ORIENTATION = (0.0,-1.0,0.0)
^MEX_ORIENTATION_DESC = "MEX_ORIENTATION_DESC.TXT"
SPACECRAFT_POINTING_MODE = NADIR
^MEX_POINTING_DESC = "MEX_POINTING_DESC.TXT"
RIGHT_ASCENSION = -1e+32
DECLINATION = -1e+32
OFFSET_ANGLE = -1e+32
SPACECRAFT_SOLAR_DISTANCE = 2.13172e+08
TARGET_NAME = MARS
/* CAMERA DATA ELEMENTS */
DETECTOR_TEMPERATURE = 17.7588
FOCAL_PLANE_TEMPERATURE = 8.9911
INST_CMPRS_NAME = "DISCRETE COSINE TRANSFORMATION (DCT)"
INST_CMPRS_RATIO = 9.67865
INST_CMPRS_QUALITY = 0
INST_CMPRS_QUANTZ_TBL_ID = 0
INSTRUMENT_TEMPERATURE = 11.4379
LENS_TEMPERATURE = 9.195
MACROPIXEL_SIZE = 8
MISSING_FRAMES = 0
PIXEL_SUBSAMPLING_FLAG = N
SIGNAL_CHAIN_ID = 2
/* RADIOMETRIC DATA ELEMENTS */
BANDWIDTH = 81.0
CENTER_FILTER_WAVELENGTH = 955.5
RADIANCE_OFFSET = 0.877918
RADIANCE_SCALING_FACTOR = 0.00530084
REFLECTANCE_SCALING_FACTOR = 0.00051968
MEX:REFLECTANCE_OFFSET = 0.0860687
/* IMAGE OBJECT DEFINITIONS */
OBJECT = IMAGE
  INTERCHANGE_FORMAT = BINARY
  LINES = 1980
  LINE_SAMPLES = 947
  SAMPLE_TYPE = UNSIGNED_INTEGER
  SAMPLE_BITS = 8
  BANDS = 1
  BAND_STORAGE_TYPE = BAND_SEQUENTIAL
  MAXIMUM = 255
  MEAN = 137.039
  MINIMUM = 3
  STANDARD_DEVIATION = 18.3531
END_OBJECT = IMAGE
/* MAP OBJECT DEFINITIONS */
OBJECT = IMAGE_MAP_PROJECTION
  ^DATA_SET_MAP_PROJECTION_CATALOG= "DSMAP.CAT"
  A_AXIS_RADIUS = 3396.0
  B_AXIS_RADIUS = 3396.0
  C_AXIS_RADIUS = 3396.0
  CENTER_LATITUDE = 0.0
  CENTER_LONGITUDE = 311.0
  COORDINATE_SYSTEM_NAME = PLANETOGRAPHIC
  COORDINATE_SYSTEM_TYPE = "BODY-FIXED ROTATING"
  EASTERNMOST_LONGITUDE = 311.759
  FIRST_STANDARD_PARALLEL = "N/A"
  LINE_FIRST_PIXEL = 1
  LINE_LAST_PIXEL = 1980
  LINE_PROJECTION_OFFSET = 9151.8125
  MAP_PROJECTION_ROTATION = 0.0
  MAP_PROJECTION_TYPE = SINUSOIDAL
  MAP_RESOLUTION = 592.713803866667
  MAP_SCALE = 0.1
  MAXIMUM_LATITUDE = 15.4427
  MINIMUM_LATITUDE = 12.0683
  POSITIVE_LONGITUDE_DIRECTION = EAST
  REFERENCE_LATITUDE = "N/A"
  REFERENCE_LONGITUDE = "N/A"
  SAMPLE_FIRST_PIXEL = 1
  SAMPLE_LAST_PIXEL = 947
  SAMPLE_PROJECTION_OFFSET = 489.9375
  SECOND_STANDARD_PARALLEL = "N/A"
  WESTERNMOST_LONGITUDE = 310.201
END_OBJECT = IMAGE_MAP_PROJECTION
END
