PDS_VERSION_ID = PDS3
/* FILE DATA ELEMENTS */
RECORD_TYPE = UNDEFINED
/* POINTERS TO DATA OBJECTS */
^IMAGE = ("H9456_0000_ND4.TIF")
/* IDENTIFICATION DATA ELEMENTS */
DATA_SET_ID = "MEX-M-HRSC-4-REFDR-MAPPROJECT-EXT3-V4.0"
DATA_SET_NAME = "MARS EXPRESS HRSC MAP PROJECTED REFDR EXTENSION3 V4.0"
DETECTOR_ID = MEX_HRSC_NADIR
EVENT_TYPE = "MARS-REGIONAL-MAPPING-Im-Fl-La"
INSTRUMENT_HOST_ID = MEX
INSTRUMENT_HOST_NAME = "MARS EXPRESS"
INSTRUMENT_ID = HRSC
INSTRUMENT_NAME = "HIGH RESOLUTION STEREO CAMERA"
MISSION_NAME = "MARS EXPRESS"
MISSION_PHASE_NAME = ME_Phase_23
PROCESSING_LEVEL_ID = 4
PRODUCT_CREATION_TIME = 2023-02-04T05:05:37.000Z
PRODUCT_ID = "H9456_0000_ND4.TIF"
RELEASE_ID = 0006
REVISION_ID = 0000
/* QUALITY DATA ELEMENTS */
DATA_QUALITY_ID = 1
DATA_QUALITY_DESC = "Data calculated based on original SPICE kernels"
/* TIME DATA ELEMENTS */
SPACECRAFT_CLOCK_START_COUNT = "1/0254794214.09059"
SPACECRAFT_CLOCK_STOP_COUNT = "1/0254794410.18178"
START_TIME = 2011-05-30T00:10:50.482Z
STOP_TIME = 2011-05-30T00:12:51.472Z
/* ORBITAL DATA ELEMENTS */
ASCENDING_NODE_LONGITUDE = 36.7
MAXIMUM_RESOLUTION = 0.0149
FOOTPRINT_POINT_LATITUDE = (26.4754,26.4743,26.4729,26.4711, 26.4689,26.4663,26.4625,26.4623,26.4622 ,26.23,26.0753,25.9206,25.7659,25.6113, 25.4567,25.3022,25.1477,24.9933,24.8389 ,24.6845,24.5302,24.376,24.2218,24.0677 ,23.9136,23.7596,23.6056,23.4517, 23.2978,23.1441,22.9903,22.8366,22.683, 22.5294,22.3759,22.2224,22.069,21.9157, 21.7625,21.6093,21.3031,20.9972,20.6916 ,20.3862,20.0812,19.7764,19.4719, 19.1678,18.8639,18.788,18.7746,18.7757, 18.7764,18.7765,18.7763,18.7753,18.7753 ,18.7755,19.0798,19.3844,19.6893, 19.9944,20.2999,20.6057,20.9117,21.065, 21.2182,21.448,21.6013,21.7548,21.9083, 22.0618,22.2155,22.3692,22.5229,22.6767 ,22.9076,23.0616,23.2156,23.3697,23.601 ,23.7551,23.9094,24.0637,24.2181, 24.3726,24.5271,24.6816,24.8362,24.9909 ,25.1456,25.3777,25.5325,25.6874, 25.8423,25.9973,26.1523,26.3848,26.4624 ,26.4754)
FOOTPRINT_POINT_LONGITUDE = (4.11159,3.88724,3.66115,3.43303, 3.20321,2.97135,2.6782,2.66347,2.62821, 2.63058,2.63248,2.63435,2.6362,2.638, 2.63994,2.64147,2.64292,2.6446,2.64631, 2.64779,2.6497,2.65102,2.65248,2.65432, 2.65669,2.65641,2.658,2.65921,2.65723, 2.6563,2.65837,2.65828,2.66026,2.66256, 2.66367,2.66399,2.66434,2.66439,2.66459 ,2.66467,2.66511,2.66513,2.66456, 2.66366,2.66335,2.66268,2.66193,2.66048 ,2.65868,2.6581,2.65802,2.9508,3.2711, 3.48274,3.79785,4.16825,4.18299,4.1902, 4.18752,4.18479,4.18203,4.17924,4.17641 ,4.17354,4.17065,4.16917,4.16769, 4.16548,4.16399,4.16248,4.16096,4.15944 ,4.1579,4.15635,4.15479,4.15321,4.15081 ,4.14922,4.14761,4.14599,4.1435,4.14187 ,4.14021,4.13854,4.13684,4.13513, 4.13341,4.13168,4.12995,4.12821,4.12643 ,4.12373,4.12194,4.12009,4.11825, 4.11639,4.11452,4.1117,4.11076,4.11159)
ORBIT_NUMBER = 9456
ORBITAL_ECCENTRICITY = 0.575
ORBITAL_INCLINATION = 86.86
ORBITAL_SEMIMAJOR_AXIS = 8826.35
PERIAPSIS_ALTITUDE = 360.83
PERIAPSIS_ARGUMENT_ANGLE = 145.72
PERIAPSIS_TIME = 2011-05-30T00:08:50.000Z
SPACECRAFT_ORIENTATION = (0.0,-1.0,0.0)
^MEX_ORIENTATION_DESC = "MEX_ORIENTATION_DESC.TXT"
SPACECRAFT_POINTING_MODE = ACROSSTRACK
^MEX_POINTING_DESC = "MEX_POINTING_DESC.TXT"
RIGHT_ASCENSION = -1e+32
DECLINATION = -1e+32
OFFSET_ANGLE = -0.687
SPACECRAFT_SOLAR_DISTANCE = 2.13304e+08
TARGET_NAME = MARS
/* CAMERA DATA ELEMENTS */
DETECTOR_TEMPERATURE = 18.3705
FOCAL_PLANE_TEMPERATURE = 8.7872
INST_CMPRS_NAME = "DISCRETE COSINE TRANSFORMATION (DCT)"
INST_CMPRS_RATIO = 8.13144
INST_CMPRS_QUALITY = 0
INST_CMPRS_QUANTZ_TBL_ID = 0
INSTRUMENT_TEMPERATURE = 11.234
LENS_TEMPERATURE = 9.3989
MACROPIXEL_SIZE = 1
MISSING_FRAMES = 0
PIXEL_SUBSAMPLING_FLAG = N
SIGNAL_CHAIN_ID = 0
/* RADIOMETRIC DATA ELEMENTS */
BANDWIDTH = 177.0
CENTER_FILTER_WAVELENGTH = 677.5
RADIANCE_OFFSET = 3.52004
RADIANCE_SCALING_FACTOR = 0.0184055
REFLECTANCE_SCALING_FACTOR = 0.000444866
MEX:REFLECTANCE_OFFSET = 0.0850806
/* IMAGE OBJECT DEFINITIONS */
OBJECT = IMAGE
  INTERCHANGE_FORMAT = BINARY
  LINES = 36518
  LINE_SAMPLES = 6924
  SAMPLE_TYPE = UNSIGNED_INTEGER
  SAMPLE_BITS = 8
  BANDS = 1
  BAND_STORAGE_TYPE = BAND_SEQUENTIAL
  MAXIMUM = 255
  MEAN = 104.508
  MINIMUM = 1
  STANDARD_DEVIATION = 23.1755
END_OBJECT = IMAGE
/* MAP OBJECT DEFINITIONS */
OBJECT = IMAGE_MAP_PROJECTION
  ^DATA_SET_MAP_PROJECTION_CATALOG= "DSMAP.CAT"
  A_AXIS_RADIUS = 3396.0
  B_AXIS_RADIUS = 3396.0
  C_AXIS_RADIUS = 3396.0
  CENTER_LATITUDE = 0.0
  CENTER_LONGITUDE = 3.0
  COORDINATE_SYSTEM_NAME = PLANETOGRAPHIC
  COORDINATE_SYSTEM_TYPE = "BODY-FIXED ROTATING"
  EASTERNMOST_LONGITUDE = 4.1902
  FIRST_STANDARD_PARALLEL = "N/A"
  LINE_FIRST_PIXEL = 1
  LINE_LAST_PIXEL = 36518
  LINE_PROJECTION_OFFSET = 125541.0
  MAP_PROJECTION_ROTATION = 0.0
  MAP_PROJECTION_TYPE = SINUSOIDAL
  MAP_RESOLUTION = 4741.71043093333
  MAP_SCALE = 0.0125
  MAXIMUM_LATITUDE = 26.4754
  MINIMUM_LATITUDE = 18.7746
  POSITIVE_LONGITUDE_DIRECTION = EAST
  REFERENCE_LATITUDE = "N/A"
  REFERENCE_LONGITUDE = "N/A"
  SAMPLE_FIRST_PIXEL = 1
  SAMPLE_LAST_PIXEL = 6924
  SAMPLE_PROJECTION_OFFSET = 1579.0
  SECOND_STANDARD_PARALLEL = "N/A"
  WESTERNMOST_LONGITUDE = 2.62821
END_OBJECT = IMAGE_MAP_PROJECTION
END
