PDS_VERSION_ID = PDS3
/* FILE DATA ELEMENTS */
RECORD_TYPE = UNDEFINED
/* POINTERS TO DATA OBJECTS */
^IMAGE = ("H9481_0000_P14.TIF")
/* IDENTIFICATION DATA ELEMENTS */
DATA_SET_ID = "MEX-M-HRSC-4-REFDR-MAPPROJECT-EXT3-V4.0"
DATA_SET_NAME = "MARS EXPRESS HRSC MAP PROJECTED REFDR EXTENSION3 V4.0"
DETECTOR_ID = MEX_HRSC_P1
EVENT_TYPE = "MARS-REGIONAL-MAPPING-Vo-Te-Fl"
INSTRUMENT_HOST_ID = MEX
INSTRUMENT_HOST_NAME = "MARS EXPRESS"
INSTRUMENT_ID = HRSC
INSTRUMENT_NAME = "HIGH RESOLUTION STEREO CAMERA"
MISSION_NAME = "MARS EXPRESS"
MISSION_PHASE_NAME = ME_Phase_23
PROCESSING_LEVEL_ID = 4
PRODUCT_CREATION_TIME = 2023-02-04T05:05:37.000Z
PRODUCT_ID = "H9481_0000_P14.TIF"
RELEASE_ID = 0006
REVISION_ID = 0000
/* QUALITY DATA ELEMENTS */
DATA_QUALITY_ID = 1
DATA_QUALITY_DESC = "Data calculated based on original SPICE kernels"
/* TIME DATA ELEMENTS */
SPACECRAFT_CLOCK_START_COUNT = "1/0255423610.09085"
SPACECRAFT_CLOCK_STOP_COUNT = "1/0255423829.49526"
START_TIME = 2011-06-06T07:00:24.575Z
STOP_TIME = 2011-06-06T07:02:47.241Z
/* ORBITAL DATA ELEMENTS */
ASCENDING_NODE_LONGITUDE = 36.22
MAXIMUM_RESOLUTION = 0.0607
FOOTPRINT_POINT_LATITUDE = (33.5043,33.4838,33.4727,33.4608, 33.4483,33.4263,33.4254,33.3794,33.0648 ,32.6716,32.1994,31.8587,31.5768, 31.2949,31.107,30.9191,30.7309,30.543, 30.2609,29.9789,29.7909,29.6031,29.3209 ,29.1328,28.9447,28.7567,28.5689, 28.3804,28.0985,27.8166,27.6286,27.3465 ,27.1586,26.8765,26.6886,26.5006, 26.3128,26.1248,25.937,25.7494,25.468, 25.2804,25.0926,24.7178,24.4367,24.2491 ,24.1554,24.1534,24.1634,24.1761, 24.1859,24.1962,24.2081,24.2157,24.2162 ,24.2173,24.4052,24.6869,24.8747, 25.1567,25.3447,25.5321,25.8146,26.0031 ,26.1908,26.379,26.5673,26.7559,26.9444 ,27.1322,27.3202,27.5084,27.6968,27.885 ,28.0734,28.2619,28.5446,28.7331, 28.9215,29.11,29.2987,29.4868,29.6752, 29.8637,30.0521,30.3348,30.5232,30.7116 ,30.9001,31.0885,31.2768,31.4653, 31.6536,31.8418,32.12,32.5933,32.9089, 33.3819,33.4606,33.5043)
FOOTPRINT_POINT_LONGITUDE = (326.723,326.276,326.048,325.819, 325.587,325.205,325.19,325.13,325.141, 325.154,325.17,325.18,325.189,325.197, 325.202,325.208,325.213,325.218,325.225 ,325.232,325.236,325.241,325.247, 325.251,325.255,325.259,325.263,325.266 ,325.271,325.276,325.279,325.284, 325.287,325.291,325.293,325.296,325.298 ,325.301,325.303,325.305,325.308, 325.311,325.312,325.316,325.319,325.32, 325.321,325.321,325.529,325.81,326.044, 326.305,326.634,326.86,326.874,326.879, 326.876,326.872,326.869,326.865,326.863 ,326.86,326.856,326.853,326.85,326.847, 326.844,326.841,326.838,326.835,326.832 ,326.829,326.826,326.823,326.82,326.817 ,326.812,326.808,326.805,326.802, 326.798,326.795,326.791,326.788,326.784 ,326.779,326.775,326.772,326.768, 326.764,326.761,326.757,326.753,326.749 ,326.743,326.733,326.726,326.715, 326.714,326.723)
ORBIT_NUMBER = 9481
ORBITAL_ECCENTRICITY = 0.574
ORBITAL_INCLINATION = 86.88
ORBITAL_SEMIMAJOR_AXIS = 8816.18
PERIAPSIS_ALTITUDE = 363.37
PERIAPSIS_ARGUMENT_ANGLE = 141.39
PERIAPSIS_TIME = 2011-06-06T06:59:27.000Z
SPACECRAFT_ORIENTATION = (0.0,-1.0,0.0)
^MEX_ORIENTATION_DESC = "MEX_ORIENTATION_DESC.TXT"
SPACECRAFT_POINTING_MODE = ACROSSTRACK
^MEX_POINTING_DESC = "MEX_POINTING_DESC.TXT"
RIGHT_ASCENSION = -1e+32
DECLINATION = -1e+32
OFFSET_ANGLE = -0.9
SPACECRAFT_SOLAR_DISTANCE = 2.14439e+08
TARGET_NAME = MARS
/* CAMERA DATA ELEMENTS */
DETECTOR_TEMPERATURE = 17.9627
FOCAL_PLANE_TEMPERATURE = 10.2145
INST_CMPRS_NAME = "DISCRETE COSINE TRANSFORMATION (DCT)"
INST_CMPRS_RATIO = 14.9306
INST_CMPRS_QUALITY = 0
INST_CMPRS_QUANTZ_TBL_ID = 0
INSTRUMENT_TEMPERATURE = 11.6418
LENS_TEMPERATURE = 10.4184
MACROPIXEL_SIZE = 4
MISSING_FRAMES = 0
PIXEL_SUBSAMPLING_FLAG = N
SIGNAL_CHAIN_ID = 3
/* RADIOMETRIC DATA ELEMENTS */
BANDWIDTH = 174.0
CENTER_FILTER_WAVELENGTH = 675.0
RADIANCE_OFFSET = 3.10496
RADIANCE_SCALING_FACTOR = 0.0100116
REFLECTANCE_SCALING_FACTOR = 0.000247627
MEX:REFLECTANCE_OFFSET = 0.0767978
/* IMAGE OBJECT DEFINITIONS */
OBJECT = IMAGE
  INTERCHANGE_FORMAT = BINARY
  LINES = 10991
  LINE_SAMPLES = 1840
  SAMPLE_TYPE = UNSIGNED_INTEGER
  SAMPLE_BITS = 8
  BANDS = 1
  BAND_STORAGE_TYPE = BAND_SEQUENTIAL
  MAXIMUM = 255
  MEAN = 122.048
  MINIMUM = 1
  STANDARD_DEVIATION = 33.6435
END_OBJECT = IMAGE
/* MAP OBJECT DEFINITIONS */
OBJECT = IMAGE_MAP_PROJECTION
  ^DATA_SET_MAP_PROJECTION_CATALOG= "DSMAP.CAT"
  A_AXIS_RADIUS = 3396.0
  B_AXIS_RADIUS = 3396.0
  C_AXIS_RADIUS = 3396.0
  CENTER_LATITUDE = 0.0
  CENTER_LONGITUDE = 326.0
  COORDINATE_SYSTEM_NAME = PLANETOGRAPHIC
  COORDINATE_SYSTEM_TYPE = "BODY-FIXED ROTATING"
  EASTERNMOST_LONGITUDE = 326.879
  FIRST_STANDARD_PARALLEL = "N/A"
  LINE_FIRST_PIXEL = 1
  LINE_LAST_PIXEL = 10991
  LINE_PROJECTION_OFFSET = 39672.375
  MAP_PROJECTION_ROTATION = 0.0
  MAP_PROJECTION_TYPE = SINUSOIDAL
  MAP_RESOLUTION = 1185.42760773333
  MAP_SCALE = 0.05
  MAXIMUM_LATITUDE = 33.5043
  MINIMUM_LATITUDE = 24.1534
  POSITIVE_LONGITUDE_DIRECTION = EAST
  REFERENCE_LATITUDE = "N/A"
  REFERENCE_LONGITUDE = "N/A"
  SAMPLE_FIRST_PIXEL = 1
  SAMPLE_LAST_PIXEL = 1840
  SAMPLE_PROJECTION_OFFSET = 871.125
  SECOND_STANDARD_PARALLEL = "N/A"
  WESTERNMOST_LONGITUDE = 325.13
END_OBJECT = IMAGE_MAP_PROJECTION
END
